BEGIN:VCALENDAR
VERSION:2.0
PRODID:-//EZFacility.com, Inc.//EZL 2.5.5.28621
BEGIN:VEVENT
UID:16834515@ezleagues.ezfacility.com
DTSTAMP:20260420T142534Z
CREATED:20260420T142534Z
DTSTART:20251206T223000Z
DTEND:20251206T232500Z
LOCATION:Soccer Field (half field) 1
CONTACT:
SUMMARY:Campton United SC 2013 Boys VS. Inferno 2013 NL Club 1
DESCRIPTION:League Name: YISL 2013 U13 Boys Group 1 \nGame Type: Regular\nG
 ame Status: Complete\nHome Team: Campton United SC 2013 Boys\nAway Team: I
 nferno 2013 NL Club 1\nHome Score: 1\nAway Score: 6
END:VEVENT
BEGIN:VEVENT
UID:16834521@ezleagues.ezfacility.com
DTSTAMP:20260420T142534Z
CREATED:20260420T142534Z
DTSTART:20251213T170000Z
DTEND:20251213T175500Z
LOCATION:Soccer Field (half field) 2
CONTACT:
SUMMARY:Campton United SC 2013 Boys VS. Chicago City Pumas 2013
DESCRIPTION:League Name: YISL 2013 U13 Boys Group 1 \nGame Type: Regular\nG
 ame Status: Complete\nHome Team: Campton United SC 2013 Boys\nAway Team: C
 hicago City Pumas 2013\nHome Score: 0\nAway Score: 5
END:VEVENT
BEGIN:VEVENT
UID:16866124@ezleagues.ezfacility.com
DTSTAMP:20260420T142534Z
CREATED:20260420T142534Z
DTSTART:20260103T185000Z
DTEND:20260103T195000Z
LOCATION:Soccer Field (half field) 1
CONTACT:
SUMMARY:Campton United SC 2013 Boys VS. 2013 Chicago Rush West Boys
DESCRIPTION:League Name: YISL 2013 U13 Boys Group 1 \nGame Type: Regular\nG
 ame Status: Complete\nHome Team: Campton United SC 2013 Boys\nAway Team: 2
 013 Chicago Rush West Boys\nHome Score: 0\nAway Score: 2
END:VEVENT
BEGIN:VEVENT
UID:16834543@ezleagues.ezfacility.com
DTSTAMP:20260420T142534Z
CREATED:20260420T142534Z
DTSTART:20260110T175500Z
DTEND:20260110T185000Z
LOCATION:Soccer Field (half field) 1
CONTACT:
SUMMARY:Elite SC U13B Elite VS. Campton United SC 2013 Boys
DESCRIPTION:League Name: YISL 2013 U13 Boys Group 1 \nGame Type: Regular\nG
 ame Status: Complete\nHome Team: Elite SC U13B Elite\nAway Team: Campton U
 nited SC 2013 Boys\nHome Score: 6\nAway Score: 1
END:VEVENT
BEGIN:VEVENT
UID:16834526@ezleagues.ezfacility.com
DTSTAMP:20260420T142534Z
CREATED:20260420T142534Z
DTSTART:20260201T002000Z
DTEND:20260201T011500Z
LOCATION:Soccer Field (half field) 1
CONTACT:
SUMMARY:FC Lake County 2013 B Elite VS. Campton United SC 2013 Boys
DESCRIPTION:League Name: YISL 2013 U13 Boys Group 1 \nGame Type: Regular\nG
 ame Status: Complete\nHome Team: FC Lake County 2013 B Elite\nAway Team: C
 ampton United SC 2013 Boys\nHome Score: 2\nAway Score: 1
END:VEVENT
BEGIN:VEVENT
UID:16866243@ezleagues.ezfacility.com
DTSTAMP:20260420T142534Z
CREATED:20260420T142534Z
DTSTART:20260214T170000Z
DTEND:20260214T180000Z
LOCATION:Soccer Field (half field) 1
CONTACT:
SUMMARY:Campton United SC 2013 Boys VS. 2013 Chicago Rush West Boys
DESCRIPTION:League Name: YISL 2013 U13 Boys Group 1 \nGame Type: Regular\nG
 ame Status: Complete\nHome Team: Campton United SC 2013 Boys\nAway Team: 2
 013 Chicago Rush West Boys\nHome Score: 2\nAway Score: 3
END:VEVENT
BEGIN:VEVENT
UID:16866375@ezleagues.ezfacility.com
DTSTAMP:20260420T142534Z
CREATED:20260420T142534Z
DTSTART:20260222T221000Z
DTEND:20260222T231000Z
LOCATION:Soccer Field (half field) 2
CONTACT:
SUMMARY:FC Lake County 2013 B Elite VS. Campton United SC 2013 Boys
DESCRIPTION:League Name: YISL 2013 U13 Boys Group 1 \nGame Type: Regular\nG
 ame Status: Complete\nHome Team: FC Lake County 2013 B Elite\nAway Team: C
 ampton United SC 2013 Boys\nHome Score: 5\nAway Score: 0
END:VEVENT
BEGIN:VEVENT
UID:16834525@ezleagues.ezfacility.com
DTSTAMP:20260420T142534Z
CREATED:20260420T142534Z
DTSTART:20260228T175500Z
DTEND:20260228T185000Z
LOCATION:Soccer Field (half field) 1
CONTACT:
SUMMARY:Elite SC U13B Elite VS. Campton United SC 2013 Boys
DESCRIPTION:League Name: YISL 2013 U13 Boys Group 1 \nGame Type: Regular\nG
 ame Status: Complete\nHome Team: Elite SC U13B Elite\nAway Team: Campton U
 nited SC 2013 Boys\nHome Score: 4\nAway Score: 3
END:VEVENT
BEGIN:VEVENT
UID:16834537@ezleagues.ezfacility.com
DTSTAMP:20260420T142534Z
CREATED:20260420T142534Z
DTSTART:20260228T194500Z
DTEND:20260228T204000Z
LOCATION:Soccer Field (half field) 1
CONTACT:
SUMMARY:Mundelein Lions VS. Campton United SC 2013 Boys
DESCRIPTION:League Name: YISL 2013 U13 Boys Group 1 \nGame Type: Regular\nG
 ame Status: Complete\nHome Team: Mundelein Lions\nAway Team: Campton Unite
 d SC 2013 Boys\nHome Score: 5\nAway Score: 0
END:VEVENT
END:VCALENDAR
