BEGIN:VCALENDAR
VERSION:2.0
PRODID:-//EZFacility.com, Inc.//EZL 2.5.5.28621
BEGIN:VEVENT
UID:16834838@ezleagues.ezfacility.com
DTSTAMP:20260426T033629Z
CREATED:20260426T033629Z
DTSTART:20251116T002000Z
DTEND:20251116T012000Z
LOCATION:Soccer Field (half field) 2
CONTACT:
SUMMARY:Inferno 2012 Premier VS. FVB 2012 Boys
DESCRIPTION:League Name: YISL 2012 U14 Boys Group 3\nGame Type: Regular\nGa
 me Status: Complete\nHome Team: Inferno 2012 Premier\nAway Team: FVB 2012 
 Boys\nHome Score: 1\nAway Score: 4
END:VEVENT
BEGIN:VEVENT
UID:16834820@ezleagues.ezfacility.com
DTSTAMP:20260426T033629Z
CREATED:20260426T033629Z
DTSTART:20251122T175500Z
DTEND:20251122T185500Z
LOCATION:Soccer Field (half field) 1
CONTACT:
SUMMARY:FCB 2012 Boys Red VS. Inferno 2012 Premier
DESCRIPTION:League Name: YISL 2012 U14 Boys Group 3\nGame Type: Regular\nGa
 me Status: Complete\nHome Team: FCB 2012 Boys Red\nAway Team: Inferno 2012
  Premier\nHome Score: 1\nAway Score: 1
END:VEVENT
BEGIN:VEVENT
UID:16834827@ezleagues.ezfacility.com
DTSTAMP:20260426T033629Z
CREATED:20260426T033629Z
DTSTART:20251214T002000Z
DTEND:20251214T012000Z
LOCATION:Soccer Field (half field) 1
CONTACT:
SUMMARY:Inferno 2012 Premier VS. Chicago Rush North 2012 Prem
DESCRIPTION:League Name: YISL 2012 U14 Boys Group 3\nGame Type: Regular\nGa
 me Status: Complete\nHome Team: Inferno 2012 Premier\nAway Team: Chicago R
 ush North 2012 Prem\nHome Score: 0\nAway Score: 3
END:VEVENT
BEGIN:VEVENT
UID:16834816@ezleagues.ezfacility.com
DTSTAMP:20260426T033629Z
CREATED:20260426T033629Z
DTSTART:20260103T232500Z
DTEND:20260104T002500Z
LOCATION:Soccer Field (half field) 2
CONTACT:
SUMMARY:Inferno 2012 Premier VS. Elite SC U14B Black
DESCRIPTION:League Name: YISL 2012 U14 Boys Group 3\nGame Type: Regular\nGa
 me Status: Complete\nHome Team: Inferno 2012 Premier\nAway Team: Elite SC 
 U14B Black\nHome Score: 7\nAway Score: 2
END:VEVENT
BEGIN:VEVENT
UID:16834842@ezleagues.ezfacility.com
DTSTAMP:20260426T033629Z
CREATED:20260426T033629Z
DTSTART:20260118T002000Z
DTEND:20260118T012000Z
LOCATION:Soccer Field (half field) 2
CONTACT:
SUMMARY:Chicago Rush North 2012 Prem VS. Inferno 2012 Premier
DESCRIPTION:League Name: YISL 2012 U14 Boys Group 3\nGame Type: Regular\nGa
 me Status: Complete\nHome Team: Chicago Rush North 2012 Prem\nAway Team: I
 nferno 2012 Premier\nHome Score: 3\nAway Score: 1
END:VEVENT
BEGIN:VEVENT
UID:16834846@ezleagues.ezfacility.com
DTSTAMP:20260426T033629Z
CREATED:20260426T033629Z
DTSTART:20260131T232500Z
DTEND:20260201T002500Z
LOCATION:Soccer Field (half field) 2
CONTACT:
SUMMARY:Inferno 2012 Premier VS. Elite SC U14B Black
DESCRIPTION:League Name: YISL 2012 U14 Boys Group 3\nGame Type: Regular\nGa
 me Status: Complete\nHome Team: Inferno 2012 Premier\nAway Team: Elite SC 
 U14B Black\nHome Score: 6\nAway Score: 1
END:VEVENT
BEGIN:VEVENT
UID:16834823@ezleagues.ezfacility.com
DTSTAMP:20260426T033629Z
CREATED:20260426T033629Z
DTSTART:20260301T230500Z
DTEND:20260302T000500Z
LOCATION:Soccer Field (half field) 2
CONTACT:
SUMMARY:FVB 2012 Boys VS. Inferno 2012 Premier
DESCRIPTION:League Name: YISL 2012 U14 Boys Group 3\nGame Type: Regular\nGa
 me Status: Complete\nHome Team: FVB 2012 Boys\nAway Team: Inferno 2012 Pre
 mier\nHome Score: 5\nAway Score: 4
END:VEVENT
BEGIN:VEVENT
UID:16834831@ezleagues.ezfacility.com
DTSTAMP:20260426T033629Z
CREATED:20260426T033629Z
DTSTART:20260309T005000Z
DTEND:20260309T015000Z
LOCATION:Soccer Field (half field) 1
CONTACT:
SUMMARY:Elite SC U14B Black VS. Inferno 2012 Premier
DESCRIPTION:League Name: YISL 2012 U14 Boys Group 3\nGame Type: Regular\nGa
 me Status: Complete\nHome Team: Elite SC U14B Black\nAway Team: Inferno 20
 12 Premier\nHome Score: 0\nAway Score: 5
END:VEVENT
BEGIN:VEVENT
UID:16834835@ezleagues.ezfacility.com
DTSTAMP:20260426T033629Z
CREATED:20260426T033629Z
DTSTART:20260314T175000Z
DTEND:20260314T185000Z
LOCATION:Soccer Field (half field) 2
CONTACT:
SUMMARY:Inferno 2012 Premier VS. FCB 2012 Boys Red
DESCRIPTION:League Name: YISL 2012 U14 Boys Group 3\nGame Type: Regular\nGa
 me Status: Complete\nHome Team: Inferno 2012 Premier\nAway Team: FCB 2012 
 Boys Red\nHome Score: 5\nAway Score: 0
END:VEVENT
END:VCALENDAR
