BEGIN:VCALENDAR
VERSION:2.0
PRODID:-//EZFacility.com, Inc.//EZL 2.5.5.28621
BEGIN:VEVENT
UID:16833421@ezleagues.ezfacility.com
DTSTAMP:20260423T091435Z
CREATED:20260423T091435Z
DTSTART:20251122T194500Z
DTEND:20251122T204500Z
LOCATION:Soccer Field (half field) 1
CONTACT:
SUMMARY:Pegasus BU15 Red VS. Gladiators 2011 A
DESCRIPTION:League Name: YISL 2011 U15 Boys Group 1 \nGame Type: Regular\nG
 ame Status: Complete\nHome Team: Pegasus BU15 Red\nAway Team: Gladiators 2
 011 A\nHome Score: 1\nAway Score: 3
END:VEVENT
BEGIN:VEVENT
UID:16833605@ezleagues.ezfacility.com
DTSTAMP:20260423T091435Z
CREATED:20260423T091435Z
DTSTART:20251206T185000Z
DTEND:20251206T195000Z
LOCATION:Soccer Field (half field) 2
CONTACT:
SUMMARY:Chicago Rush North 11 Select VS. Gladiators 2011 A
DESCRIPTION:League Name: YISL 2011 U15 Boys Group 1 \nGame Type: Regular\nG
 ame Status: Complete\nHome Team: Chicago Rush North 11 Select\nAway Team: 
 Gladiators 2011 A\nHome Score: 4\nAway Score: 6
END:VEVENT
BEGIN:VEVENT
UID:16833696@ezleagues.ezfacility.com
DTSTAMP:20260423T091435Z
CREATED:20260423T091435Z
DTSTART:20251220T194500Z
DTEND:20251220T204500Z
LOCATION:Soccer Field (half field) 2
CONTACT:
SUMMARY:Gladiators 2011 A VS. 2011 Chicago Rush West Boys
DESCRIPTION:League Name: YISL 2011 U15 Boys Group 1 \nGame Type: Regular\nG
 ame Status: Complete\nHome Team: Gladiators 2011 A\nAway Team: 2011 Chicag
 o Rush West Boys\nHome Score: 1\nAway Score: 3
END:VEVENT
BEGIN:VEVENT
UID:16833968@ezleagues.ezfacility.com
DTSTAMP:20260423T091435Z
CREATED:20260423T091435Z
DTSTART:20260110T000000Z
DTEND:20260110T010000Z
LOCATION:Soccer Field (half field) 2
CONTACT:
SUMMARY:Gladiators 2011 A VS. FC 1974 U14B Elite
DESCRIPTION:League Name: YISL 2011 U15 Boys Group 1 \nGame Type: Regular\nG
 ame Status: Complete\nHome Team: Gladiators 2011 A\nAway Team: FC 1974 U14
 B Elite\nHome Score: 5\nAway Score: 3
END:VEVENT
BEGIN:VEVENT
UID:16834151@ezleagues.ezfacility.com
DTSTAMP:20260423T091435Z
CREATED:20260423T091435Z
DTSTART:20260124T194500Z
DTEND:20260124T204500Z
LOCATION:Soccer Field (half field) 2
CONTACT:
SUMMARY:2011 Chicago Rush West Boys VS. Gladiators 2011 A
DESCRIPTION:League Name: YISL 2011 U15 Boys Group 1 \nGame Type: Regular\nG
 ame Status: Complete\nHome Team: 2011 Chicago Rush West Boys\nAway Team: G
 ladiators 2011 A\nHome Score: 2\nAway Score: 4
END:VEVENT
BEGIN:VEVENT
UID:16833876@ezleagues.ezfacility.com
DTSTAMP:20260423T091435Z
CREATED:20260423T091435Z
DTSTART:20260214T000000Z
DTEND:20260214T010000Z
LOCATION:Soccer Field (half field) 2
CONTACT:
SUMMARY:Gladiators 2011 A VS. Pegasus BU15 Red
DESCRIPTION:League Name: YISL 2011 U15 Boys Group 1 \nGame Type: Regular\nG
 ame Status: Complete\nHome Team: Gladiators 2011 A\nAway Team: Pegasus BU1
 5 Red\nHome Score: 5\nAway Score: 0
END:VEVENT
BEGIN:VEVENT
UID:16834060@ezleagues.ezfacility.com
DTSTAMP:20260423T091435Z
CREATED:20260423T091435Z
DTSTART:20260221T170000Z
DTEND:20260221T180000Z
LOCATION:Soccer Field (half field) 2
CONTACT:
SUMMARY:Gladiators 2011 A VS. Chicago Rush North 11 Select
DESCRIPTION:League Name: YISL 2011 U15 Boys Group 1 \nGame Type: Regular\nG
 ame Status: Complete\nHome Team: Gladiators 2011 A\nAway Team: Chicago Rus
 h North 11 Select\nHome Score: 4\nAway Score: 1
END:VEVENT
BEGIN:VEVENT
UID:16866927@ezleagues.ezfacility.com
DTSTAMP:20260423T091435Z
CREATED:20260423T091435Z
DTSTART:20260302T015000Z
DTEND:20260302T025000Z
LOCATION:Soccer Field (half field) 2
CONTACT:
SUMMARY:Gladiators 2011 A VS. Inferno 2011 NL Club
DESCRIPTION:League Name: YISL 2011 U15 Boys Group 1 \nGame Type: Regular\nG
 ame Status: Complete\nHome Team: Gladiators 2011 A\nAway Team: Inferno 201
 1 NL Club\nHome Score: 0\nAway Score: 2
END:VEVENT
BEGIN:VEVENT
UID:16833786@ezleagues.ezfacility.com
DTSTAMP:20260423T091435Z
CREATED:20260423T091435Z
DTSTART:20260307T204000Z
DTEND:20260307T214000Z
LOCATION:Soccer Field (half field) 2
CONTACT:
SUMMARY:Inferno 2011 NL Club VS. Gladiators 2011 A
DESCRIPTION:League Name: YISL 2011 U15 Boys Group 1 \nGame Type: Regular\nG
 ame Status: Complete\nHome Team: Inferno 2011 NL Club\nAway Team: Gladiato
 rs 2011 A\nHome Score: 2\nAway Score: 0
END:VEVENT
END:VCALENDAR
