BEGIN:VCALENDAR
VERSION:2.0
PRODID:-//EZFacility.com, Inc.//EZL 2.5.5.28621
BEGIN:VEVENT
UID:16866542@ezleagues.ezfacility.com
DTSTAMP:20260420T185309Z
CREATED:20260420T185309Z
DTSTART:20251207T130000Z
DTEND:20251207T140000Z
LOCATION:Soccer Field 1A
CONTACT:
SUMMARY:FCB 2017 Boys Black VS. Inferno 2017 Premier
DESCRIPTION:League Name: YISL 2017/18 U9 Boys\nGame Type: Regular\nGame Sta
 tus: Complete\nHome Team: FCB 2017 Boys Black\nAway Team: Inferno 2017 Pre
 mier\nHome Score: 3\nAway Score: 2
END:VEVENT
BEGIN:VEVENT
UID:16844497@ezleagues.ezfacility.com
DTSTAMP:20260420T185309Z
CREATED:20260420T185309Z
DTSTART:20251221T135500Z
DTEND:20251221T145500Z
LOCATION:Soccer Field 1A
CONTACT:
SUMMARY:Inferno 2017 Premier VS. FCB 2018 Boys Black
DESCRIPTION:League Name: YISL 2017/18 U9 Boys\nGame Type: Regular\nGame Sta
 tus: Complete\nHome Team: Inferno 2017 Premier\nAway Team: FCB 2018 Boys B
 lack\nHome Score: 8\nAway Score: 4
END:VEVENT
BEGIN:VEVENT
UID:16844532@ezleagues.ezfacility.com
DTSTAMP:20260420T185309Z
CREATED:20260420T185309Z
DTSTART:20260118T183000Z
DTEND:20260118T193000Z
LOCATION:Soccer Field 1A
CONTACT:
SUMMARY:Legion FC 2017/18 VS. Inferno 2017 Premier
DESCRIPTION:League Name: YISL 2017/18 U9 Boys\nGame Type: Regular\nGame Sta
 tus: Complete\nHome Team: Legion FC 2017/18\nAway Team: Inferno 2017 Premi
 er\nHome Score: 7\nAway Score: 4
END:VEVENT
BEGIN:VEVENT
UID:16844503@ezleagues.ezfacility.com
DTSTAMP:20260420T185309Z
CREATED:20260420T185309Z
DTSTART:20260201T183000Z
DTEND:20260201T193000Z
LOCATION:Soccer Field 2A
CONTACT:
SUMMARY:Inferno 2017 Premier VS. FCB 2018 Boys Black
DESCRIPTION:League Name: YISL 2017/18 U9 Boys\nGame Type: Regular\nGame Sta
 tus: Complete\nHome Team: Inferno 2017 Premier\nAway Team: FCB 2018 Boys B
 lack\nHome Score: 0\nAway Score: 0
END:VEVENT
BEGIN:VEVENT
UID:16844528@ezleagues.ezfacility.com
DTSTAMP:20260420T185309Z
CREATED:20260420T185309Z
DTSTART:20260208T183000Z
DTEND:20260208T193000Z
LOCATION:Soccer Field 1A
CONTACT:
SUMMARY:Chicago City Pumas 2018 VS. Inferno 2017 Premier
DESCRIPTION:League Name: YISL 2017/18 U9 Boys\nGame Type: Regular\nGame Sta
 tus: Complete\nHome Team: Chicago City Pumas 2018\nAway Team: Inferno 2017
  Premier\nHome Score: 7\nAway Score: 4
END:VEVENT
BEGIN:VEVENT
UID:16844520@ezleagues.ezfacility.com
DTSTAMP:20260420T185309Z
CREATED:20260420T185309Z
DTSTART:20260215T164000Z
DTEND:20260215T174000Z
LOCATION:Soccer Field 1A
CONTACT:
SUMMARY:Elite SC U9B Black/Red VS. Inferno 2017 Premier
DESCRIPTION:League Name: YISL 2017/18 U9 Boys\nGame Type: Regular\nGame Sta
 tus: Complete\nHome Team: Elite SC U9B Black/Red\nAway Team: Inferno 2017 
 Premier\nHome Score: 1\nAway Score: 6
END:VEVENT
BEGIN:VEVENT
UID:16844524@ezleagues.ezfacility.com
DTSTAMP:20260420T185309Z
CREATED:20260420T185309Z
DTSTART:20260222T154500Z
DTEND:20260222T164500Z
LOCATION:Soccer Field 2A
CONTACT:
SUMMARY:FCB 2017 Boys Red VS. Inferno 2017 Premier
DESCRIPTION:League Name: YISL 2017/18 U9 Boys\nGame Type: Regular\nGame Sta
 tus: Complete\nHome Team: FCB 2017 Boys Red\nAway Team: Inferno 2017 Premi
 er\nHome Score: 3\nAway Score: 6
END:VEVENT
BEGIN:VEVENT
UID:16844515@ezleagues.ezfacility.com
DTSTAMP:20260420T185309Z
CREATED:20260420T185309Z
DTSTART:20260301T130000Z
DTEND:20260301T140000Z
LOCATION:Soccer Field 2A
CONTACT:
SUMMARY:Inferno 2017 Premier VS. FC Lake County 2017 U9B Select
DESCRIPTION:League Name: YISL 2017/18 U9 Boys\nGame Type: Regular\nGame Sta
 tus: Complete\nHome Team: Inferno 2017 Premier\nAway Team: FC Lake County 
 2017 U9B Select\nHome Score: 2\nAway Score: 6
END:VEVENT
BEGIN:VEVENT
UID:16844509@ezleagues.ezfacility.com
DTSTAMP:20260420T185309Z
CREATED:20260420T185309Z
DTSTART:20260315T144500Z
DTEND:20260315T154500Z
LOCATION:Soccer Field 1A
CONTACT:
SUMMARY:Inferno 2017 Premier VS. FCB 2017 Boys Black
DESCRIPTION:League Name: YISL 2017/18 U9 Boys\nGame Type: Regular\nGame Sta
 tus: Complete\nHome Team: Inferno 2017 Premier\nAway Team: FCB 2017 Boys B
 lack\nHome Score: 6\nAway Score: 1
END:VEVENT
END:VCALENDAR
