BEGIN:VCALENDAR
VERSION:2.0
PRODID:-//EZFacility.com, Inc.//EZL 2.5.5.28621
BEGIN:VEVENT
UID:16844493@ezleagues.ezfacility.com
DTSTAMP:20260426T034047Z
CREATED:20260426T034047Z
DTSTART:20251214T135500Z
DTEND:20251214T145500Z
LOCATION:Soccer Field 1A
CONTACT:
SUMMARY:Legion FC 2017/18 VS. FCB 2018 Boys Black
DESCRIPTION:League Name: YISL 2017/18 U9 Boys\nGame Type: Regular\nGame Sta
 tus: Complete\nHome Team: Legion FC 2017/18\nAway Team: FCB 2018 Boys Blac
 k\nHome Score: 7\nAway Score: 2
END:VEVENT
BEGIN:VEVENT
UID:16844505@ezleagues.ezfacility.com
DTSTAMP:20260426T034047Z
CREATED:20260426T034047Z
DTSTART:20260104T145000Z
DTEND:20260104T155000Z
LOCATION:Soccer Field 1A
CONTACT:
SUMMARY:Legion FC 2017/18 VS. FCB 2017 Boys Black
DESCRIPTION:League Name: YISL 2017/18 U9 Boys\nGame Type: Regular\nGame Sta
 tus: Complete\nHome Team: Legion FC 2017/18\nAway Team: FCB 2017 Boys Blac
 k\nHome Score: 6\nAway Score: 1
END:VEVENT
BEGIN:VEVENT
UID:16871944@ezleagues.ezfacility.com
DTSTAMP:20260426T034047Z
CREATED:20260426T034047Z
DTSTART:20260111T183000Z
DTEND:20260111T193000Z
LOCATION:Soccer Field 4A
CONTACT:
SUMMARY:FCB 2018 U8 Boys Red VS. Legion FC 2017/18
DESCRIPTION:League Name: YISL 2017/18 U9 Boys\nGame Type: Regular\nGame Sta
 tus: Complete\nHome Team: FCB 2018 U8 Boys Red\nAway Team: Legion FC 2017/
 18\nHome Score: 0\nAway Score: 5
END:VEVENT
BEGIN:VEVENT
UID:16844532@ezleagues.ezfacility.com
DTSTAMP:20260426T034047Z
CREATED:20260426T034047Z
DTSTART:20260118T183000Z
DTEND:20260118T193000Z
LOCATION:Soccer Field 1A
CONTACT:
SUMMARY:Legion FC 2017/18 VS. Inferno 2017 Premier
DESCRIPTION:League Name: YISL 2017/18 U9 Boys\nGame Type: Regular\nGame Sta
 tus: Complete\nHome Team: Legion FC 2017/18\nAway Team: Inferno 2017 Premi
 er\nHome Score: 7\nAway Score: 4
END:VEVENT
BEGIN:VEVENT
UID:16844510@ezleagues.ezfacility.com
DTSTAMP:20260426T034047Z
CREATED:20260426T034047Z
DTSTART:20260201T173500Z
DTEND:20260201T183500Z
LOCATION:Soccer Field 1A
CONTACT:
SUMMARY:FC Lake County 2017 U9B Select VS. Legion FC 2017/18
DESCRIPTION:League Name: YISL 2017/18 U9 Boys\nGame Type: Regular\nGame Sta
 tus: Complete\nHome Team: FC Lake County 2017 U9B Select\nAway Team: Legio
 n FC 2017/18\nHome Score: 6\nAway Score: 1
END:VEVENT
BEGIN:VEVENT
UID:16844526@ezleagues.ezfacility.com
DTSTAMP:20260426T034047Z
CREATED:20260426T034047Z
DTSTART:20260208T145000Z
DTEND:20260208T155000Z
LOCATION:Soccer Field 2A
CONTACT:
SUMMARY:2017 Chicago Rush Boys Premier VS. Legion FC 2017/18
DESCRIPTION:League Name: YISL 2017/18 U9 Boys\nGame Type: Regular\nGame Sta
 tus: Complete\nHome Team: 2017 Chicago Rush Boys Premier\nAway Team: Legio
 n FC 2017/18\nHome Score: 4\nAway Score: 6
END:VEVENT
BEGIN:VEVENT
UID:16844522@ezleagues.ezfacility.com
DTSTAMP:20260426T034047Z
CREATED:20260426T034047Z
DTSTART:20260222T135500Z
DTEND:20260222T145500Z
LOCATION:Soccer Field 1A
CONTACT:
SUMMARY:Chicago City Pumas 2018 VS. Legion FC 2017/18
DESCRIPTION:League Name: YISL 2017/18 U9 Boys\nGame Type: Regular\nGame Sta
 tus: Complete\nHome Team: Chicago City Pumas 2018\nAway Team: Legion FC 20
 17/18\nHome Score: 7\nAway Score: 2
END:VEVENT
BEGIN:VEVENT
UID:16844518@ezleagues.ezfacility.com
DTSTAMP:20260426T034047Z
CREATED:20260426T034047Z
DTSTART:20260301T164000Z
DTEND:20260301T174000Z
LOCATION:Soccer Field 1A
CONTACT:
SUMMARY:FCB 2017 Boys Red VS. Legion FC 2017/18
DESCRIPTION:League Name: YISL 2017/18 U9 Boys\nGame Type: Regular\nGame Sta
 tus: Complete\nHome Team: FCB 2017 Boys Red\nAway Team: Legion FC 2017/18\
 nHome Score: 2\nAway Score: 7
END:VEVENT
BEGIN:VEVENT
UID:16844491@ezleagues.ezfacility.com
DTSTAMP:20260426T034047Z
CREATED:20260426T034047Z
DTSTART:20260308T154000Z
DTEND:20260308T164000Z
LOCATION:Soccer Field 1A
CONTACT:
SUMMARY:2017 Chicago Rush Boys Premier VS. Legion FC 2017/18
DESCRIPTION:League Name: YISL 2017/18 U9 Boys\nGame Type: Regular\nGame Sta
 tus: Complete\nHome Team: 2017 Chicago Rush Boys Premier\nAway Team: Legio
 n FC 2017/18\nHome Score: 3\nAway Score: 5
END:VEVENT
END:VCALENDAR
