BEGIN:VCALENDAR
VERSION:2.0
PRODID:-//EZFacility.com, Inc.//EZL 2.5.5.28621
BEGIN:VEVENT
UID:16838333@ezleagues.ezfacility.com
DTSTAMP:20260423T190557Z
CREATED:20260423T190557Z
DTSTART:20251109T160500Z
DTEND:20251109T170000Z
LOCATION:Field 2
CONTACT:
SUMMARY:Deez Nuts (Red) VS. Braums FC (Pink)
DESCRIPTION:League Name: Sunday Men's BRONZE - Winter 1\nGame Type: Regular
 \nGame Status: Complete\nHome Team: Deez Nuts (Red)\nAway Team: Braums FC 
 (Pink)\nHome Score: 10\nAway Score: 0
END:VEVENT
BEGIN:VEVENT
UID:16838347@ezleagues.ezfacility.com
DTSTAMP:20260423T190557Z
CREATED:20260423T190557Z
DTSTART:20251116T194500Z
DTEND:20251116T204000Z
LOCATION:Field 2
CONTACT:
SUMMARY:Braums FC (Pink) VS. Jr Horndogs (White)
DESCRIPTION:League Name: Sunday Men's BRONZE - Winter 1\nGame Type: Regular
 \nGame Status: Complete\nHome Team: Braums FC (Pink)\nAway Team: Jr Horndo
 gs (White)\nHome Score: 3\nAway Score: 13
END:VEVENT
BEGIN:VEVENT
UID:16838359@ezleagues.ezfacility.com
DTSTAMP:20260423T190557Z
CREATED:20260423T190557Z
DTSTART:20251123T204000Z
DTEND:20251123T213500Z
LOCATION:Field 2
CONTACT:
SUMMARY:McLovin (Yellow) VS. Braums FC (Pink)
DESCRIPTION:League Name: Sunday Men's BRONZE - Winter 1\nGame Type: Regular
 \nGame Status: Complete\nHome Team: McLovin (Yellow)\nAway Team: Braums FC
  (Pink)\nHome Score: 4\nAway Score: 6
END:VEVENT
BEGIN:VEVENT
UID:16838375@ezleagues.ezfacility.com
DTSTAMP:20260423T190557Z
CREATED:20260423T190557Z
DTSTART:20251130T175500Z
DTEND:20251130T185000Z
LOCATION:Field 2
CONTACT:
SUMMARY:Braums FC (Pink) VS. Red Pandas (Red)
DESCRIPTION:League Name: Sunday Men's BRONZE - Winter 1\nGame Type: Regular
 \nGame Status: Complete\nHome Team: Braums FC (Pink)\nAway Team: Red Panda
 s (Red)\nHome Score: 6\nAway Score: 10
END:VEVENT
BEGIN:VEVENT
UID:16838370@ezleagues.ezfacility.com
DTSTAMP:20260423T190557Z
CREATED:20260423T190557Z
DTSTART:20251130T185000Z
DTEND:20251130T194500Z
LOCATION:Field 2
CONTACT:
SUMMARY:Braums FC (Pink) VS. SC Avengers (  )
DESCRIPTION:League Name: Sunday Men's BRONZE - Winter 1\nGame Type: Regular
 \nGame Status: Complete\nHome Team: Braums FC (Pink)\nAway Team: SC Avenge
 rs (  )\nHome Score: 5\nAway Score: 6
END:VEVENT
BEGIN:VEVENT
UID:16838394@ezleagues.ezfacility.com
DTSTAMP:20260423T190557Z
CREATED:20260423T190557Z
DTSTART:20251214T170000Z
DTEND:20251214T175500Z
LOCATION:Field 2
CONTACT:
SUMMARY:Braums FC (Pink) VS. Step Bros (Black)
DESCRIPTION:League Name: Sunday Men's BRONZE - Winter 1\nGame Type: Regular
 \nGame Status: Complete\nHome Team: Braums FC (Pink)\nAway Team: Step Bros
  (Black)\nHome Score: 5\nAway Score: 7
END:VEVENT
BEGIN:VEVENT
UID:16838409@ezleagues.ezfacility.com
DTSTAMP:20260423T190557Z
CREATED:20260423T190557Z
DTSTART:20251221T213500Z
DTEND:20251221T223000Z
LOCATION:Field 1
CONTACT:
SUMMARY:Red Pandas (Red) VS. Braums FC (Pink)
DESCRIPTION:League Name: Sunday Men's BRONZE - Winter 1\nGame Type: Regular
 \nGame Status: Complete\nHome Team: Red Pandas (Red)\nAway Team: Braums FC
  (Pink)\nHome Score: 6\nAway Score: 2
END:VEVENT
BEGIN:VEVENT
UID:16838416@ezleagues.ezfacility.com
DTSTAMP:20260423T190557Z
CREATED:20260423T190557Z
DTSTART:20251228T170000Z
DTEND:20251228T175500Z
LOCATION:Field 2
CONTACT:
SUMMARY:Braums FC (Pink) VS. Los Brujos (  )
DESCRIPTION:League Name: Sunday Men's BRONZE - Winter 1\nGame Type: Regular
 \nGame Status: Complete\nHome Team: Braums FC (Pink)\nAway Team: Los Brujo
 s (  )\nHome Score: 2\nAway Score: 9
END:VEVENT
END:VCALENDAR
