BEGIN:VCALENDAR
VERSION:2.0
PRODID:-//EZFacility.com, Inc.//EZL 2.5.5.28621
BEGIN:VEVENT
UID:16838342@ezleagues.ezfacility.com
DTSTAMP:20260424T202833Z
CREATED:20260424T202833Z
DTSTART:20251109T223000Z
DTEND:20251109T232500Z
LOCATION:Field 2
CONTACT:
SUMMARY:Probably FC (   ) VS. Los Brujos (  )
DESCRIPTION:League Name: Sunday Men's BRONZE - Winter 1\nGame Type: Regular
 \nGame Status: Complete\nHome Team: Probably FC (   )\nAway Team: Los Bruj
 os (  )\nHome Score: 5\nAway Score: 4
END:VEVENT
BEGIN:VEVENT
UID:16838351@ezleagues.ezfacility.com
DTSTAMP:20260424T202833Z
CREATED:20260424T202833Z
DTSTART:20251116T185000Z
DTEND:20251116T194500Z
LOCATION:Field 2
CONTACT:
SUMMARY:Los Brujos (  ) VS. Sofa King Slow (Light Blue)
DESCRIPTION:League Name: Sunday Men's BRONZE - Winter 1\nGame Type: Regular
 \nGame Status: Pending\nHome Team: Los Brujos (  )\nAway Team: Sofa King S
 low (Light Blue)\n
END:VEVENT
BEGIN:VEVENT
UID:16838362@ezleagues.ezfacility.com
DTSTAMP:20260424T202833Z
CREATED:20260424T202833Z
DTSTART:20251123T175500Z
DTEND:20251123T185000Z
LOCATION:Field 2
CONTACT:
SUMMARY:Z Team (Green) VS. Los Brujos (  )
DESCRIPTION:League Name: Sunday Men's BRONZE - Winter 1\nGame Type: Regular
 \nGame Status: Complete\nHome Team: Z Team (Green)\nAway Team: Los Brujos 
 (  )\nHome Score: 6\nAway Score: 1
END:VEVENT
BEGIN:VEVENT
UID:16838367@ezleagues.ezfacility.com
DTSTAMP:20260424T202833Z
CREATED:20260424T202833Z
DTSTART:20251130T160500Z
DTEND:20251130T170000Z
LOCATION:Field 2
CONTACT:
SUMMARY:Los Brujos (  ) VS. Shebarbar Nogales (Purple)
DESCRIPTION:League Name: Sunday Men's BRONZE - Winter 1\nGame Type: Regular
 \nGame Status: Complete\nHome Team: Los Brujos (  )\nAway Team: Shebarbar 
 Nogales (Purple)\nHome Score: 10\nAway Score: 5
END:VEVENT
BEGIN:VEVENT
UID:16838384@ezleagues.ezfacility.com
DTSTAMP:20260424T202833Z
CREATED:20260424T202833Z
DTSTART:20251207T223000Z
DTEND:20251207T232500Z
LOCATION:Field 2
CONTACT:
SUMMARY:NGC (Blue) VS. Los Brujos (  )
DESCRIPTION:League Name: Sunday Men's BRONZE - Winter 1\nGame Type: Regular
 \nGame Status: Complete\nHome Team: NGC (Blue)\nAway Team: Los Brujos (  )
 \nHome Score: 3\nAway Score: 8
END:VEVENT
BEGIN:VEVENT
UID:16838405@ezleagues.ezfacility.com
DTSTAMP:20260424T202833Z
CREATED:20260424T202833Z
DTSTART:20251221T175500Z
DTEND:20251221T185000Z
LOCATION:Field 2
CONTACT:
SUMMARY:Los Brujos (  ) VS. DooDoo Browns (White)
DESCRIPTION:League Name: Sunday Men's BRONZE - Winter 1\nGame Type: Regular
 \nGame Status: Complete\nHome Team: Los Brujos (  )\nAway Team: DooDoo Bro
 wns (White)\nHome Score: 8\nAway Score: 9
END:VEVENT
BEGIN:VEVENT
UID:16838416@ezleagues.ezfacility.com
DTSTAMP:20260424T202833Z
CREATED:20260424T202833Z
DTSTART:20251228T170000Z
DTEND:20251228T175500Z
LOCATION:Field 2
CONTACT:
SUMMARY:Braums FC (Pink) VS. Los Brujos (  )
DESCRIPTION:League Name: Sunday Men's BRONZE - Winter 1\nGame Type: Regular
 \nGame Status: Complete\nHome Team: Braums FC (Pink)\nAway Team: Los Brujo
 s (  )\nHome Score: 2\nAway Score: 9
END:VEVENT
BEGIN:VEVENT
UID:16838396@ezleagues.ezfacility.com
DTSTAMP:20260424T202833Z
CREATED:20260424T202833Z
DTSTART:20260104T223000Z
DTEND:20260104T232500Z
LOCATION:Field 2
CONTACT:
SUMMARY:Harry Maguire (Yellow) VS. Los Brujos (  )
DESCRIPTION:League Name: Sunday Men's BRONZE - Winter 1\nGame Type: Regular
 \nGame Status: Complete\nHome Team: Harry Maguire (Yellow)\nAway Team: Los
  Brujos (  )\nHome Score: 6\nAway Score: 6
END:VEVENT
END:VCALENDAR
