BEGIN:VCALENDAR
VERSION:2.0
PRODID:-//EZFacility.com, Inc.//EZL 2.5.5.28621
BEGIN:VEVENT
UID:16838340@ezleagues.ezfacility.com
DTSTAMP:20260422T181222Z
CREATED:20260422T181222Z
DTSTART:20251109T232500Z
DTEND:20251110T002000Z
LOCATION:Field 2
CONTACT:
SUMMARY:SC Avengers (  ) VS. NGC (Blue)
DESCRIPTION:League Name: Sunday Men's BRONZE - Winter 1\nGame Type: Regular
 \nGame Status: Complete\nHome Team: SC Avengers (  )\nAway Team: NGC (Blue
 )\nHome Score: 8\nAway Score: 6
END:VEVENT
BEGIN:VEVENT
UID:16838353@ezleagues.ezfacility.com
DTSTAMP:20260422T181222Z
CREATED:20260422T181222Z
DTSTART:20251117T002000Z
DTEND:20251117T011500Z
LOCATION:Field 2
CONTACT:
SUMMARY:NGC (Blue) VS. Team Delicious (Burgundy)
DESCRIPTION:League Name: Sunday Men's BRONZE - Winter 1\nGame Type: Regular
 \nGame Status: Complete\nHome Team: NGC (Blue)\nAway Team: Team Delicious 
 (Burgundy)\nHome Score: 4\nAway Score: 7
END:VEVENT
BEGIN:VEVENT
UID:16838363@ezleagues.ezfacility.com
DTSTAMP:20260422T181222Z
CREATED:20260422T181222Z
DTSTART:20251123T223000Z
DTEND:20251123T232500Z
LOCATION:Field 2
CONTACT:
SUMMARY:Step Bros (Black) VS. NGC (Blue)
DESCRIPTION:League Name: Sunday Men's BRONZE - Winter 1\nGame Type: Regular
 \nGame Status: Complete\nHome Team: Step Bros (Black)\nAway Team: NGC (Blu
 e)\nHome Score: 4\nAway Score: 3
END:VEVENT
BEGIN:VEVENT
UID:16838366@ezleagues.ezfacility.com
DTSTAMP:20260422T181222Z
CREATED:20260422T181222Z
DTSTART:20251130T213500Z
DTEND:20251130T223000Z
LOCATION:Field 2
CONTACT:
SUMMARY:NGC (Blue) VS. McLovin (Yellow)
DESCRIPTION:League Name: Sunday Men's BRONZE - Winter 1\nGame Type: Regular
 \nGame Status: Complete\nHome Team: NGC (Blue)\nAway Team: McLovin (Yellow
 )\nHome Score: 10\nAway Score: 0
END:VEVENT
BEGIN:VEVENT
UID:16838381@ezleagues.ezfacility.com
DTSTAMP:20260422T181222Z
CREATED:20260422T181222Z
DTSTART:20251207T204000Z
DTEND:20251207T213500Z
LOCATION:Field 2
CONTACT:
SUMMARY:Sofa King Slow (Light Blue) VS. NGC (Blue)
DESCRIPTION:League Name: Sunday Men's BRONZE - Winter 1\nGame Type: Regular
 \nGame Status: Complete\nHome Team: Sofa King Slow (Light Blue)\nAway Team
 : NGC (Blue)\nHome Score: 0\nAway Score: 10
END:VEVENT
BEGIN:VEVENT
UID:16838384@ezleagues.ezfacility.com
DTSTAMP:20260422T181222Z
CREATED:20260422T181222Z
DTSTART:20251207T223000Z
DTEND:20251207T232500Z
LOCATION:Field 2
CONTACT:
SUMMARY:NGC (Blue) VS. Los Brujos (  )
DESCRIPTION:League Name: Sunday Men's BRONZE - Winter 1\nGame Type: Regular
 \nGame Status: Complete\nHome Team: NGC (Blue)\nAway Team: Los Brujos (  )
 \nHome Score: 3\nAway Score: 8
END:VEVENT
BEGIN:VEVENT
UID:16838404@ezleagues.ezfacility.com
DTSTAMP:20260422T181222Z
CREATED:20260422T181222Z
DTSTART:20251221T194500Z
DTEND:20251221T204000Z
LOCATION:Field 2
CONTACT:
SUMMARY:NGC (Blue) VS. Caleb Seright (Black)
DESCRIPTION:League Name: Sunday Men's BRONZE - Winter 1\nGame Type: Regular
 \nGame Status: Complete\nHome Team: NGC (Blue)\nAway Team: Caleb Seright (
 Black)\nHome Score: 7\nAway Score: 9
END:VEVENT
BEGIN:VEVENT
UID:16838415@ezleagues.ezfacility.com
DTSTAMP:20260422T181222Z
CREATED:20260422T181222Z
DTSTART:20251229T002000Z
DTEND:20251229T011500Z
LOCATION:Field 2
CONTACT:
SUMMARY:Harry Maguire (Yellow) VS. NGC (Blue)
DESCRIPTION:League Name: Sunday Men's BRONZE - Winter 1\nGame Type: Regular
 \nGame Status: Complete\nHome Team: Harry Maguire (Yellow)\nAway Team: NGC
  (Blue)\nHome Score: 4\nAway Score: 5
END:VEVENT
END:VCALENDAR
