BEGIN:VCALENDAR
VERSION:2.0
PRODID:-//EZFacility.com, Inc.//EZL 2.5.5.28621
BEGIN:VEVENT
UID:16838343@ezleagues.ezfacility.com
DTSTAMP:20260424T041355Z
CREATED:20260424T041355Z
DTSTART:20251109T213500Z
DTEND:20251109T223000Z
LOCATION:Field 2
CONTACT:
SUMMARY:Sofa King Slow (Light Blue) VS. Red Pandas (Red)
DESCRIPTION:League Name: Sunday Men's BRONZE - Winter 1\nGame Type: Regular
 \nGame Status: Complete\nHome Team: Sofa King Slow (Light Blue)\nAway Team
 : Red Pandas (Red)\nHome Score: 4\nAway Score: 8
END:VEVENT
BEGIN:VEVENT
UID:16838351@ezleagues.ezfacility.com
DTSTAMP:20260424T041355Z
CREATED:20260424T041355Z
DTSTART:20251116T185000Z
DTEND:20251116T194500Z
LOCATION:Field 2
CONTACT:
SUMMARY:Los Brujos (  ) VS. Sofa King Slow (Light Blue)
DESCRIPTION:League Name: Sunday Men's BRONZE - Winter 1\nGame Type: Regular
 \nGame Status: Pending\nHome Team: Los Brujos (  )\nAway Team: Sofa King S
 low (Light Blue)\n
END:VEVENT
BEGIN:VEVENT
UID:16838361@ezleagues.ezfacility.com
DTSTAMP:20260424T041355Z
CREATED:20260424T041355Z
DTSTART:20251123T175500Z
DTEND:20251123T185000Z
LOCATION:Field 1
CONTACT:
SUMMARY:Sofa King Slow (Light Blue) VS. Green Beans (Light Green)
DESCRIPTION:League Name: Sunday Men's BRONZE - Winter 1\nGame Type: Regular
 \nGame Status: Complete\nHome Team: Sofa King Slow (Light Blue)\nAway Team
 : Green Beans (Light Green)\nHome Score: 4\nAway Score: 11
END:VEVENT
BEGIN:VEVENT
UID:16838371@ezleagues.ezfacility.com
DTSTAMP:20260424T041355Z
CREATED:20260424T041355Z
DTSTART:20251130T204000Z
DTEND:20251130T213500Z
LOCATION:Field 2
CONTACT:
SUMMARY:Caleb Seright (Black) VS. Sofa King Slow (Light Blue)
DESCRIPTION:League Name: Sunday Men's BRONZE - Winter 1\nGame Type: Regular
 \nGame Status: Complete\nHome Team: Caleb Seright (Black)\nAway Team: Sofa
  King Slow (Light Blue)\nHome Score: 7\nAway Score: 6
END:VEVENT
BEGIN:VEVENT
UID:16838381@ezleagues.ezfacility.com
DTSTAMP:20260424T041355Z
CREATED:20260424T041355Z
DTSTART:20251207T204000Z
DTEND:20251207T213500Z
LOCATION:Field 2
CONTACT:
SUMMARY:Sofa King Slow (Light Blue) VS. NGC (Blue)
DESCRIPTION:League Name: Sunday Men's BRONZE - Winter 1\nGame Type: Regular
 \nGame Status: Complete\nHome Team: Sofa King Slow (Light Blue)\nAway Team
 : NGC (Blue)\nHome Score: 0\nAway Score: 10
END:VEVENT
BEGIN:VEVENT
UID:16838402@ezleagues.ezfacility.com
DTSTAMP:20260424T041355Z
CREATED:20260424T041355Z
DTSTART:20251221T204000Z
DTEND:20251221T213500Z
LOCATION:Field 2
CONTACT:
SUMMARY:Sofa King Slow (Light Blue) VS. La U (Blue)
DESCRIPTION:League Name: Sunday Men's BRONZE - Winter 1\nGame Type: Regular
 \nGame Status: Complete\nHome Team: Sofa King Slow (Light Blue)\nAway Team
 : La U (Blue)\nHome Score: 5\nAway Score: 12
END:VEVENT
BEGIN:VEVENT
UID:16838419@ezleagues.ezfacility.com
DTSTAMP:20260424T041355Z
CREATED:20260424T041355Z
DTSTART:20251228T194500Z
DTEND:20251228T204000Z
LOCATION:Field 2
CONTACT:
SUMMARY:Probably FC (   ) VS. Sofa King Slow (Light Blue)
DESCRIPTION:League Name: Sunday Men's BRONZE - Winter 1\nGame Type: Regular
 \nGame Status: Complete\nHome Team: Probably FC (   )\nAway Team: Sofa Kin
 g Slow (Light Blue)\nHome Score: 10\nAway Score: 2
END:VEVENT
BEGIN:VEVENT
UID:16838395@ezleagues.ezfacility.com
DTSTAMP:20260424T041355Z
CREATED:20260424T041355Z
DTSTART:20260104T232500Z
DTEND:20260105T002000Z
LOCATION:Field 2
CONTACT:
SUMMARY:Green Beans (Light Green) VS. Sofa King Slow (Light Blue)
DESCRIPTION:League Name: Sunday Men's BRONZE - Winter 1\nGame Type: Regular
 \nGame Status: Complete\nHome Team: Green Beans (Light Green)\nAway Team: 
 Sofa King Slow (Light Blue)\nHome Score: 8\nAway Score: 2
END:VEVENT
END:VCALENDAR
