BEGIN:VCALENDAR
VERSION:2.0
PRODID:-//EZFacility.com, Inc.//EZL 2.5.5.28621
BEGIN:VEVENT
UID:16838341@ezleagues.ezfacility.com
DTSTAMP:20260424T041346Z
CREATED:20260424T041346Z
DTSTART:20251109T185000Z
DTEND:20251109T194500Z
LOCATION:Field 2
CONTACT:
SUMMARY:Z Team (Green) VS. Step Bros (Black)
DESCRIPTION:League Name: Sunday Men's BRONZE - Winter 1\nGame Type: Regular
 \nGame Status: Complete\nHome Team: Z Team (Green)\nAway Team: Step Bros (
 Black)\nHome Score: 7\nAway Score: 2
END:VEVENT
BEGIN:VEVENT
UID:16838345@ezleagues.ezfacility.com
DTSTAMP:20260424T041346Z
CREATED:20260424T041346Z
DTSTART:20251116T170000Z
DTEND:20251116T175500Z
LOCATION:Field 3
CONTACT:
SUMMARY:Shebarbar Nogales (Purple) VS. Step Bros (Black)
DESCRIPTION:League Name: Sunday Men's BRONZE - Winter 1\nGame Type: Regular
 \nGame Status: Complete\nHome Team: Shebarbar Nogales (Purple)\nAway Team:
  Step Bros (Black)\nHome Score: 6\nAway Score: 4
END:VEVENT
BEGIN:VEVENT
UID:16838363@ezleagues.ezfacility.com
DTSTAMP:20260424T041346Z
CREATED:20260424T041346Z
DTSTART:20251123T223000Z
DTEND:20251123T232500Z
LOCATION:Field 2
CONTACT:
SUMMARY:Step Bros (Black) VS. NGC (Blue)
DESCRIPTION:League Name: Sunday Men's BRONZE - Winter 1\nGame Type: Regular
 \nGame Status: Complete\nHome Team: Step Bros (Black)\nAway Team: NGC (Blu
 e)\nHome Score: 4\nAway Score: 3
END:VEVENT
BEGIN:VEVENT
UID:16838373@ezleagues.ezfacility.com
DTSTAMP:20260424T041346Z
CREATED:20260424T041346Z
DTSTART:20251130T232500Z
DTEND:20251201T002000Z
LOCATION:Field 2
CONTACT:
SUMMARY:Harry Maguire (Yellow) VS. Step Bros (Black)
DESCRIPTION:League Name: Sunday Men's BRONZE - Winter 1\nGame Type: Regular
 \nGame Status: Complete\nHome Team: Harry Maguire (Yellow)\nAway Team: Ste
 p Bros (Black)\nHome Score: 5\nAway Score: 2
END:VEVENT
BEGIN:VEVENT
UID:16838383@ezleagues.ezfacility.com
DTSTAMP:20260424T041346Z
CREATED:20260424T041346Z
DTSTART:20251208T002000Z
DTEND:20251208T011500Z
LOCATION:Field 2
CONTACT:
SUMMARY:Step Bros (Black) VS. DooDoo Browns (White)
DESCRIPTION:League Name: Sunday Men's BRONZE - Winter 1\nGame Type: Regular
 \nGame Status: Complete\nHome Team: Step Bros (Black)\nAway Team: DooDoo B
 rowns (White)\nHome Score: 8\nAway Score: 7
END:VEVENT
BEGIN:VEVENT
UID:16838394@ezleagues.ezfacility.com
DTSTAMP:20260424T041346Z
CREATED:20260424T041346Z
DTSTART:20251214T170000Z
DTEND:20251214T175500Z
LOCATION:Field 2
CONTACT:
SUMMARY:Braums FC (Pink) VS. Step Bros (Black)
DESCRIPTION:League Name: Sunday Men's BRONZE - Winter 1\nGame Type: Regular
 \nGame Status: Complete\nHome Team: Braums FC (Pink)\nAway Team: Step Bros
  (Black)\nHome Score: 5\nAway Score: 7
END:VEVENT
BEGIN:VEVENT
UID:16838414@ezleagues.ezfacility.com
DTSTAMP:20260424T041346Z
CREATED:20260424T041346Z
DTSTART:20251228T223000Z
DTEND:20251228T232500Z
LOCATION:Field 2
CONTACT:
SUMMARY:Jr Horndogs (White) VS. Step Bros (Black)
DESCRIPTION:League Name: Sunday Men's BRONZE - Winter 1\nGame Type: Regular
 \nGame Status: Complete\nHome Team: Jr Horndogs (White)\nAway Team: Step B
 ros (Black)\nHome Score: 11\nAway Score: 4
END:VEVENT
END:VCALENDAR
