BEGIN:VCALENDAR
VERSION:2.0
PRODID:-//EZFacility.com, Inc.//EZL 2.5.5.28621
BEGIN:VEVENT
UID:16838186@ezleagues.ezfacility.com
DTSTAMP:20260426T035108Z
CREATED:20260426T035108Z
DTSTART:20251103T000000Z
DTEND:20251103T010000Z
LOCATION:Field 1
CONTACT:Blank
SUMMARY:FC Dyslexia Untied VS. UNATLETICO
DESCRIPTION:League Name: Sunday Coed Soccer League (Fall 2 - 2025)-Central 
 Conference\nGame Type: Regular\nGame Status: Complete\nHome Team: FC Dysle
 xia Untied\nAway Team: UNATLETICO\nHome Score: 5\nAway Score: 9
END:VEVENT
BEGIN:VEVENT
UID:16838181@ezleagues.ezfacility.com
DTSTAMP:20260426T035108Z
CREATED:20260426T035108Z
DTSTART:20251110T010000Z
DTEND:20251110T020000Z
LOCATION:Field 1
CONTACT:Kalafatis
SUMMARY:FC Dyslexia Untied VS. Crashouts
DESCRIPTION:League Name: Sunday Coed Soccer League (Fall 2 - 2025)-Central 
 Conference\nGame Type: Regular\nGame Status: Complete\nHome Team: FC Dysle
 xia Untied\nAway Team: Crashouts\nHome Score: 6\nAway Score: 4
END:VEVENT
BEGIN:VEVENT
UID:16838184@ezleagues.ezfacility.com
DTSTAMP:20260426T035108Z
CREATED:20260426T035108Z
DTSTART:20251110T020000Z
DTEND:20251110T030000Z
LOCATION:Field 1
CONTACT:Kalafatis
SUMMARY:FC Dyslexia Untied VS. LIONS
DESCRIPTION:League Name: Sunday Coed Soccer League (Fall 2 - 2025)-Central 
 Conference\nGame Type: Regular\nGame Status: Complete\nHome Team: FC Dysle
 xia Untied\nAway Team: LIONS\nHome Score: 8\nAway Score: 4
END:VEVENT
BEGIN:VEVENT
UID:16846987@ezleagues.ezfacility.com
DTSTAMP:20260426T035108Z
CREATED:20260426T035108Z
DTSTART:20251116T230000Z
DTEND:20251117T000000Z
LOCATION:Field 1
CONTACT:Leites-Mena
SUMMARY:FC Dyslexia Untied VS. Some Style
DESCRIPTION:League Name: Sunday Coed Soccer League (Fall 2 - 2025)-Central 
 Conference\nGame Type: Regular\nGame Status: Complete\nHome Team: FC Dysle
 xia Untied\nAway Team: Some Style\nHome Score: 6\nAway Score: 8
END:VEVENT
BEGIN:VEVENT
UID:16851368@ezleagues.ezfacility.com
DTSTAMP:20260426T035108Z
CREATED:20260426T035108Z
DTSTART:20251124T010000Z
DTEND:20251124T020000Z
LOCATION:Field 2
CONTACT:Herrera
SUMMARY:Sons Of Pitches VS. FC Dyslexia Untied
DESCRIPTION:League Name: Sunday Coed Soccer League (Fall 2 - 2025)-Central 
 Conference\nGame Type: Regular\nGame Status: Complete\nHome Team: Sons Of 
 Pitches\nAway Team: FC Dyslexia Untied\nHome Score: 2\nAway Score: 3
END:VEVENT
BEGIN:VEVENT
UID:16851369@ezleagues.ezfacility.com
DTSTAMP:20260426T035108Z
CREATED:20260426T035108Z
DTSTART:20251130T230000Z
DTEND:20251201T000000Z
LOCATION:Field 1
CONTACT:Kalafatis
SUMMARY:FC Dyslexia Untied VS. SACKS & RACKS
DESCRIPTION:League Name: Sunday Coed Soccer League (Fall 2 - 2025)-Central 
 Conference\nGame Type: Regular\nGame Status: Complete\nHome Team: FC Dysle
 xia Untied\nAway Team: SACKS & RACKS\nHome Score: 3\nAway Score: 5
END:VEVENT
BEGIN:VEVENT
UID:16851364@ezleagues.ezfacility.com
DTSTAMP:20260426T035108Z
CREATED:20260426T035108Z
DTSTART:20251208T010000Z
DTEND:20251208T020000Z
LOCATION:Field 1
CONTACT:Kalafatis
SUMMARY:Ballers VS. FC Dyslexia Untied
DESCRIPTION:League Name: Sunday Coed Soccer League (Fall 2 - 2025)-Central 
 Conference\nGame Type: Regular\nGame Status: Complete\nHome Team: Ballers\
 nAway Team: FC Dyslexia Untied\nHome Score: 5\nAway Score: 5
END:VEVENT
BEGIN:VEVENT
UID:16851373@ezleagues.ezfacility.com
DTSTAMP:20260426T035108Z
CREATED:20260426T035108Z
DTSTART:20251222T010000Z
DTEND:20251222T020000Z
LOCATION:Field 2
CONTACT:Cruz
SUMMARY:Crashouts VS. FC Dyslexia Untied
DESCRIPTION:League Name: Sunday Coed Soccer League (Fall 2 - 2025)-Central 
 Conference\nGame Type: Postseason\nGame Status: Complete\nHome Team: Crash
 outs\nAway Team: FC Dyslexia Untied\nHome Score: 0\nAway Score: 3
END:VEVENT
END:VCALENDAR
