BEGIN:VCALENDAR
VERSION:2.0
PRODID:-//EZFacility.com, Inc.//EZL 2.5.5.28621
BEGIN:VEVENT
UID:16839813@ezleagues.ezfacility.com
DTSTAMP:20260425T225311Z
CREATED:20260425T225311Z
DTSTART:20251111T233000Z
DTEND:20251112T001000Z
LOCATION:LG Field 1
CONTACT:
SUMMARY:Greenwood SC 15B Green VS. NEOFC 15B Blue
DESCRIPTION:League Name: Boys U12 Comp (2015-2014) - Winter 1\nGame Type: R
 egular\nGame Status: Complete\nHome Team: Greenwood SC 15B Green\nAway Tea
 m: NEOFC 15B Blue\nHome Score: 1\nAway Score: 11
END:VEVENT
BEGIN:VEVENT
UID:16839819@ezleagues.ezfacility.com
DTSTAMP:20260425T225311Z
CREATED:20260425T225311Z
DTSTART:20251121T023000Z
DTEND:20251121T031000Z
LOCATION:LG Field 2
CONTACT:
SUMMARY:FC Tulsa Academy 14B Premier VS. NEOFC 15B Blue
DESCRIPTION:League Name: Boys U12 Comp (2015-2014) - Winter 1\nGame Type: R
 egular\nGame Status: Complete\nHome Team: FC Tulsa Academy 14B Premier\nAw
 ay Team: NEOFC 15B Blue\nHome Score: 6\nAway Score: 4
END:VEVENT
BEGIN:VEVENT
UID:16839825@ezleagues.ezfacility.com
DTSTAMP:20260425T225311Z
CREATED:20260425T225311Z
DTSTART:20251126T014500Z
DTEND:20251126T022500Z
LOCATION:LG Field 2
CONTACT:
SUMMARY:Aguiluchos VS. NEOFC 15B Blue
DESCRIPTION:League Name: Boys U12 Comp (2015-2014) - Winter 1\nGame Type: R
 egular\nGame Status: Complete\nHome Team: Aguiluchos\nAway Team: NEOFC 15B
  Blue\nHome Score: 3\nAway Score: 4
END:VEVENT
BEGIN:VEVENT
UID:16839831@ezleagues.ezfacility.com
DTSTAMP:20260425T225311Z
CREATED:20260425T225311Z
DTSTART:20251203T014500Z
DTEND:20251203T022500Z
LOCATION:LG Field 1
CONTACT:
SUMMARY:NEOFC 15B Blue VS. Wolves (Arroyo)
DESCRIPTION:League Name: Boys U12 Comp (2015-2014) - Winter 1\nGame Type: R
 egular\nGame Status: Complete\nHome Team: NEOFC 15B Blue\nAway Team: Wolve
 s (Arroyo)\nHome Score: 7\nAway Score: 3
END:VEVENT
BEGIN:VEVENT
UID:16839837@ezleagues.ezfacility.com
DTSTAMP:20260425T225311Z
CREATED:20260425T225311Z
DTSTART:20251210T023000Z
DTEND:20251210T031000Z
LOCATION:LG Field 2
CONTACT:
SUMMARY:Tulsa Wolves 15/14 VS. NEOFC 15B Blue
DESCRIPTION:League Name: Boys U12 Comp (2015-2014) - Winter 1\nGame Type: R
 egular\nGame Status: Complete\nHome Team: Tulsa Wolves 15/14\nAway Team: N
 EOFC 15B Blue\nHome Score: 2\nAway Score: 12
END:VEVENT
BEGIN:VEVENT
UID:16839843@ezleagues.ezfacility.com
DTSTAMP:20260425T225311Z
CREATED:20260425T225311Z
DTSTART:20251216T224500Z
DTEND:20251216T232500Z
LOCATION:LG Field 1
CONTACT:
SUMMARY:NEOFC 15B Blue VS. BA Express 15B Classic
DESCRIPTION:League Name: Boys U12 Comp (2015-2014) - Winter 1\nGame Type: R
 egular\nGame Status: Complete\nHome Team: NEOFC 15B Blue\nAway Team: BA Ex
 press 15B Classic\nHome Score: 11\nAway Score: 3
END:VEVENT
BEGIN:VEVENT
UID:16839849@ezleagues.ezfacility.com
DTSTAMP:20260425T225311Z
CREATED:20260425T225311Z
DTSTART:20251224T023000Z
DTEND:20251224T031000Z
LOCATION:LG Field 2
CONTACT:
SUMMARY:NEOFC 15B Blue VS. BA Express 14B Premier
DESCRIPTION:League Name: Boys U12 Comp (2015-2014) - Winter 1\nGame Type: R
 egular\nGame Status: Complete\nHome Team: NEOFC 15B Blue\nAway Team: BA Ex
 press 14B Premier\nHome Score: 16\nAway Score: 6
END:VEVENT
BEGIN:VEVENT
UID:16839855@ezleagues.ezfacility.com
DTSTAMP:20260425T225311Z
CREATED:20260425T225311Z
DTSTART:20251231T031500Z
DTEND:20251231T035500Z
LOCATION:LG Field 2
CONTACT:
SUMMARY:NEOFC 15B Blue VS. WSA 15 Blanco
DESCRIPTION:League Name: Boys U12 Comp (2015-2014) - Winter 1\nGame Type: R
 egular\nGame Status: Complete\nHome Team: NEOFC 15B Blue\nAway Team: WSA 1
 5 Blanco\nHome Score: 9\nAway Score: 4
END:VEVENT
END:VCALENDAR
