BEGIN:VCALENDAR
VERSION:2.0
PRODID:-//EZFacility.com, Inc.//EZL 2.5.5.28621
BEGIN:VEVENT
UID:16855260@ezleagues.ezfacility.com
DTSTAMP:20260421T133800Z
CREATED:20260421T133800Z
DTSTART:20251116T204500Z
DTEND:20251116T213000Z
LOCATION:Field 1
CONTACT:
SUMMARY:GfCM 2012 Select VS. Real Cerezo
DESCRIPTION:League Name: 2025 GSA YISL 2011 B\nGame Type: Regular\nGame Sta
 tus: Complete\nHome Team: GfCM 2012 Select\nAway Team: Real Cerezo\nHome S
 core: 3\nAway Score: 7
END:VEVENT
BEGIN:VEVENT
UID:16867203@ezleagues.ezfacility.com
DTSTAMP:20260421T133800Z
CREATED:20260421T133800Z
DTSTART:20251123T000000Z
DTEND:20251123T004500Z
LOCATION:Field 2
CONTACT:
SUMMARY:GfCM 2012 Select VS. Gladiadores
DESCRIPTION:League Name: 2025 GSA YISL 2011 B\nGame Type: Regular\nGame Sta
 tus: Complete\nHome Team: GfCM 2012 Select\nAway Team: Gladiadores\nHome S
 core: 1\nAway Score: 5
END:VEVENT
BEGIN:VEVENT
UID:16880407@ezleagues.ezfacility.com
DTSTAMP:20260421T133800Z
CREATED:20260421T133800Z
DTSTART:20251201T000000Z
DTEND:20251201T004500Z
LOCATION:Field 1
CONTACT:
SUMMARY:Milagro FC 2012 VS. GfCM 2012 Select
DESCRIPTION:League Name: 2025 GSA YISL 2011 B\nGame Type: Regular\nGame Sta
 tus: Complete\nHome Team: Milagro FC 2012\nAway Team: GfCM 2012 Select\nHo
 me Score: 0\nAway Score: 10
END:VEVENT
BEGIN:VEVENT
UID:16892140@ezleagues.ezfacility.com
DTSTAMP:20260421T133800Z
CREATED:20260421T133800Z
DTSTART:20251207T213000Z
DTEND:20251207T221500Z
LOCATION:Field 2
CONTACT:
SUMMARY:Real Cerezo VS. GfCM 2012 Select
DESCRIPTION:League Name: 2025 GSA YISL 2011 B\nGame Type: Regular\nGame Sta
 tus: Complete\nHome Team: Real Cerezo\nAway Team: GfCM 2012 Select\nHome S
 core: 8\nAway Score: 4
END:VEVENT
BEGIN:VEVENT
UID:16902027@ezleagues.ezfacility.com
DTSTAMP:20260421T133800Z
CREATED:20260421T133800Z
DTSTART:20251214T003000Z
DTEND:20251214T011500Z
LOCATION:Field 2
CONTACT:
SUMMARY:Gladiadores VS. GfCM 2012 Select
DESCRIPTION:League Name: 2025 GSA YISL 2011 B\nGame Type: Regular\nGame Sta
 tus: Complete\nHome Team: Gladiadores\nAway Team: GfCM 2012 Select\nHome S
 core: 2\nAway Score: 1
END:VEVENT
BEGIN:VEVENT
UID:16914568@ezleagues.ezfacility.com
DTSTAMP:20260421T133800Z
CREATED:20260421T133800Z
DTSTART:20251221T194500Z
DTEND:20251221T203000Z
LOCATION:Field 4
CONTACT:
SUMMARY:Milagro FC 2012 VS. GfCM 2012 Select
DESCRIPTION:League Name: 2025 GSA YISL 2011 B\nGame Type: Regular\nGame Sta
 tus: Complete\nHome Team: Milagro FC 2012\nAway Team: GfCM 2012 Select\nHo
 me Score: 4\nAway Score: 5
END:VEVENT
BEGIN:VEVENT
UID:16914569@ezleagues.ezfacility.com
DTSTAMP:20260421T133800Z
CREATED:20260421T133800Z
DTSTART:20251228T161500Z
DTEND:20251228T170000Z
LOCATION:Field 1
CONTACT:
SUMMARY:GfCM 2012 Select VS. Real Cerezo
DESCRIPTION:League Name: 2025 GSA YISL 2011 B\nGame Type: Regular\nGame Sta
 tus: Complete\nHome Team: GfCM 2012 Select\nAway Team: Real Cerezo\nHome S
 core: 4\nAway Score: 8
END:VEVENT
BEGIN:VEVENT
UID:16934192@ezleagues.ezfacility.com
DTSTAMP:20260421T133800Z
CREATED:20260421T133800Z
DTSTART:20260104T213000Z
DTEND:20260104T221500Z
LOCATION:Field 2
CONTACT:
SUMMARY:GfCM 2012 Select VS. Gladiadores
DESCRIPTION:League Name: 2025 GSA YISL 2011 B\nGame Type: Regular\nGame Sta
 tus: Complete\nHome Team: GfCM 2012 Select\nAway Team: Gladiadores\nHome S
 core: 6\nAway Score: 1
END:VEVENT
BEGIN:VEVENT
UID:16956033@ezleagues.ezfacility.com
DTSTAMP:20260421T133800Z
CREATED:20260421T133800Z
DTSTART:20260110T231500Z
DTEND:20260111T000000Z
LOCATION:Field 1
CONTACT:
SUMMARY:GfCM 2012 Select VS. Gladiadores
DESCRIPTION:League Name: 2025 GSA YISL 2011 B\nGame Type: Postseason\nGame 
 Status: Complete\nHome Team: GfCM 2012 Select\nAway Team: Gladiadores\nHom
 e Score: 4\nAway Score: 5
END:VEVENT
END:VCALENDAR
