BEGIN:VCALENDAR
VERSION:2.0
PRODID:-//EZFacility.com, Inc.//EZL 2.5.5.28621
BEGIN:VEVENT
UID:16882298@ezleagues.ezfacility.com
DTSTAMP:20260426T035117Z
CREATED:20260426T035117Z
DTSTART:20251206T182500Z
DTEND:20251206T192000Z
LOCATION:Harmans Premier Field #5
CONTACT:
SUMMARY:2017 Academia Glen Burnie  VS.  2017 PSC Select Blue Warriors
DESCRIPTION:League Name: Youth (Winter 1) SD2 Sat/Sun 2017 Boys U09 SILVER\
 nGame Type: Regular\nGame Status: Complete\nHome Team: 2017 Academia Glen 
 Burnie \nAway Team:  2017 PSC Select Blue Warriors\nHome Score: 5\nAway Sc
 ore: 6
END:VEVENT
BEGIN:VEVENT
UID:16882339@ezleagues.ezfacility.com
DTSTAMP:20260426T035117Z
CREATED:20260426T035117Z
DTSTART:20251213T163500Z
DTEND:20251213T173000Z
LOCATION:Harmans Premier Field #4
CONTACT:
SUMMARY:2017 Academia De Futbol International USA VS. 2017 Academia Glen Bu
 rnie 
DESCRIPTION:League Name: Youth (Winter 1) SD2 Sat/Sun 2017 Boys U09 SILVER\
 nGame Type: Regular\nGame Status: Complete\nHome Team: 2017 Academia De Fu
 tbol International USA\nAway Team: 2017 Academia Glen Burnie \nHome Score:
  2\nAway Score: 6
END:VEVENT
BEGIN:VEVENT
UID:16882465@ezleagues.ezfacility.com
DTSTAMP:20260426T035117Z
CREATED:20260426T035117Z
DTSTART:20260103T220500Z
DTEND:20260103T230000Z
LOCATION:Harmans Premier Field #5
CONTACT:
SUMMARY:2017 Academia Glen Burnie  VS. 2017 Academia De Futbol Internationa
 l USA
DESCRIPTION:League Name: Youth (Winter 1) SD2 Sat/Sun 2017 Boys U09 SILVER\
 nGame Type: Regular\nGame Status: Complete\nHome Team: 2017 Academia Glen 
 Burnie \nAway Team: 2017 Academia De Futbol International USA\nHome Score:
  5\nAway Score: 2
END:VEVENT
BEGIN:VEVENT
UID:16882508@ezleagues.ezfacility.com
DTSTAMP:20260426T035117Z
CREATED:20260426T035117Z
DTSTART:20260110T135000Z
DTEND:20260110T144500Z
LOCATION:Harmans Premier Field #5
CONTACT:
SUMMARY:2017 Academia Glen Burnie  VS. 2017 Severna Park White
DESCRIPTION:League Name: Youth (Winter 1) SD2 Sat/Sun 2017 Boys U09 SILVER\
 nGame Type: Regular\nGame Status: Complete\nHome Team: 2017 Academia Glen 
 Burnie \nAway Team: 2017 Severna Park White\nHome Score: 3\nAway Score: 1
END:VEVENT
BEGIN:VEVENT
UID:16882550@ezleagues.ezfacility.com
DTSTAMP:20260426T035117Z
CREATED:20260426T035117Z
DTSTART:20260117T163500Z
DTEND:20260117T173000Z
LOCATION:Harmans Premier Field #5
CONTACT:
SUMMARY: 2017 PSC Select Blue Warriors VS. 2017 Academia Glen Burnie 
DESCRIPTION:League Name: Youth (Winter 1) SD2 Sat/Sun 2017 Boys U09 SILVER\
 nGame Type: Regular\nGame Status: Complete\nHome Team:  2017 PSC Select Bl
 ue Warriors\nAway Team: 2017 Academia Glen Burnie \nHome Score: 2\nAway Sc
 ore: 7
END:VEVENT
BEGIN:VEVENT
UID:16882382@ezleagues.ezfacility.com
DTSTAMP:20260426T035117Z
CREATED:20260426T035117Z
DTSTART:20260124T135000Z
DTEND:20260124T144500Z
LOCATION:Harmans Premier Field #5
CONTACT:
SUMMARY:2017 Severna Park White VS. 2017 Academia Glen Burnie 
DESCRIPTION:League Name: Youth (Winter 1) SD2 Sat/Sun 2017 Boys U09 SILVER\
 nGame Type: Regular\nGame Status: Complete\nHome Team: 2017 Severna Park W
 hite\nAway Team: 2017 Academia Glen Burnie \nHome Score: 1\nAway Score: 6
END:VEVENT
BEGIN:VEVENT
UID:16882424@ezleagues.ezfacility.com
DTSTAMP:20260426T035117Z
CREATED:20260426T035117Z
DTSTART:20260131T125500Z
DTEND:20260131T135000Z
LOCATION:Harmans Premier Field #5
CONTACT:
SUMMARY: 2017 PSC Select Blue Warriors VS. 2017 Academia Glen Burnie 
DESCRIPTION:League Name: Youth (Winter 1) SD2 Sat/Sun 2017 Boys U09 SILVER\
 nGame Type: Regular\nGame Status: Complete\nHome Team:  2017 PSC Select Bl
 ue Warriors\nAway Team: 2017 Academia Glen Burnie \nHome Score: 1\nAway Sc
 ore: 9
END:VEVENT
END:VCALENDAR
