BEGIN:VCALENDAR
VERSION:2.0
PRODID:-//EZFacility.com, Inc.//EZL 2.5.5.28621
BEGIN:VEVENT
UID:16846609@ezleagues.ezfacility.com
DTSTAMP:20260421T115646Z
CREATED:20260421T115646Z
DTSTART:20251113T023000Z
DTEND:20251113T032000Z
LOCATION:Jessup Premier Field #1
CONTACT:
SUMMARY:Honey Badgers VS. Blue Dragons
DESCRIPTION:League Name: Wed Mens Open 2nd div \nGame Type: Regular\nGame S
 tatus: Complete\nHome Team: Honey Badgers\nAway Team: Blue Dragons\nHome S
 core: 2\nAway Score: 5
END:VEVENT
BEGIN:VEVENT
UID:16846637@ezleagues.ezfacility.com
DTSTAMP:20260421T115646Z
CREATED:20260421T115646Z
DTSTART:20251120T014000Z
DTEND:20251120T023000Z
LOCATION:Jessup Premier Field #1
CONTACT:
SUMMARY:Blue Dragons VS. Alianza FC
DESCRIPTION:League Name: Wed Mens Open 2nd div \nGame Type: Regular\nGame S
 tatus: Complete\nHome Team: Blue Dragons\nAway Team: Alianza FC\nHome Scor
 e: 2\nAway Score: 4
END:VEVENT
BEGIN:VEVENT
UID:16846627@ezleagues.ezfacility.com
DTSTAMP:20260421T115646Z
CREATED:20260421T115646Z
DTSTART:20251127T023000Z
DTEND:20251127T032000Z
LOCATION:Jessup Premier Field #1
CONTACT:
SUMMARY:Blue Dragons VS. Los Reales
DESCRIPTION:League Name: Wed Mens Open 2nd div \nGame Type: Regular\nGame S
 tatus: Complete\nHome Team: Blue Dragons\nAway Team: Los Reales\nHome Scor
 e: 9\nAway Score: 6
END:VEVENT
BEGIN:VEVENT
UID:16846617@ezleagues.ezfacility.com
DTSTAMP:20260421T115646Z
CREATED:20260421T115646Z
DTSTART:20251204T041000Z
DTEND:20251204T050000Z
LOCATION:Jessup Premier Field #1
CONTACT:
SUMMARY:Blue Dragons VS. Olimpia FC
DESCRIPTION:League Name: Wed Mens Open 2nd div \nGame Type: Regular\nGame S
 tatus: Complete\nHome Team: Blue Dragons\nAway Team: Olimpia FC\nHome Scor
 e: 3\nAway Score: 6
END:VEVENT
BEGIN:VEVENT
UID:16846647@ezleagues.ezfacility.com
DTSTAMP:20260421T115646Z
CREATED:20260421T115646Z
DTSTART:20251211T032000Z
DTEND:20251211T041000Z
LOCATION:Jessup Premier Field #1
CONTACT:
SUMMARY:Blue Dragons VS. Waka Repair Shop
DESCRIPTION:League Name: Wed Mens Open 2nd div \nGame Type: Regular\nGame S
 tatus: Complete\nHome Team: Blue Dragons\nAway Team: Waka Repair Shop\nHom
 e Score: 7\nAway Score: 2
END:VEVENT
BEGIN:VEVENT
UID:16846656@ezleagues.ezfacility.com
DTSTAMP:20260421T115646Z
CREATED:20260421T115646Z
DTSTART:20251218T023000Z
DTEND:20251218T032000Z
LOCATION:Jessup Premier Field #1
CONTACT:
SUMMARY:197 FC VS. Blue Dragons
DESCRIPTION:League Name: Wed Mens Open 2nd div \nGame Type: Regular\nGame S
 tatus: Complete\nHome Team: 197 FC\nAway Team: Blue Dragons\nHome Score: 3
 \nAway Score: 14
END:VEVENT
BEGIN:VEVENT
UID:16846664@ezleagues.ezfacility.com
DTSTAMP:20260421T115646Z
CREATED:20260421T115646Z
DTSTART:20260108T014000Z
DTEND:20260108T023000Z
LOCATION:Jessup Premier Field #1
CONTACT:
SUMMARY:Patuxent FA VS. Blue Dragons
DESCRIPTION:League Name: Wed Mens Open 2nd div \nGame Type: Regular\nGame S
 tatus: Complete\nHome Team: Patuxent FA\nAway Team: Blue Dragons\nHome Sco
 re: 0\nAway Score: 3
END:VEVENT
BEGIN:VEVENT
UID:16954695@ezleagues.ezfacility.com
DTSTAMP:20260421T115646Z
CREATED:20260421T115646Z
DTSTART:20260115T023000Z
DTEND:20260115T031800Z
LOCATION:Jessup Premier Field #1
CONTACT:
SUMMARY:Blue Dragons VS. Honey Badgers
DESCRIPTION:League Name: Wed Mens Open 2nd div \nGame Type: Regular\nGame S
 tatus: Complete\nHome Team: Blue Dragons\nAway Team: Honey Badgers\nHome S
 core: 0\nAway Score: 3
END:VEVENT
BEGIN:VEVENT
UID:16967648@ezleagues.ezfacility.com
DTSTAMP:20260421T115646Z
CREATED:20260421T115646Z
DTSTART:20260122T032000Z
DTEND:20260122T040000Z
LOCATION:Jessup Premier Field #1
CONTACT:
SUMMARY:Los Reales VS. Blue Dragons
DESCRIPTION:League Name: Wed Mens Open 2nd div \nGame Type: Regular\nGame S
 tatus: Complete\nHome Team: Los Reales\nAway Team: Blue Dragons\nHome Scor
 e: 0\nAway Score: 0
END:VEVENT
END:VCALENDAR
