BEGIN:VCALENDAR
VERSION:2.0
PRODID:-//EZFacility.com, Inc.//EZL 2.5.5.28621
BEGIN:VEVENT
UID:16851791@ezleagues.ezfacility.com
DTSTAMP:20260426T035127Z
CREATED:20260426T035127Z
DTSTART:20251115T234500Z
DTEND:20251116T002500Z
LOCATION:LG Field 2
CONTACT:
SUMMARY:Afghan Stars VS. Celtic FC
DESCRIPTION:League Name: Men's OPEN (Saturdays) - Winter 1\nGame Type: Regu
 lar\nGame Status: Complete\nHome Team: Afghan Stars\nAway Team: Celtic FC\
 nHome Score: 7\nAway Score: 8
END:VEVENT
BEGIN:VEVENT
UID:16851804@ezleagues.ezfacility.com
DTSTAMP:20260426T035127Z
CREATED:20260426T035127Z
DTSTART:20251123T054500Z
DTEND:20251123T062500Z
LOCATION:LG Field 2
CONTACT:
SUMMARY:AC Tulsa VS. Celtic FC
DESCRIPTION:League Name: Men's OPEN (Saturdays) - Winter 1\nGame Type: Regu
 lar\nGame Status: Complete\nHome Team: AC Tulsa\nAway Team: Celtic FC\nHom
 e Score: 6\nAway Score: 11
END:VEVENT
BEGIN:VEVENT
UID:16851815@ezleagues.ezfacility.com
DTSTAMP:20260426T035127Z
CREATED:20260426T035127Z
DTSTART:20251130T041500Z
DTEND:20251130T045500Z
LOCATION:LG Field 2
CONTACT:
SUMMARY:Celtic FC VS. Tigers
DESCRIPTION:League Name: Men's OPEN (Saturdays) - Winter 1\nGame Type: Regu
 lar\nGame Status: Complete\nHome Team: Celtic FC\nAway Team: Tigers\nHome 
 Score: 10\nAway Score: 0
END:VEVENT
BEGIN:VEVENT
UID:16851825@ezleagues.ezfacility.com
DTSTAMP:20260426T035127Z
CREATED:20260426T035127Z
DTSTART:20251207T024500Z
DTEND:20251207T032500Z
LOCATION:LG Field 2
CONTACT:
SUMMARY:Celtic FC VS. TBA
DESCRIPTION:League Name: Men's OPEN (Saturdays) - Winter 1\nGame Type: Regu
 lar\nGame Status: Complete\nHome Team: Celtic FC\nAway Team: TBA\nHome Sco
 re: 3\nAway Score: 8
END:VEVENT
BEGIN:VEVENT
UID:16851835@ezleagues.ezfacility.com
DTSTAMP:20260426T035127Z
CREATED:20260426T035127Z
DTSTART:20251214T024500Z
DTEND:20251214T032500Z
LOCATION:LG Field 2
CONTACT:
SUMMARY:Celtic FC VS. BOL
DESCRIPTION:League Name: Men's OPEN (Saturdays) - Winter 1\nGame Type: Regu
 lar\nGame Status: Complete\nHome Team: Celtic FC\nAway Team: BOL\nHome Sco
 re: 8\nAway Score: 5
END:VEVENT
BEGIN:VEVENT
UID:16851855@ezleagues.ezfacility.com
DTSTAMP:20260426T035127Z
CREATED:20260426T035127Z
DTSTART:20251228T003000Z
DTEND:20251228T011000Z
LOCATION:LG Field 2
CONTACT:
SUMMARY:Sharks FC VS. Celtic FC
DESCRIPTION:League Name: Men's OPEN (Saturdays) - Winter 1\nGame Type: Regu
 lar\nGame Status: Complete\nHome Team: Sharks FC\nAway Team: Celtic FC\nHo
 me Score: 6\nAway Score: 12
END:VEVENT
BEGIN:VEVENT
UID:16851862@ezleagues.ezfacility.com
DTSTAMP:20260426T035127Z
CREATED:20260426T035127Z
DTSTART:20260104T011500Z
DTEND:20260104T015500Z
LOCATION:LG Field 2
CONTACT:
SUMMARY:Al-Nassr FC VS. Celtic FC
DESCRIPTION:League Name: Men's OPEN (Saturdays) - Winter 1\nGame Type: Regu
 lar\nGame Status: Complete\nHome Team: Al-Nassr FC\nAway Team: Celtic FC\n
 Home Score: 2\nAway Score: 7
END:VEVENT
BEGIN:VEVENT
UID:16851845@ezleagues.ezfacility.com
DTSTAMP:20260426T035127Z
CREATED:20260426T035127Z
DTSTART:20260111T011500Z
DTEND:20260111T015500Z
LOCATION:LG Field 2
CONTACT:
SUMMARY:Celtic FC VS. Tulsa Frac
DESCRIPTION:League Name: Men's OPEN (Saturdays) - Winter 1\nGame Type: Regu
 lar\nGame Status: Complete\nHome Team: Celtic FC\nAway Team: Tulsa Frac\nH
 ome Score: 8\nAway Score: 7
END:VEVENT
END:VCALENDAR
