BEGIN:VCALENDAR
VERSION:2.0
PRODID:-//EZFacility.com, Inc.//EZL 2.5.5.28621
BEGIN:VEVENT
UID:16855925@ezleagues.ezfacility.com
DTSTAMP:20260426T035053Z
CREATED:20260426T035053Z
DTSTART:20251118T020000Z
DTEND:20251118T025000Z
LOCATION:TBKBSC North Indoor Soccer Fie
CONTACT:
SUMMARY:North Scott Lady Lancers VS. PV White
DESCRIPTION:League Name: Winter 2025-2026 High School Girls Gold Winter Soc
 cer League- Session 1\nGame Type: Regular\nGame Status: Complete\nHome Tea
 m: North Scott Lady Lancers\nAway Team: PV White\nHome Score: 5\nAway Scor
 e: 2
END:VEVENT
BEGIN:VEVENT
UID:16855931@ezleagues.ezfacility.com
DTSTAMP:20260426T035053Z
CREATED:20260426T035053Z
DTSTART:20251125T025000Z
DTEND:20251125T034000Z
LOCATION:TBKBSC South Indoor Soccer Fie
CONTACT:
SUMMARY:North Scott Lady Lancers VS. UTHS GIRLS GOLD
DESCRIPTION:League Name: Winter 2025-2026 High School Girls Gold Winter Soc
 cer League- Session 1\nGame Type: Regular\nGame Status: Pending\nHome Team
 : North Scott Lady Lancers\nAway Team: UTHS GIRLS GOLD\n
END:VEVENT
BEGIN:VEVENT
UID:16855937@ezleagues.ezfacility.com
DTSTAMP:20260426T035053Z
CREATED:20260426T035053Z
DTSTART:20251202T020000Z
DTEND:20251202T025000Z
LOCATION:TBKBSC North Indoor Soccer Fie
CONTACT:
SUMMARY:North Scott Lady Lancers VS. Central Blue Devils
DESCRIPTION:League Name: Winter 2025-2026 High School Girls Gold Winter Soc
 cer League- Session 1\nGame Type: Regular\nGame Status: Complete\nHome Tea
 m: North Scott Lady Lancers\nAway Team: Central Blue Devils\nHome Score: 2
 \nAway Score: 1
END:VEVENT
BEGIN:VEVENT
UID:16855943@ezleagues.ezfacility.com
DTSTAMP:20260426T035053Z
CREATED:20260426T035053Z
DTSTART:20251209T011000Z
DTEND:20251209T020000Z
LOCATION:TBKBSC South Indoor Soccer Fie
CONTACT:
SUMMARY:Bettendorf Gold VS. North Scott Lady Lancers
DESCRIPTION:League Name: Winter 2025-2026 High School Girls Gold Winter Soc
 cer League- Session 1\nGame Type: Regular\nGame Status: Complete\nHome Tea
 m: Bettendorf Gold\nAway Team: North Scott Lady Lancers\nHome Score: 1\nAw
 ay Score: 1
END:VEVENT
BEGIN:VEVENT
UID:16855949@ezleagues.ezfacility.com
DTSTAMP:20260426T035053Z
CREATED:20260426T035053Z
DTSTART:20251216T011000Z
DTEND:20251216T020000Z
LOCATION:TBKBSC South Indoor Soccer Fie
CONTACT:
SUMMARY:Alleman VS. North Scott Lady Lancers
DESCRIPTION:League Name: Winter 2025-2026 High School Girls Gold Winter Soc
 cer League- Session 1\nGame Type: Regular\nGame Status: Complete\nHome Tea
 m: Alleman\nAway Team: North Scott Lady Lancers\nHome Score: 0\nAway Score
 : 1
END:VEVENT
BEGIN:VEVENT
UID:16855955@ezleagues.ezfacility.com
DTSTAMP:20260426T035053Z
CREATED:20260426T035053Z
DTSTART:20260106T020000Z
DTEND:20260106T025000Z
LOCATION:TBKBSC North Indoor Soccer Fie
CONTACT:
SUMMARY:Moline girls VS. North Scott Lady Lancers
DESCRIPTION:League Name: Winter 2025-2026 High School Girls Gold Winter Soc
 cer League- Session 1\nGame Type: Regular\nGame Status: Complete\nHome Tea
 m: Moline girls\nAway Team: North Scott Lady Lancers\nHome Score: 0\nAway 
 Score: 5
END:VEVENT
END:VCALENDAR
