BEGIN:VCALENDAR
VERSION:2.0
PRODID:-//EZFacility.com, Inc.//EZL 2.5.5.28621
BEGIN:VEVENT
UID:16855928@ezleagues.ezfacility.com
DTSTAMP:20260419T194924Z
CREATED:20260419T194924Z
DTSTART:20251118T025000Z
DTEND:20251118T034000Z
LOCATION:TBKBSC South Indoor Soccer Fie
CONTACT:
SUMMARY:Alleman VS. Bettendorf Gold
DESCRIPTION:League Name: Winter 2025-2026 High School Girls Gold Winter Soc
 cer League- Session 1\nGame Type: Regular\nGame Status: Pending\nHome Team
 : Alleman\nAway Team: Bettendorf Gold\n
END:VEVENT
BEGIN:VEVENT
UID:16855933@ezleagues.ezfacility.com
DTSTAMP:20260419T194924Z
CREATED:20260419T194924Z
DTSTART:20251125T020000Z
DTEND:20251125T025000Z
LOCATION:TBKBSC North Indoor Soccer Fie
CONTACT:
SUMMARY:PV Navy VS. Bettendorf Gold
DESCRIPTION:League Name: Winter 2025-2026 High School Girls Gold Winter Soc
 cer League- Session 1\nGame Type: Regular\nGame Status: Complete\nHome Tea
 m: PV Navy\nAway Team: Bettendorf Gold\nHome Score: 1\nAway Score: 2
END:VEVENT
BEGIN:VEVENT
UID:16855938@ezleagues.ezfacility.com
DTSTAMP:20260419T194924Z
CREATED:20260419T194924Z
DTSTART:20251202T011000Z
DTEND:20251202T020000Z
LOCATION:TBKBSC South Indoor Soccer Fie
CONTACT:
SUMMARY:UTHS GIRLS GOLD VS. Bettendorf Gold
DESCRIPTION:League Name: Winter 2025-2026 High School Girls Gold Winter Soc
 cer League- Session 1\nGame Type: Regular\nGame Status: Complete\nHome Tea
 m: UTHS GIRLS GOLD\nAway Team: Bettendorf Gold\nHome Score: 0\nAway Score:
  1
END:VEVENT
BEGIN:VEVENT
UID:16855943@ezleagues.ezfacility.com
DTSTAMP:20260419T194924Z
CREATED:20260419T194924Z
DTSTART:20251209T011000Z
DTEND:20251209T020000Z
LOCATION:TBKBSC South Indoor Soccer Fie
CONTACT:
SUMMARY:Bettendorf Gold VS. North Scott Lady Lancers
DESCRIPTION:League Name: Winter 2025-2026 High School Girls Gold Winter Soc
 cer League- Session 1\nGame Type: Regular\nGame Status: Complete\nHome Tea
 m: Bettendorf Gold\nAway Team: North Scott Lady Lancers\nHome Score: 1\nAw
 ay Score: 1
END:VEVENT
BEGIN:VEVENT
UID:16855950@ezleagues.ezfacility.com
DTSTAMP:20260419T194924Z
CREATED:20260419T194924Z
DTSTART:20251216T020000Z
DTEND:20251216T025000Z
LOCATION:TBKBSC North Indoor Soccer Fie
CONTACT:
SUMMARY:Bettendorf Gold VS. Moline girls
DESCRIPTION:League Name: Winter 2025-2026 High School Girls Gold Winter Soc
 cer League- Session 1\nGame Type: Regular\nGame Status: Complete\nHome Tea
 m: Bettendorf Gold\nAway Team: Moline girls\nHome Score: 3\nAway Score: 0
END:VEVENT
BEGIN:VEVENT
UID:16855957@ezleagues.ezfacility.com
DTSTAMP:20260419T194924Z
CREATED:20260419T194924Z
DTSTART:20260106T025000Z
DTEND:20260106T034000Z
LOCATION:TBKBSC South Indoor Soccer Fie
CONTACT:
SUMMARY:Bettendorf Gold VS. PV White
DESCRIPTION:League Name: Winter 2025-2026 High School Girls Gold Winter Soc
 cer League- Session 1\nGame Type: Regular\nGame Status: Complete\nHome Tea
 m: Bettendorf Gold\nAway Team: PV White\nHome Score: 2\nAway Score: 1
END:VEVENT
END:VCALENDAR
