BEGIN:VCALENDAR
VERSION:2.0
PRODID:-//EZFacility.com, Inc.//EZL 2.5.5.28621
BEGIN:VEVENT
UID:16854522@ezleagues.ezfacility.com
DTSTAMP:20260426T035148Z
CREATED:20260426T035148Z
DTSTART:20251114T013000Z
DTEND:20251114T023000Z
LOCATION:Field B
CONTACT:
SUMMARY:Hot Flashes VS. Free Agents
DESCRIPTION:League Name: Women's Soccer League NOV2025\nGame Type: Regular\
 nGame Status: Complete\nHome Team: Hot Flashes\nAway Team: Free Agents\nHo
 me Score: 3\nAway Score: 0
END:VEVENT
BEGIN:VEVENT
UID:16854525@ezleagues.ezfacility.com
DTSTAMP:20260426T035148Z
CREATED:20260426T035148Z
DTSTART:20251121T023000Z
DTEND:20251121T033000Z
LOCATION:Field A
CONTACT:
SUMMARY:Free Agents VS. Strikers
DESCRIPTION:League Name: Women's Soccer League NOV2025\nGame Type: Regular\
 nGame Status: Complete\nHome Team: Free Agents\nAway Team: Strikers\nHome 
 Score: 3\nAway Score: 4
END:VEVENT
BEGIN:VEVENT
UID:16854528@ezleagues.ezfacility.com
DTSTAMP:20260426T035148Z
CREATED:20260426T035148Z
DTSTART:20251128T023000Z
DTEND:20251128T033000Z
LOCATION:Field A
CONTACT:
SUMMARY:Free Agents VS. Glory Days
DESCRIPTION:League Name: Women's Soccer League NOV2025\nGame Type: Regular\
 nGame Status: Rescheduled\nHome Team: Free Agents\nAway Team: Glory Days\n
END:VEVENT
BEGIN:VEVENT
UID:16854533@ezleagues.ezfacility.com
DTSTAMP:20260426T035148Z
CREATED:20260426T035148Z
DTSTART:20251205T023000Z
DTEND:20251205T033000Z
LOCATION:Field A
CONTACT:
SUMMARY:NARPS VS. Free Agents
DESCRIPTION:League Name: Women's Soccer League NOV2025\nGame Type: Regular\
 nGame Status: Complete\nHome Team: NARPS\nAway Team: Free Agents\nHome Sco
 re: 4\nAway Score: 2
END:VEVENT
BEGIN:VEVENT
UID:16854538@ezleagues.ezfacility.com
DTSTAMP:20260426T035148Z
CREATED:20260426T035148Z
DTSTART:20251212T013000Z
DTEND:20251212T023000Z
LOCATION:Field B
CONTACT:
SUMMARY:Free Agents VS. Mindbenders
DESCRIPTION:League Name: Women's Soccer League NOV2025\nGame Type: Regular\
 nGame Status: Complete\nHome Team: Free Agents\nAway Team: Mindbenders\nHo
 me Score: 2\nAway Score: 8
END:VEVENT
BEGIN:VEVENT
UID:16854543@ezleagues.ezfacility.com
DTSTAMP:20260426T035148Z
CREATED:20260426T035148Z
DTSTART:20251219T013000Z
DTEND:20251219T023000Z
LOCATION:Field A
CONTACT:
SUMMARY:LIZZY'S LEGENDS VS. Free Agents
DESCRIPTION:League Name: Women's Soccer League NOV2025\nGame Type: Regular\
 nGame Status: Complete\nHome Team: LIZZY'S LEGENDS\nAway Team: Free Agents
 \nHome Score: 3\nAway Score: 2
END:VEVENT
BEGIN:VEVENT
UID:16854550@ezleagues.ezfacility.com
DTSTAMP:20260426T035148Z
CREATED:20260426T035148Z
DTSTART:20260102T013000Z
DTEND:20260102T023000Z
LOCATION:Field A
CONTACT:
SUMMARY:Free Agents VS. Hot Flashes
DESCRIPTION:League Name: Women's Soccer League NOV2025\nGame Type: Regular\
 nGame Status: Rescheduled\nHome Team: Free Agents\nAway Team: Hot Flashes\
 n
END:VEVENT
BEGIN:VEVENT
UID:16861362@ezleagues.ezfacility.com
DTSTAMP:20260426T035148Z
CREATED:20260426T035148Z
DTSTART:20260109T023000Z
DTEND:20260109T033000Z
LOCATION:Field A
CONTACT:
SUMMARY:Free Agents VS. Glory Days
DESCRIPTION:League Name: Women's Soccer League NOV2025\nGame Type: Regular\
 nGame Status: Complete\nHome Team: Free Agents\nAway Team: Glory Days\nHom
 e Score: 1\nAway Score: 3
END:VEVENT
BEGIN:VEVENT
UID:16934399@ezleagues.ezfacility.com
DTSTAMP:20260426T035148Z
CREATED:20260426T035148Z
DTSTART:20260123T013000Z
DTEND:20260123T023000Z
LOCATION:Field A
CONTACT:
SUMMARY:Free Agents VS. Hot Flashes
DESCRIPTION:League Name: Women's Soccer League NOV2025\nGame Type: Regular\
 nGame Status: Complete\nHome Team: Free Agents\nAway Team: Hot Flashes\nHo
 me Score: 3\nAway Score: 4
END:VEVENT
END:VCALENDAR
