BEGIN:VCALENDAR
VERSION:2.0
PRODID:-//EZFacility.com, Inc.//EZL 2.5.5.28621
BEGIN:VEVENT
UID:16857803@ezleagues.ezfacility.com
DTSTAMP:20260420T024001Z
CREATED:20260420T024001Z
DTSTART:20251214T023000Z
DTEND:20251214T031500Z
LOCATION:Field 2
CONTACT:
SUMMARY:House 2013 Orange VS. Chicago Strikers 2011/2012 Blue
DESCRIPTION:League Name: Travel Soccer-Boys-2012/2011\nGame Type: Regular\n
 Game Status: Complete\nHome Team: House 2013 Orange\nAway Team: Chicago St
 rikers 2011/2012 Blue\nHome Score: 1\nAway Score: 1
END:VEVENT
BEGIN:VEVENT
UID:16857812@ezleagues.ezfacility.com
DTSTAMP:20260420T024001Z
CREATED:20260420T024001Z
DTSTART:20251222T020000Z
DTEND:20251222T024500Z
LOCATION:Field 2
CONTACT:
SUMMARY:AUSC 2011 VS. Chicago Strikers 2011/2012 Blue
DESCRIPTION:League Name: Travel Soccer-Boys-2012/2011\nGame Type: Regular\n
 Game Status: Complete\nHome Team: AUSC 2011\nAway Team: Chicago Strikers 2
 011/2012 Blue\nHome Score: 5\nAway Score: 2
END:VEVENT
BEGIN:VEVENT
UID:16857831@ezleagues.ezfacility.com
DTSTAMP:20260420T024001Z
CREATED:20260420T024001Z
DTSTART:20260103T204500Z
DTEND:20260103T213000Z
LOCATION:Field 1
CONTACT:
SUMMARY:Chicago Strikers 2011/2012 Blue VS. House 2013 Orange
DESCRIPTION:League Name: Travel Soccer-Boys-2012/2011\nGame Type: Regular\n
 Game Status: Complete\nHome Team: Chicago Strikers 2011/2012 Blue\nAway Te
 am: House 2013 Orange\nHome Score: 2\nAway Score: 0
END:VEVENT
BEGIN:VEVENT
UID:16857808@ezleagues.ezfacility.com
DTSTAMP:20260420T024001Z
CREATED:20260420T024001Z
DTSTART:20260112T013000Z
DTEND:20260112T021500Z
LOCATION:Field 1
CONTACT:
SUMMARY:Chicago Strikers 2011/2012 Blue VS. FSC 2012B Red Pool 2
DESCRIPTION:League Name: Travel Soccer-Boys-2012/2011\nGame Type: Regular\n
 Game Status: Complete\nHome Team: Chicago Strikers 2011/2012 Blue\nAway Te
 am: FSC 2012B Red Pool 2\nHome Score: 3\nAway Score: 1
END:VEVENT
BEGIN:VEVENT
UID:16857818@ezleagues.ezfacility.com
DTSTAMP:20260420T024001Z
CREATED:20260420T024001Z
DTSTART:20260201T024500Z
DTEND:20260201T033000Z
LOCATION:Field 1
CONTACT:
SUMMARY:Midway Soccer Club 2011 Boys Orange VS. Chicago Strikers 2011/2012 
 Blue
DESCRIPTION:League Name: Travel Soccer-Boys-2012/2011\nGame Type: Regular\n
 Game Status: Complete\nHome Team: Midway Soccer Club 2011 Boys Orange\nAwa
 y Team: Chicago Strikers 2011/2012 Blue\nHome Score: 2\nAway Score: 0
END:VEVENT
BEGIN:VEVENT
UID:16857821@ezleagues.ezfacility.com
DTSTAMP:20260420T024001Z
CREATED:20260420T024001Z
DTSTART:20260215T023000Z
DTEND:20260215T031500Z
LOCATION:Field 2
CONTACT:
SUMMARY:Chicago Strikers 2011/2012 Blue VS. Black Wolves FC 2011
DESCRIPTION:League Name: Travel Soccer-Boys-2012/2011\nGame Type: Regular\n
 Game Status: Complete\nHome Team: Chicago Strikers 2011/2012 Blue\nAway Te
 am: Black Wolves FC 2011\nHome Score: 0\nAway Score: 3
END:VEVENT
BEGIN:VEVENT
UID:16857826@ezleagues.ezfacility.com
DTSTAMP:20260420T024001Z
CREATED:20260420T024001Z
DTSTART:20260222T234500Z
DTEND:20260223T003000Z
LOCATION:Field 2
CONTACT:
SUMMARY:Chicago Strikers 2011/2012 Blue VS. AUSA 2011s
DESCRIPTION:League Name: Travel Soccer-Boys-2012/2011\nGame Type: Regular\n
 Game Status: Complete\nHome Team: Chicago Strikers 2011/2012 Blue\nAway Te
 am: AUSA 2011s\nHome Score: 0\nAway Score: 0
END:VEVENT
BEGIN:VEVENT
UID:16857829@ezleagues.ezfacility.com
DTSTAMP:20260420T024001Z
CREATED:20260420T024001Z
DTSTART:20260308T190000Z
DTEND:20260308T194500Z
LOCATION:Field 2
CONTACT:
SUMMARY:Black Wolves FC 2011 VS. Chicago Strikers 2011/2012 Blue
DESCRIPTION:League Name: Travel Soccer-Boys-2012/2011\nGame Type: Regular\n
 Game Status: Complete\nHome Team: Black Wolves FC 2011\nAway Team: Chicago
  Strikers 2011/2012 Blue\nHome Score: 2\nAway Score: 1
END:VEVENT
BEGIN:VEVENT
UID:16857832@ezleagues.ezfacility.com
DTSTAMP:20260420T024001Z
CREATED:20260420T024001Z
DTSTART:20260316T010000Z
DTEND:20260316T014500Z
LOCATION:Field 2
CONTACT:
SUMMARY:Chicago Strikers 2011/2012 Blue VS. Midway Soccer Club 2011 Boys Or
 ange
DESCRIPTION:League Name: Travel Soccer-Boys-2012/2011\nGame Type: Regular\n
 Game Status: Complete\nHome Team: Chicago Strikers 2011/2012 Blue\nAway Te
 am: Midway Soccer Club 2011 Boys Orange\nHome Score: 0\nAway Score: 1
END:VEVENT
BEGIN:VEVENT
UID:16857872@ezleagues.ezfacility.com
DTSTAMP:20260420T024001Z
CREATED:20260420T024001Z
DTSTART:20260322T190000Z
DTEND:20260322T194500Z
LOCATION:Field 2
CONTACT:
SUMMARY:AUSC 2011 VS. Chicago Strikers 2011/2012 Blue
DESCRIPTION:League Name: Travel Soccer-Boys-2012/2011\nGame Type: Regular\n
 Game Status: Complete\nHome Team: AUSC 2011\nAway Team: Chicago Strikers 2
 011/2012 Blue\nHome Score: 2\nAway Score: 1
END:VEVENT
END:VCALENDAR
