BEGIN:VCALENDAR
VERSION:2.0
PRODID:-//EZFacility.com, Inc.//EZL 2.5.5.28621
BEGIN:VEVENT
UID:16860730@ezleagues.ezfacility.com
DTSTAMP:20260421T025847Z
CREATED:20260421T025847Z
DTSTART:20251207T221500Z
DTEND:20251207T230000Z
LOCATION:Field 2
CONTACT:
SUMMARY:FSC 2016 Boys Red VS. Synergy 2016 Green
DESCRIPTION:League Name: Travel Soccer-Boys-2016 B\nGame Type: Regular\nGam
 e Status: Complete\nHome Team: FSC 2016 Boys Red\nAway Team: Synergy 2016 
 Green\nHome Score: 0\nAway Score: 5
END:VEVENT
BEGIN:VEVENT
UID:16860731@ezleagues.ezfacility.com
DTSTAMP:20260421T025847Z
CREATED:20260421T025847Z
DTSTART:20260103T211500Z
DTEND:20260103T220000Z
LOCATION:Field 2
CONTACT:
SUMMARY:NSA 2016 Boys Red VS. FSC 2016 Boys Red
DESCRIPTION:League Name: Travel Soccer-Boys-2016 B\nGame Type: Regular\nGam
 e Status: Complete\nHome Team: NSA 2016 Boys Red\nAway Team: FSC 2016 Boys
  Red\nHome Score: 0\nAway Score: 4
END:VEVENT
BEGIN:VEVENT
UID:16860728@ezleagues.ezfacility.com
DTSTAMP:20260421T025847Z
CREATED:20260421T025847Z
DTSTART:20260111T001500Z
DTEND:20260111T010000Z
LOCATION:Field 2
CONTACT:
SUMMARY:BSC Raiders 2016 Red VS. FSC 2016 Boys Red
DESCRIPTION:League Name: Travel Soccer-Boys-2016 B\nGame Type: Regular\nGam
 e Status: Complete\nHome Team: BSC Raiders 2016 Red\nAway Team: FSC 2016 B
 oys Red\nHome Score: 5\nAway Score: 1
END:VEVENT
BEGIN:VEVENT
UID:16860735@ezleagues.ezfacility.com
DTSTAMP:20260421T025847Z
CREATED:20260421T025847Z
DTSTART:20260118T191500Z
DTEND:20260118T200000Z
LOCATION:Field 2
CONTACT:
SUMMARY:2016 European American SC Macedonia Red  VS. FSC 2016 Boys Red
DESCRIPTION:League Name: Travel Soccer-Boys-2016 B\nGame Type: Regular\nGam
 e Status: Complete\nHome Team: 2016 European American SC Macedonia Red \nA
 way Team: FSC 2016 Boys Red\nHome Score: 5\nAway Score: 1
END:VEVENT
BEGIN:VEVENT
UID:16860740@ezleagues.ezfacility.com
DTSTAMP:20260421T025847Z
CREATED:20260421T025847Z
DTSTART:20260215T231500Z
DTEND:20260216T000000Z
LOCATION:Field 1
CONTACT:
SUMMARY:BSC Raiders 2016 Black VS. FSC 2016 Boys Red
DESCRIPTION:League Name: Travel Soccer-Boys-2016 B\nGame Type: Regular\nGam
 e Status: Complete\nHome Team: BSC Raiders 2016 Black\nAway Team: FSC 2016
  Boys Red\nHome Score: 1\nAway Score: 0
END:VEVENT
BEGIN:VEVENT
UID:16860745@ezleagues.ezfacility.com
DTSTAMP:20260421T025847Z
CREATED:20260421T025847Z
DTSTART:20260301T221500Z
DTEND:20260301T230000Z
LOCATION:Field 2
CONTACT:
SUMMARY:FSC 2016 Boys Red VS. Evolution Mercurial Boys 2016
DESCRIPTION:League Name: Travel Soccer-Boys-2016 B\nGame Type: Regular\nGam
 e Status: Complete\nHome Team: FSC 2016 Boys Red\nAway Team: Evolution Mer
 curial Boys 2016\nHome Score: 3\nAway Score: 3
END:VEVENT
BEGIN:VEVENT
UID:16860751@ezleagues.ezfacility.com
DTSTAMP:20260421T025847Z
CREATED:20260421T025847Z
DTSTART:20260308T211500Z
DTEND:20260308T220000Z
LOCATION:Field 2
CONTACT:
SUMMARY:FSC 2016 Boys Red VS. Chicago Strikers 2016 Blue
DESCRIPTION:League Name: Travel Soccer-Boys-2016 B\nGame Type: Regular\nGam
 e Status: Complete\nHome Team: FSC 2016 Boys Red\nAway Team: Chicago Strik
 ers 2016 Blue\nHome Score: 3\nAway Score: 2
END:VEVENT
BEGIN:VEVENT
UID:16860749@ezleagues.ezfacility.com
DTSTAMP:20260421T025847Z
CREATED:20260421T025847Z
DTSTART:20260315T221500Z
DTEND:20260315T230000Z
LOCATION:Field 1
CONTACT:
SUMMARY:FSC 2016 Boys Red VS. AUSA 2016s Premier
DESCRIPTION:League Name: Travel Soccer-Boys-2016 B\nGame Type: Regular\nGam
 e Status: Complete\nHome Team: FSC 2016 Boys Red\nAway Team: AUSA 2016s Pr
 emier\nHome Score: 2\nAway Score: 3
END:VEVENT
END:VCALENDAR
