BEGIN:VCALENDAR
VERSION:2.0
PRODID:-//EZFacility.com, Inc.//EZL 2.5.5.28621
BEGIN:VEVENT
UID:16859497@ezleagues.ezfacility.com
DTSTAMP:20260421T042438Z
CREATED:20260421T042438Z
DTSTART:20251220T224500Z
DTEND:20251220T233000Z
LOCATION:Field 2
CONTACT:
SUMMARY:Evolution 2017/2016 Mercurial Girls  VS. FSC 2017 Girls
DESCRIPTION:League Name: Travel Soccer-Girls-2017/2016\nGame Type: Regular\
 nGame Status: Complete\nHome Team: Evolution 2017/2016 Mercurial Girls \nA
 way Team: FSC 2017 Girls\nHome Score: 7\nAway Score: 1
END:VEVENT
BEGIN:VEVENT
UID:16859505@ezleagues.ezfacility.com
DTSTAMP:20260421T042438Z
CREATED:20260421T042438Z
DTSTART:20260103T173000Z
DTEND:20260103T181500Z
LOCATION:Field 2
CONTACT:
SUMMARY:Queen Bees FC 2017 VS. Evolution 2017/2016 Mercurial Girls 
DESCRIPTION:League Name: Travel Soccer-Girls-2017/2016\nGame Type: Regular\
 nGame Status: Complete\nHome Team: Queen Bees FC 2017\nAway Team: Evolutio
 n 2017/2016 Mercurial Girls \nHome Score: 0\nAway Score: 4
END:VEVENT
BEGIN:VEVENT
UID:16859509@ezleagues.ezfacility.com
DTSTAMP:20260421T042438Z
CREATED:20260421T042438Z
DTSTART:20260112T003000Z
DTEND:20260112T011500Z
LOCATION:Field 2
CONTACT:
SUMMARY:Evolution 2017/2016 Mercurial Girls  VS. Galaxy Girls 2017 Black
DESCRIPTION:League Name: Travel Soccer-Girls-2017/2016\nGame Type: Regular\
 nGame Status: Complete\nHome Team: Evolution 2017/2016 Mercurial Girls \nA
 way Team: Galaxy Girls 2017 Black\nHome Score: 4\nAway Score: 0
END:VEVENT
BEGIN:VEVENT
UID:16859510@ezleagues.ezfacility.com
DTSTAMP:20260421T042438Z
CREATED:20260421T042438Z
DTSTART:20260124T220000Z
DTEND:20260124T224500Z
LOCATION:Field 2
CONTACT:
SUMMARY:Evolution 2017/2016 Mercurial Girls  VS. BSC Raiders 2017 Silver
DESCRIPTION:League Name: Travel Soccer-Girls-2017/2016\nGame Type: Regular\
 nGame Status: Complete\nHome Team: Evolution 2017/2016 Mercurial Girls \nA
 way Team: BSC Raiders 2017 Silver\nHome Score: 5\nAway Score: 1
END:VEVENT
BEGIN:VEVENT
UID:16859501@ezleagues.ezfacility.com
DTSTAMP:20260421T042438Z
CREATED:20260421T042438Z
DTSTART:20260214T224500Z
DTEND:20260214T233000Z
LOCATION:Field 2
CONTACT:
SUMMARY:Evolution 2017/2016 Mercurial Girls  VS. NSA 2016/17 Girls Red
DESCRIPTION:League Name: Travel Soccer-Girls-2017/2016\nGame Type: Regular\
 nGame Status: Complete\nHome Team: Evolution 2017/2016 Mercurial Girls \nA
 way Team: NSA 2016/17 Girls Red\nHome Score: 3\nAway Score: 1
END:VEVENT
BEGIN:VEVENT
UID:16859498@ezleagues.ezfacility.com
DTSTAMP:20260421T042438Z
CREATED:20260421T042438Z
DTSTART:20260301T144500Z
DTEND:20260301T153000Z
LOCATION:Field 2
CONTACT:
SUMMARY:NSA 2016/17 Girls Red VS. Evolution 2017/2016 Mercurial Girls 
DESCRIPTION:League Name: Travel Soccer-Girls-2017/2016\nGame Type: Regular\
 nGame Status: Complete\nHome Team: NSA 2016/17 Girls Red\nAway Team: Evolu
 tion 2017/2016 Mercurial Girls \nHome Score: 2\nAway Score: 5
END:VEVENT
BEGIN:VEVENT
UID:16859511@ezleagues.ezfacility.com
DTSTAMP:20260421T042438Z
CREATED:20260421T042438Z
DTSTART:20260308T181500Z
DTEND:20260308T190000Z
LOCATION:Field 2
CONTACT:
SUMMARY:FSC 2017 Girls VS. Evolution 2017/2016 Mercurial Girls 
DESCRIPTION:League Name: Travel Soccer-Girls-2017/2016\nGame Type: Regular\
 nGame Status: Complete\nHome Team: FSC 2017 Girls\nAway Team: Evolution 20
 17/2016 Mercurial Girls \nHome Score: 0\nAway Score: 5
END:VEVENT
BEGIN:VEVENT
UID:16859496@ezleagues.ezfacility.com
DTSTAMP:20260421T042438Z
CREATED:20260421T042438Z
DTSTART:20260321T133000Z
DTEND:20260321T141500Z
LOCATION:Field 2
CONTACT:
SUMMARY:Galaxy Girls 2017 Black VS. Evolution 2017/2016 Mercurial Girls 
DESCRIPTION:League Name: Travel Soccer-Girls-2017/2016\nGame Type: Regular\
 nGame Status: Complete\nHome Team: Galaxy Girls 2017 Black\nAway Team: Evo
 lution 2017/2016 Mercurial Girls \nHome Score: 0\nAway Score: 5
END:VEVENT
END:VCALENDAR
