BEGIN:VCALENDAR
VERSION:2.0
PRODID:-//EZFacility.com, Inc.//EZL 2.5.5.28621
BEGIN:VEVENT
UID:16859199@ezleagues.ezfacility.com
DTSTAMP:20260424T044122Z
CREATED:20260424T044122Z
DTSTART:20251117T030000Z
DTEND:20251117T040000Z
LOCATION:Field 2
CONTACT:
SUMMARY:Tower FC VS. Unatletico De Madrid
DESCRIPTION:League Name: Coed Recreation\nGame Type: Regular\nGame Status: 
 Complete\nHome Team: Tower FC\nAway Team: Unatletico De Madrid\nHome Score
 : 2\nAway Score: 10
END:VEVENT
BEGIN:VEVENT
UID:16859205@ezleagues.ezfacility.com
DTSTAMP:20260424T044122Z
CREATED:20260424T044122Z
DTSTART:20251124T030000Z
DTEND:20251124T040000Z
LOCATION:Field 2
CONTACT:
SUMMARY:Tower FC VS. NSF
DESCRIPTION:League Name: Coed Recreation\nGame Type: Regular\nGame Status: 
 Complete\nHome Team: Tower FC\nAway Team: NSF\nHome Score: 6\nAway Score: 
 8
END:VEVENT
BEGIN:VEVENT
UID:16859229@ezleagues.ezfacility.com
DTSTAMP:20260424T044122Z
CREATED:20260424T044122Z
DTSTART:20251208T020000Z
DTEND:20251208T030000Z
LOCATION:Field 2
CONTACT:
SUMMARY:FCFU VS. Tower FC
DESCRIPTION:League Name: Coed Recreation\nGame Type: Regular\nGame Status: 
 Complete\nHome Team: FCFU\nAway Team: Tower FC\nHome Score: 5\nAway Score:
  3
END:VEVENT
BEGIN:VEVENT
UID:16859250@ezleagues.ezfacility.com
DTSTAMP:20260424T044122Z
CREATED:20260424T044122Z
DTSTART:20251215T010000Z
DTEND:20251215T020000Z
LOCATION:Field 2
CONTACT:
SUMMARY:Farmers FC VS. Tower FC
DESCRIPTION:League Name: Coed Recreation\nGame Type: Regular\nGame Status: 
 Complete\nHome Team: Farmers FC\nAway Team: Tower FC\nHome Score: 5\nAway 
 Score: 5
END:VEVENT
BEGIN:VEVENT
UID:16859262@ezleagues.ezfacility.com
DTSTAMP:20260424T044122Z
CREATED:20260424T044122Z
DTSTART:20251222T000000Z
DTEND:20251222T010000Z
LOCATION:Field 1
CONTACT:
SUMMARY:LFC VS. Tower FC
DESCRIPTION:League Name: Coed Recreation\nGame Type: Regular\nGame Status: 
 Complete\nHome Team: LFC\nAway Team: Tower FC\nHome Score: 6\nAway Score: 
 6
END:VEVENT
BEGIN:VEVENT
UID:16859280@ezleagues.ezfacility.com
DTSTAMP:20260424T044122Z
CREATED:20260424T044122Z
DTSTART:20260105T020000Z
DTEND:20260105T030000Z
LOCATION:Field 2
CONTACT:
SUMMARY:Team USA VS. Tower FC
DESCRIPTION:League Name: Coed Recreation\nGame Type: Regular\nGame Status: 
 Complete\nHome Team: Team USA\nAway Team: Tower FC\nHome Score: 4\nAway Sc
 ore: 6
END:VEVENT
BEGIN:VEVENT
UID:16859226@ezleagues.ezfacility.com
DTSTAMP:20260424T044122Z
CREATED:20260424T044122Z
DTSTART:20260112T040000Z
DTEND:20260112T050000Z
LOCATION:Field 2
CONTACT:
SUMMARY:Huskies VS. Tower FC
DESCRIPTION:League Name: Coed Recreation\nGame Type: Regular\nGame Status: 
 Complete\nHome Team: Huskies\nAway Team: Tower FC\nHome Score: 13\nAway Sc
 ore: 5
END:VEVENT
BEGIN:VEVENT
UID:16859274@ezleagues.ezfacility.com
DTSTAMP:20260424T044122Z
CREATED:20260424T044122Z
DTSTART:20260119T020000Z
DTEND:20260119T030000Z
LOCATION:Field 2
CONTACT:
SUMMARY:Tower FC VS. Tequileros
DESCRIPTION:League Name: Coed Recreation\nGame Type: Regular\nGame Status: 
 Complete\nHome Team: Tower FC\nAway Team: Tequileros\nHome Score: 5\nAway 
 Score: 0
END:VEVENT
END:VCALENDAR
