BEGIN:VCALENDAR
VERSION:2.0
PRODID:-//EZFacility.com, Inc.//EZL 2.5.5.28621
BEGIN:VEVENT
UID:16864401@ezleagues.ezfacility.com
DTSTAMP:20260421T014203Z
CREATED:20260421T014203Z
DTSTART:20251104T230000Z
DTEND:20251104T232000Z
LOCATION:Bowld Table 2
CONTACT:
SUMMARY:Nick S VS. Marcel Van Der Wel
DESCRIPTION:League Name: Ping Pong-  Men’s\nGame Type: Regular\nGame Stat
 us: Complete\nHome Team: Nick S\nAway Team: Marcel Van Der Wel\nHome Score
 : 2\nAway Score: 1
END:VEVENT
END:VCALENDAR
