BEGIN:VCALENDAR
VERSION:2.0
PRODID:-//EZFacility.com, Inc.//EZL 2.5.5.28621
BEGIN:VEVENT
UID:17053810@ezleagues.ezfacility.com
DTSTAMP:20260423T131950Z
CREATED:20260423T131950Z
DTSTART:20260317T004000Z
DTEND:20260317T013000Z
LOCATION:Jessup Premier Field #1
CONTACT:
SUMMARY:Next Week VS. Desk Jockeys
DESCRIPTION:League Name: Mon Mens Over 35s 2nd div       \nGame Type: Regul
 ar\nGame Status: Complete\nHome Team: Next Week\nAway Team: Desk Jockeys\n
 Home Score: 3\nAway Score: 3
END:VEVENT
BEGIN:VEVENT
UID:17053823@ezleagues.ezfacility.com
DTSTAMP:20260423T131950Z
CREATED:20260423T131950Z
DTSTART:20260324T031000Z
DTEND:20260324T040000Z
LOCATION:Jessup Premier Field #1
CONTACT:
SUMMARY:Desk Jockeys VS. Laurel FC
DESCRIPTION:League Name: Mon Mens Over 35s 2nd div       \nGame Type: Regul
 ar\nGame Status: Complete\nHome Team: Desk Jockeys\nAway Team: Laurel FC\n
 Home Score: 4\nAway Score: 4
END:VEVENT
BEGIN:VEVENT
UID:17053836@ezleagues.ezfacility.com
DTSTAMP:20260423T131950Z
CREATED:20260423T131950Z
DTSTART:20260330T230000Z
DTEND:20260330T235000Z
LOCATION:Jessup Premier Field #2
CONTACT:
SUMMARY:Desk Jockeys VS. Maryland FC
DESCRIPTION:League Name: Mon Mens Over 35s 2nd div       \nGame Type: Regul
 ar\nGame Status: Complete\nHome Team: Desk Jockeys\nAway Team: Maryland FC
 \nHome Score: 9\nAway Score: 4
END:VEVENT
BEGIN:VEVENT
UID:17053849@ezleagues.ezfacility.com
DTSTAMP:20260423T131950Z
CREATED:20260423T131950Z
DTSTART:20260407T004000Z
DTEND:20260407T013000Z
LOCATION:Jessup Premier Field #2
CONTACT:
SUMMARY:Desk Jockeys VS. Sharknado FC
DESCRIPTION:League Name: Mon Mens Over 35s 2nd div       \nGame Type: Regul
 ar\nGame Status: Complete\nHome Team: Desk Jockeys\nAway Team: Sharknado F
 C\nHome Score: 2\nAway Score: 9
END:VEVENT
BEGIN:VEVENT
UID:17053861@ezleagues.ezfacility.com
DTSTAMP:20260423T131950Z
CREATED:20260423T131950Z
DTSTART:20260413T230000Z
DTEND:20260413T235000Z
LOCATION:Jessup Premier Field #2
CONTACT:
SUMMARY:Man Chest Hair  United VS. Desk Jockeys
DESCRIPTION:League Name: Mon Mens Over 35s 2nd div       \nGame Type: Regul
 ar\nGame Status: Complete\nHome Team: Man Chest Hair  United\nAway Team: D
 esk Jockeys\nHome Score: 2\nAway Score: 4
END:VEVENT
BEGIN:VEVENT
UID:17053872@ezleagues.ezfacility.com
DTSTAMP:20260423T131950Z
CREATED:20260423T131950Z
DTSTART:20260421T013000Z
DTEND:20260421T022000Z
LOCATION:Jessup Premier Field #1
CONTACT:
SUMMARY:Villatoro FC VS. Desk Jockeys
DESCRIPTION:League Name: Mon Mens Over 35s 2nd div       \nGame Type: Regul
 ar\nGame Status: Complete\nHome Team: Villatoro FC\nAway Team: Desk Jockey
 s\nHome Score: 2\nAway Score: 5
END:VEVENT
BEGIN:VEVENT
UID:17053883@ezleagues.ezfacility.com
DTSTAMP:20260423T131950Z
CREATED:20260423T131950Z
DTSTART:20260428T031000Z
DTEND:20260428T040000Z
LOCATION:Jessup Premier Field #1
CONTACT:
SUMMARY:SSL FC VS. Desk Jockeys
DESCRIPTION:League Name: Mon Mens Over 35s 2nd div       \nGame Type: Regul
 ar\nGame Status: Pending\nHome Team: SSL FC\nAway Team: Desk Jockeys\n
END:VEVENT
END:VCALENDAR
