BEGIN:VCALENDAR
VERSION:2.0
PRODID:-//EZFacility.com, Inc.//EZL 2.5.5.28621
BEGIN:VEVENT
UID:16866762@ezleagues.ezfacility.com
DTSTAMP:20260419T205402Z
CREATED:20260419T205402Z
DTSTART:20251122T044500Z
DTEND:20251122T054000Z
LOCATION:Field 1
CONTACT:
SUMMARY:Edmond Fury (Black) VS. Prodigy FC (Navy)
DESCRIPTION:League Name: Boys U19 - Winter 1\nGame Type: Regular\nGame Stat
 us: Complete\nHome Team: Edmond Fury (Black)\nAway Team: Prodigy FC (Navy)
 \nHome Score: 4\nAway Score: 5
END:VEVENT
BEGIN:VEVENT
UID:16873007@ezleagues.ezfacility.com
DTSTAMP:20260419T205402Z
CREATED:20260419T205402Z
DTSTART:20251129T035000Z
DTEND:20251129T044500Z
LOCATION:Field 1
CONTACT:
SUMMARY:Edmond Fury (Black) VS. WSA 08/09 WHITE (White)
DESCRIPTION:League Name: Boys U19 - Winter 1\nGame Type: Regular\nGame Stat
 us: Complete\nHome Team: Edmond Fury (Black)\nAway Team: WSA 08/09 WHITE (
 White)\nHome Score: 2\nAway Score: 7
END:VEVENT
BEGIN:VEVENT
UID:16866764@ezleagues.ezfacility.com
DTSTAMP:20260419T205402Z
CREATED:20260419T205402Z
DTSTART:20251129T044500Z
DTEND:20251129T054000Z
LOCATION:Field 1
CONTACT:
SUMMARY:Edmond Fury (Black) VS. Blue Cards (  )
DESCRIPTION:League Name: Boys U19 - Winter 1\nGame Type: Regular\nGame Stat
 us: Complete\nHome Team: Edmond Fury (Black)\nAway Team: Blue Cards (  )\n
 Home Score: 12\nAway Score: 7
END:VEVENT
BEGIN:VEVENT
UID:16866769@ezleagues.ezfacility.com
DTSTAMP:20260419T205402Z
CREATED:20260419T205402Z
DTSTART:20251213T044500Z
DTEND:20251213T054000Z
LOCATION:Field 2
CONTACT:
SUMMARY:Edmond Fury (Black) VS. Madrid (Blue)
DESCRIPTION:League Name: Boys U19 - Winter 1\nGame Type: Regular\nGame Stat
 us: Complete\nHome Team: Edmond Fury (Black)\nAway Team: Madrid (Blue)\nHo
 me Score: 3\nAway Score: 8
END:VEVENT
BEGIN:VEVENT
UID:16866771@ezleagues.ezfacility.com
DTSTAMP:20260419T205402Z
CREATED:20260419T205402Z
DTSTART:20251220T025500Z
DTEND:20251220T035000Z
LOCATION:Field 1
CONTACT:
SUMMARY:Edmond Fury (Black) VS. WSA 08/09 NAVY (Navy)
DESCRIPTION:League Name: Boys U19 - Winter 1\nGame Type: Regular\nGame Stat
 us: Complete\nHome Team: Edmond Fury (Black)\nAway Team: WSA 08/09 NAVY (N
 avy)\nHome Score: 4\nAway Score: 6
END:VEVENT
BEGIN:VEVENT
UID:16874496@ezleagues.ezfacility.com
DTSTAMP:20260419T205402Z
CREATED:20260419T205402Z
DTSTART:20251227T025500Z
DTEND:20251227T035000Z
LOCATION:Field 3
CONTACT:
SUMMARY:Edmond Fury (Black) VS. Madrid (Blue)
DESCRIPTION:League Name: Boys U19 - Winter 1\nGame Type: Regular\nGame Stat
 us: Complete\nHome Team: Edmond Fury (Black)\nAway Team: Madrid (Blue)\nHo
 me Score: 3\nAway Score: 1
END:VEVENT
END:VCALENDAR
