BEGIN:VCALENDAR
VERSION:2.0
PRODID:-//EZFacility.com, Inc.//EZL 2.5.5.28621
BEGIN:VEVENT
UID:16888312@ezleagues.ezfacility.com
DTSTAMP:20260420T092347Z
CREATED:20260420T092347Z
DTSTART:20251217T015000Z
DTEND:20251217T024000Z
LOCATION:Car Stereo One Big Field
CONTACT:Ritchey
SUMMARY:Real Midrid VS. The Avengers
DESCRIPTION:League Name: 2025/26 Maumee CS1 Big Field Coed Open- Session 2\
 nGame Type: Regular\nGame Status: Complete\nHome Team: Real Midrid\nAway T
 eam: The Avengers\nHome Score: 4\nAway Score: 2
END:VEVENT
BEGIN:VEVENT
UID:16888319@ezleagues.ezfacility.com
DTSTAMP:20260420T092347Z
CREATED:20260420T092347Z
DTSTART:20251224T022000Z
DTEND:20251224T031000Z
LOCATION:Car Stereo One Big Field
CONTACT:Ritchey
SUMMARY:Slammin Salmon FC VS. Real Midrid
DESCRIPTION:League Name: 2025/26 Maumee CS1 Big Field Coed Open- Session 2\
 nGame Type: Regular\nGame Status: Complete\nHome Team: Slammin Salmon FC\n
 Away Team: Real Midrid\nHome Score: 6\nAway Score: 1
END:VEVENT
BEGIN:VEVENT
UID:16888333@ezleagues.ezfacility.com
DTSTAMP:20260420T092347Z
CREATED:20260420T092347Z
DTSTART:20260107T024000Z
DTEND:20260107T033000Z
LOCATION:Car Stereo One Big Field
CONTACT:McFee
SUMMARY:Head Game Strong VS. Real Midrid
DESCRIPTION:League Name: 2025/26 Maumee CS1 Big Field Coed Open- Session 2\
 nGame Type: Regular\nGame Status: Complete\nHome Team: Head Game Strong\nA
 way Team: Real Midrid\nHome Score: 3\nAway Score: 6
END:VEVENT
BEGIN:VEVENT
UID:16888346@ezleagues.ezfacility.com
DTSTAMP:20260420T092347Z
CREATED:20260420T092347Z
DTSTART:20260116T033000Z
DTEND:20260116T042000Z
LOCATION:Car Stereo One Big Field
CONTACT:McNutt
SUMMARY:Real Midrid VS. Team Name Here
DESCRIPTION:League Name: 2025/26 Maumee CS1 Big Field Coed Open- Session 2\
 nGame Type: Regular\nGame Status: Complete\nHome Team: Real Midrid\nAway T
 eam: Team Name Here\nHome Score: 7\nAway Score: 6
END:VEVENT
BEGIN:VEVENT
UID:16888351@ezleagues.ezfacility.com
DTSTAMP:20260420T092347Z
CREATED:20260420T092347Z
DTSTART:20260123T024000Z
DTEND:20260123T033000Z
LOCATION:Car Stereo One Big Field
CONTACT:France
SUMMARY:Net Six and Chill VS. Real Midrid
DESCRIPTION:League Name: 2025/26 Maumee CS1 Big Field Coed Open- Session 2\
 nGame Type: Regular\nGame Status: Complete\nHome Team: Net Six and Chill\n
 Away Team: Real Midrid\nHome Score: 6\nAway Score: 8
END:VEVENT
BEGIN:VEVENT
UID:16888340@ezleagues.ezfacility.com
DTSTAMP:20260420T092347Z
CREATED:20260420T092347Z
DTSTART:20260128T024000Z
DTEND:20260128T033000Z
LOCATION:Car Stereo One Big Field
CONTACT:Himmelreich
SUMMARY:Real Midrid VS. We Share Brain Cells
DESCRIPTION:League Name: 2025/26 Maumee CS1 Big Field Coed Open- Session 2\
 nGame Type: Regular\nGame Status: Complete\nHome Team: Real Midrid\nAway T
 eam: We Share Brain Cells\nHome Score: 3\nAway Score: 5
END:VEVENT
BEGIN:VEVENT
UID:16888356@ezleagues.ezfacility.com
DTSTAMP:20260420T092347Z
CREATED:20260420T092347Z
DTSTART:20260204T015000Z
DTEND:20260204T024000Z
LOCATION:Car Stereo One Big Field
CONTACT:McNutt
SUMMARY:Real Midrid VS. LPC Thunder
DESCRIPTION:League Name: 2025/26 Maumee CS1 Big Field Coed Open- Session 2\
 nGame Type: Regular\nGame Status: Complete\nHome Team: Real Midrid\nAway T
 eam: LPC Thunder\nHome Score: 7\nAway Score: 2
END:VEVENT
BEGIN:VEVENT
UID:16888327@ezleagues.ezfacility.com
DTSTAMP:20260420T092347Z
CREATED:20260420T092347Z
DTSTART:20260213T015000Z
DTEND:20260213T024000Z
LOCATION:Car Stereo One Big Field
CONTACT:McNutt
SUMMARY:Real Midrid VS. Meltmaxxers
DESCRIPTION:League Name: 2025/26 Maumee CS1 Big Field Coed Open- Session 2\
 nGame Type: Regular\nGame Status: Complete\nHome Team: Real Midrid\nAway T
 eam: Meltmaxxers\nHome Score: 8\nAway Score: 7
END:VEVENT
END:VCALENDAR
