BEGIN:VCALENDAR
VERSION:2.0
PRODID:-//EZFacility.com, Inc.//EZL 2.5.5.28621
BEGIN:VEVENT
UID:16881896@ezleagues.ezfacility.com
DTSTAMP:20260423T221630Z
CREATED:20260423T221630Z
DTSTART:20251206T024000Z
DTEND:20251206T033000Z
LOCATION:Car Stereo One Big Field
CONTACT:France
SUMMARY:U-20 Japan VS. LeBron FC
DESCRIPTION:League Name: 2025/26 Maumee CS1 Big Field Boys HS- Session 2\nG
 ame Type: Regular\nGame Status: Complete\nHome Team: U-20 Japan\nAway Team
 : LeBron FC\nHome Score: 7\nAway Score: 1
END:VEVENT
BEGIN:VEVENT
UID:16881902@ezleagues.ezfacility.com
DTSTAMP:20260423T221630Z
CREATED:20260423T221630Z
DTSTART:20251213T034000Z
DTEND:20251213T043000Z
LOCATION:Car Stereo One Big Field
CONTACT:France
SUMMARY:LeBron FC VS. Clay
DESCRIPTION:League Name: 2025/26 Maumee CS1 Big Field Boys HS- Session 2\nG
 ame Type: Regular\nGame Status: Complete\nHome Team: LeBron FC\nAway Team:
  Clay\nHome Score: 8\nAway Score: 7
END:VEVENT
BEGIN:VEVENT
UID:16881908@ezleagues.ezfacility.com
DTSTAMP:20260423T221630Z
CREATED:20260423T221630Z
DTSTART:20251221T013000Z
DTEND:20251221T022000Z
LOCATION:Car Stereo One Big Field
CONTACT:Krupp
SUMMARY:LeBron FC VS. Big Eagle Eggs
DESCRIPTION:League Name: 2025/26 Maumee CS1 Big Field Boys HS- Session 2\nG
 ame Type: Regular\nGame Status: Complete\nHome Team: LeBron FC\nAway Team:
  Big Eagle Eggs\nHome Score: 8\nAway Score: 7
END:VEVENT
BEGIN:VEVENT
UID:16881914@ezleagues.ezfacility.com
DTSTAMP:20260423T221630Z
CREATED:20260423T221630Z
DTSTART:20251228T013000Z
DTEND:20251228T022000Z
LOCATION:Car Stereo One Big Field
CONTACT:France
SUMMARY:LeBron FC VS. Elite 09
DESCRIPTION:League Name: 2025/26 Maumee CS1 Big Field Boys HS- Session 2\nG
 ame Type: Regular\nGame Status: Complete\nHome Team: LeBron FC\nAway Team:
  Elite 09\nHome Score: 5\nAway Score: 11
END:VEVENT
BEGIN:VEVENT
UID:16881920@ezleagues.ezfacility.com
DTSTAMP:20260423T221630Z
CREATED:20260423T221630Z
DTSTART:20260104T031000Z
DTEND:20260104T040000Z
LOCATION:Car Stereo One Big Field
CONTACT:France
SUMMARY:LeBron FC VS. Chippy Chips FC
DESCRIPTION:League Name: 2025/26 Maumee CS1 Big Field Boys HS- Session 2\nG
 ame Type: Regular\nGame Status: Complete\nHome Team: LeBron FC\nAway Team:
  Chippy Chips FC\nHome Score: 2\nAway Score: 11
END:VEVENT
BEGIN:VEVENT
UID:16881925@ezleagues.ezfacility.com
DTSTAMP:20260423T221630Z
CREATED:20260423T221630Z
DTSTART:20260110T032000Z
DTEND:20260110T041000Z
LOCATION:Car Stereo One Big Field
CONTACT:France
SUMMARY:Sultan CF VS. LeBron FC
DESCRIPTION:League Name: 2025/26 Maumee CS1 Big Field Boys HS- Session 2\nG
 ame Type: Regular\nGame Status: Complete\nHome Team: Sultan CF\nAway Team:
  LeBron FC\nHome Score: 9\nAway Score: 10
END:VEVENT
BEGIN:VEVENT
UID:16881929@ezleagues.ezfacility.com
DTSTAMP:20260423T221630Z
CREATED:20260423T221630Z
DTSTART:20260118T031000Z
DTEND:20260118T040000Z
LOCATION:Car Stereo One Big Field
CONTACT:Reese - M
SUMMARY:BBFC VS. LeBron FC
DESCRIPTION:League Name: 2025/26 Maumee CS1 Big Field Boys HS- Session 2\nG
 ame Type: Regular\nGame Status: Complete\nHome Team: BBFC\nAway Team: LeBr
 on FC\nHome Score: 12\nAway Score: 6
END:VEVENT
BEGIN:VEVENT
UID:16881933@ezleagues.ezfacility.com
DTSTAMP:20260423T221630Z
CREATED:20260423T221630Z
DTSTART:20260125T022000Z
DTEND:20260125T031000Z
LOCATION:Car Stereo One Big Field
CONTACT:France
SUMMARY:Bedford FC VS. LeBron FC
DESCRIPTION:League Name: 2025/26 Maumee CS1 Big Field Boys HS- Session 2\nG
 ame Type: Regular\nGame Status: Complete\nHome Team: Bedford FC\nAway Team
 : LeBron FC\nHome Score: 5\nAway Score: 0
END:VEVENT
END:VCALENDAR
