BEGIN:VCALENDAR
VERSION:2.0
PRODID:-//EZFacility.com, Inc.//EZL 2.5.5.28621
BEGIN:VEVENT
UID:16882072@ezleagues.ezfacility.com
DTSTAMP:20260425T104104Z
CREATED:20260425T104104Z
DTSTART:20251220T135000Z
DTEND:20251220T144000Z
LOCATION:Car Stereo One Big Field
CONTACT:McNutt
SUMMARY:Rossford VS. LC Goal Getters
DESCRIPTION:League Name: 2025/26 Maumee CS1 Big Field Girls HS-Session 2\nG
 ame Type: Regular\nGame Status: Complete\nHome Team: Rossford\nAway Team: 
 LC Goal Getters\nHome Score: 13\nAway Score: 2
END:VEVENT
BEGIN:VEVENT
UID:16882079@ezleagues.ezfacility.com
DTSTAMP:20260425T104104Z
CREATED:20260425T104104Z
DTSTART:20251227T130000Z
DTEND:20251227T135000Z
LOCATION:Car Stereo One Big Field
CONTACT:Hullinger
SUMMARY:Rossford VS. Lenawee United
DESCRIPTION:League Name: 2025/26 Maumee CS1 Big Field Girls HS-Session 2\nG
 ame Type: Regular\nGame Status: Complete\nHome Team: Rossford\nAway Team: 
 Lenawee United\nHome Score: 3\nAway Score: 7
END:VEVENT
BEGIN:VEVENT
UID:16891633@ezleagues.ezfacility.com
DTSTAMP:20260425T104104Z
CREATED:20260425T104104Z
DTSTART:20251228T121000Z
DTEND:20251228T130000Z
LOCATION:Car Stereo One Big Field
CONTACT:McNutt
SUMMARY:Black Swamp FC VS. Rossford
DESCRIPTION:League Name: 2025/26 Maumee CS1 Big Field Girls HS-Session 2\nG
 ame Type: Regular\nGame Status: Complete\nHome Team: Black Swamp FC\nAway 
 Team: Rossford\nHome Score: 2\nAway Score: 8
END:VEVENT
BEGIN:VEVENT
UID:16882085@ezleagues.ezfacility.com
DTSTAMP:20260425T104104Z
CREATED:20260425T104104Z
DTSTART:20260103T144000Z
DTEND:20260103T153000Z
LOCATION:Car Stereo One Big Field
CONTACT:Hullinger
SUMMARY:BGSC G2008 VS. Rossford
DESCRIPTION:League Name: 2025/26 Maumee CS1 Big Field Girls HS-Session 2\nG
 ame Type: Regular\nGame Status: Complete\nHome Team: BGSC G2008\nAway Team
 : Rossford\nHome Score: 3\nAway Score: 0
END:VEVENT
BEGIN:VEVENT
UID:16882090@ezleagues.ezfacility.com
DTSTAMP:20260425T104104Z
CREATED:20260425T104104Z
DTSTART:20260110T144000Z
DTEND:20260110T153000Z
LOCATION:Car Stereo One Big Field
CONTACT:McNutt
SUMMARY:Rossford VS. Lady Eagles
DESCRIPTION:League Name: 2025/26 Maumee CS1 Big Field Girls HS-Session 2\nG
 ame Type: Regular\nGame Status: Complete\nHome Team: Rossford\nAway Team: 
 Lady Eagles\nHome Score: 2\nAway Score: 6
END:VEVENT
BEGIN:VEVENT
UID:16882095@ezleagues.ezfacility.com
DTSTAMP:20260425T104104Z
CREATED:20260425T104104Z
DTSTART:20260117T130000Z
DTEND:20260117T135000Z
LOCATION:Car Stereo One Big Field
CONTACT:McNutt
SUMMARY:Bedford VS. Rossford
DESCRIPTION:League Name: 2025/26 Maumee CS1 Big Field Girls HS-Session 2\nG
 ame Type: Regular\nGame Status: Complete\nHome Team: Bedford\nAway Team: R
 ossford\nHome Score: 3\nAway Score: 4
END:VEVENT
BEGIN:VEVENT
UID:16882105@ezleagues.ezfacility.com
DTSTAMP:20260425T104104Z
CREATED:20260425T104104Z
DTSTART:20260201T135000Z
DTEND:20260201T144000Z
LOCATION:Car Stereo One Big Field
CONTACT:McNutt
SUMMARY:Orange Kickers VS. Rossford
DESCRIPTION:League Name: 2025/26 Maumee CS1 Big Field Girls HS-Session 2\nG
 ame Type: Regular\nGame Status: Complete\nHome Team: Orange Kickers\nAway 
 Team: Rossford\nHome Score: 6\nAway Score: 3
END:VEVENT
BEGIN:VEVENT
UID:16882100@ezleagues.ezfacility.com
DTSTAMP:20260425T104104Z
CREATED:20260425T104104Z
DTSTART:20260208T213000Z
DTEND:20260208T222000Z
LOCATION:Car Stereo One Big Field
CONTACT:Himmelreich
SUMMARY:Blissfield Royals VS. Rossford
DESCRIPTION:League Name: 2025/26 Maumee CS1 Big Field Girls HS-Session 2\nG
 ame Type: Regular\nGame Status: Complete\nHome Team: Blissfield Royals\nAw
 ay Team: Rossford\nHome Score: 0\nAway Score: 8
END:VEVENT
END:VCALENDAR
