BEGIN:VCALENDAR
VERSION:2.0
PRODID:-//EZFacility.com, Inc.//EZL 2.5.5.28621
BEGIN:VEVENT
UID:16893241@ezleagues.ezfacility.com
DTSTAMP:20260425T013519Z
CREATED:20260425T013519Z
DTSTART:20260106T022000Z
DTEND:20260106T031000Z
LOCATION:Car Stereo One Big Field
CONTACT:Strine
SUMMARY:We Wear Black VS. Black Magic
DESCRIPTION:League Name: 2025/26 Maumee CS1 Big Field Mens Open- Session 2\
 nGame Type: Regular\nGame Status: Complete\nHome Team: We Wear Black\nAway
  Team: Black Magic\nHome Score: 2\nAway Score: 9
END:VEVENT
BEGIN:VEVENT
UID:16893249@ezleagues.ezfacility.com
DTSTAMP:20260425T013519Z
CREATED:20260425T013519Z
DTSTART:20260113T015000Z
DTEND:20260113T024000Z
LOCATION:Car Stereo One Big Field
CONTACT:Strine
SUMMARY:Orange and Black VS. We Wear Black
DESCRIPTION:League Name: 2025/26 Maumee CS1 Big Field Mens Open- Session 2\
 nGame Type: Regular\nGame Status: Complete\nHome Team: Orange and Black\nA
 way Team: We Wear Black\nHome Score: 4\nAway Score: 9
END:VEVENT
BEGIN:VEVENT
UID:16893257@ezleagues.ezfacility.com
DTSTAMP:20260425T013519Z
CREATED:20260425T013519Z
DTSTART:20260120T033000Z
DTEND:20260120T042000Z
LOCATION:Car Stereo One Big Field
CONTACT:Reese - M
SUMMARY:We Wear Black VS. Fremont FC
DESCRIPTION:League Name: 2025/26 Maumee CS1 Big Field Mens Open- Session 2\
 nGame Type: Regular\nGame Status: Complete\nHome Team: We Wear Black\nAway
  Team: Fremont FC\nHome Score: 3\nAway Score: 0
END:VEVENT
BEGIN:VEVENT
UID:16893265@ezleagues.ezfacility.com
DTSTAMP:20260425T013519Z
CREATED:20260425T013519Z
DTSTART:20260129T010000Z
DTEND:20260129T015000Z
LOCATION:Car Stereo One Big Field
CONTACT:Hullinger
SUMMARY:We Wear Black VS. FC Washed
DESCRIPTION:League Name: 2025/26 Maumee CS1 Big Field Mens Open- Session 2\
 nGame Type: Regular\nGame Status: Complete\nHome Team: We Wear Black\nAway
  Team: FC Washed\nHome Score: 7\nAway Score: 8
END:VEVENT
BEGIN:VEVENT
UID:16893273@ezleagues.ezfacility.com
DTSTAMP:20260425T013519Z
CREATED:20260425T013519Z
DTSTART:20260205T033000Z
DTEND:20260205T042000Z
LOCATION:Car Stereo One Big Field
CONTACT:Hullinger
SUMMARY:We Wear Black VS. Survey Corps
DESCRIPTION:League Name: 2025/26 Maumee CS1 Big Field Mens Open- Session 2\
 nGame Type: Regular\nGame Status: Complete\nHome Team: We Wear Black\nAway
  Team: Survey Corps\nHome Score: 7\nAway Score: 9
END:VEVENT
BEGIN:VEVENT
UID:16893221@ezleagues.ezfacility.com
DTSTAMP:20260425T013519Z
CREATED:20260425T013519Z
DTSTART:20260206T033000Z
DTEND:20260206T042000Z
LOCATION:Car Stereo One Big Field
CONTACT:France
SUMMARY:Big Red FC VS. We Wear Black
DESCRIPTION:League Name: 2025/26 Maumee CS1 Big Field Mens Open- Session 2\
 nGame Type: Regular\nGame Status: Complete\nHome Team: Big Red FC\nAway Te
 am: We Wear Black\nHome Score: 4\nAway Score: 6
END:VEVENT
BEGIN:VEVENT
UID:16893227@ezleagues.ezfacility.com
DTSTAMP:20260425T013519Z
CREATED:20260425T013519Z
DTSTART:20260210T024000Z
DTEND:20260210T033000Z
LOCATION:Car Stereo One Big Field
CONTACT:Hullinger
SUMMARY:We Wear White VS. We Wear Black
DESCRIPTION:League Name: 2025/26 Maumee CS1 Big Field Mens Open- Session 2\
 nGame Type: Regular\nGame Status: Complete\nHome Team: We Wear White\nAway
  Team: We Wear Black\nHome Score: 8\nAway Score: 6
END:VEVENT
BEGIN:VEVENT
UID:16893233@ezleagues.ezfacility.com
DTSTAMP:20260425T013519Z
CREATED:20260425T013519Z
DTSTART:20260212T010000Z
DTEND:20260212T015000Z
LOCATION:Car Stereo One Big Field
CONTACT:McFee
SUMMARY:Let's Get Messi VS. We Wear Black
DESCRIPTION:League Name: 2025/26 Maumee CS1 Big Field Mens Open- Session 2\
 nGame Type: Regular\nGame Status: Complete\nHome Team: Let's Get Messi\nAw
 ay Team: We Wear Black\nHome Score: 9\nAway Score: 4
END:VEVENT
END:VCALENDAR
