BEGIN:VCALENDAR
VERSION:2.0
PRODID:-//EZFacility.com, Inc.//EZL 2.5.5.28621
BEGIN:VEVENT
UID:16872242@ezleagues.ezfacility.com
DTSTAMP:20260422T005023Z
CREATED:20260422T005023Z
DTSTART:20251213T173000Z
DTEND:20251213T182000Z
LOCATION:Indoor: Medium Field
CONTACT:
SUMMARY:Liberty - Coach Martell VS. Cowgirls - Coach Kylie
DESCRIPTION:League Name: LEAGUE Winter Indoor 5v5 U8/U9 Girls (2017-18) SAT
 \nGame Type: Regular\nGame Status: Complete\nHome Team: Liberty - Coach Ma
 rtell\nAway Team: Cowgirls - Coach Kylie\nHome Score: 3\nAway Score: 4
END:VEVENT
BEGIN:VEVENT
UID:16872246@ezleagues.ezfacility.com
DTSTAMP:20260422T005023Z
CREATED:20260422T005023Z
DTSTART:20251220T182000Z
DTEND:20251220T191000Z
LOCATION:Indoor: Medium Field
CONTACT:
SUMMARY:Cowgirls - Coach Kylie VS. Roadrunners - Coach Amaris
DESCRIPTION:League Name: LEAGUE Winter Indoor 5v5 U8/U9 Girls (2017-18) SAT
 \nGame Type: Regular\nGame Status: Complete\nHome Team: Cowgirls - Coach K
 ylie\nAway Team: Roadrunners - Coach Amaris\nHome Score: 5\nAway Score: 5
END:VEVENT
BEGIN:VEVENT
UID:16872258@ezleagues.ezfacility.com
DTSTAMP:20260422T005023Z
CREATED:20260422T005023Z
DTSTART:20260110T173000Z
DTEND:20260110T182000Z
LOCATION:Indoor: Medium Field
CONTACT:
SUMMARY:Strikers - Coach Grayson VS. Cowgirls - Coach Kylie
DESCRIPTION:League Name: LEAGUE Winter Indoor 5v5 U8/U9 Girls (2017-18) SAT
 \nGame Type: Regular\nGame Status: Complete\nHome Team: Strikers - Coach G
 rayson\nAway Team: Cowgirls - Coach Kylie\nHome Score: 12\nAway Score: 0
END:VEVENT
BEGIN:VEVENT
UID:16872262@ezleagues.ezfacility.com
DTSTAMP:20260422T005023Z
CREATED:20260422T005023Z
DTSTART:20260117T173000Z
DTEND:20260117T182000Z
LOCATION:Indoor: Medium Field
CONTACT:
SUMMARY:Cowgirls - Coach Kylie VS. Pacers - Coach Celi
DESCRIPTION:League Name: LEAGUE Winter Indoor 5v5 U8/U9 Girls (2017-18) SAT
 \nGame Type: Regular\nGame Status: Complete\nHome Team: Cowgirls - Coach K
 ylie\nAway Team: Pacers - Coach Celi\nHome Score: 0\nAway Score: 12
END:VEVENT
BEGIN:VEVENT
UID:16872266@ezleagues.ezfacility.com
DTSTAMP:20260422T005023Z
CREATED:20260422T005023Z
DTSTART:20260124T173000Z
DTEND:20260124T182000Z
LOCATION:Indoor: Medium Field
CONTACT:
SUMMARY:Cowgirls - Coach Kylie VS. Hawks - Coach Chasity
DESCRIPTION:League Name: LEAGUE Winter Indoor 5v5 U8/U9 Girls (2017-18) SAT
 \nGame Type: Regular\nGame Status: Complete\nHome Team: Cowgirls - Coach K
 ylie\nAway Team: Hawks - Coach Chasity\nHome Score: 1\nAway Score: 8
END:VEVENT
BEGIN:VEVENT
UID:16872270@ezleagues.ezfacility.com
DTSTAMP:20260422T005023Z
CREATED:20260422T005023Z
DTSTART:20260131T173000Z
DTEND:20260131T182000Z
LOCATION:Indoor: Medium Field
CONTACT:
SUMMARY:Cowgirls - Coach Kylie VS. Liberty - Coach Martell
DESCRIPTION:League Name: LEAGUE Winter Indoor 5v5 U8/U9 Girls (2017-18) SAT
 \nGame Type: Regular\nGame Status: Complete\nHome Team: Cowgirls - Coach K
 ylie\nAway Team: Liberty - Coach Martell\nHome Score: 3\nAway Score: 9
END:VEVENT
BEGIN:VEVENT
UID:16872274@ezleagues.ezfacility.com
DTSTAMP:20260422T005023Z
CREATED:20260422T005023Z
DTSTART:20260207T173000Z
DTEND:20260207T182000Z
LOCATION:Indoor: Medium Field
CONTACT:
SUMMARY:Roadrunners - Coach Amaris VS. Cowgirls - Coach Kylie
DESCRIPTION:League Name: LEAGUE Winter Indoor 5v5 U8/U9 Girls (2017-18) SAT
 \nGame Type: Regular\nGame Status: Complete\nHome Team: Roadrunners - Coac
 h Amaris\nAway Team: Cowgirls - Coach Kylie\nHome Score: 5\nAway Score: 4
END:VEVENT
BEGIN:VEVENT
UID:16872250@ezleagues.ezfacility.com
DTSTAMP:20260422T005023Z
CREATED:20260422T005023Z
DTSTART:20260214T150000Z
DTEND:20260214T155000Z
LOCATION:Indoor: Medium Field
CONTACT:
SUMMARY:Vipers - Coach Edward VS. Cowgirls - Coach Kylie
DESCRIPTION:League Name: LEAGUE Winter Indoor 5v5 U8/U9 Girls (2017-18) SAT
 \nGame Type: Regular\nGame Status: Complete\nHome Team: Vipers - Coach Edw
 ard\nAway Team: Cowgirls - Coach Kylie\nHome Score: 12\nAway Score: 10
END:VEVENT
END:VCALENDAR
