BEGIN:VCALENDAR
VERSION:2.0
PRODID:-//EZFacility.com, Inc.//EZL 2.5.5.28621
BEGIN:VEVENT
UID:16895688@ezleagues.ezfacility.com
DTSTAMP:20260426T035013Z
CREATED:20260426T035013Z
DTSTART:20260119T180000Z
DTEND:20260119T190000Z
LOCATION:Field 3
CONTACT:
SUMMARY:Camp Hill SC U12F VS. NEYSA Bobcats
DESCRIPTION:League Name: U12G Lower S2 2025-26\nGame Type: Regular\nGame St
 atus: Complete\nHome Team: Camp Hill SC U12F\nAway Team: NEYSA Bobcats\nHo
 me Score: 7\nAway Score: 2
END:VEVENT
BEGIN:VEVENT
UID:16895650@ezleagues.ezfacility.com
DTSTAMP:20260426T035013Z
CREATED:20260426T035013Z
DTSTART:20260201T220000Z
DTEND:20260201T230000Z
LOCATION:Field 2
CONTACT:
SUMMARY:NEYSA Bobcats VS. Fusion FC Coyotes
DESCRIPTION:League Name: U12G Lower S2 2025-26\nGame Type: Regular\nGame St
 atus: Complete\nHome Team: NEYSA Bobcats\nAway Team: Fusion FC Coyotes\nHo
 me Score: 0\nAway Score: 10
END:VEVENT
BEGIN:VEVENT
UID:16895730@ezleagues.ezfacility.com
DTSTAMP:20260426T035013Z
CREATED:20260426T035013Z
DTSTART:20260222T220000Z
DTEND:20260222T230000Z
LOCATION:Field 1
CONTACT:
SUMMARY:NEYSA Bobcats VS. DASC Purple Tornadoes
DESCRIPTION:League Name: U12G Lower S2 2025-26\nGame Type: Regular\nGame St
 atus: Complete\nHome Team: NEYSA Bobcats\nAway Team: DASC Purple Tornadoes
 \nHome Score: 1\nAway Score: 11
END:VEVENT
BEGIN:VEVENT
UID:16895751@ezleagues.ezfacility.com
DTSTAMP:20260426T035013Z
CREATED:20260426T035013Z
DTSTART:20260308T230000Z
DTEND:20260309T000000Z
LOCATION:Field 1
CONTACT:
SUMMARY:NEYSA Bobcats VS. Hawkrock U12G
DESCRIPTION:League Name: U12G Lower S2 2025-26\nGame Type: Regular\nGame St
 atus: Complete\nHome Team: NEYSA Bobcats\nAway Team: Hawkrock U12G\nHome S
 core: 2\nAway Score: 10
END:VEVENT
BEGIN:VEVENT
UID:16895771@ezleagues.ezfacility.com
DTSTAMP:20260426T035013Z
CREATED:20260426T035013Z
DTSTART:20260315T130000Z
DTEND:20260315T140000Z
LOCATION:Field 2
CONTACT:
SUMMARY:ASD VS. NEYSA Bobcats
DESCRIPTION:League Name: U12G Lower S2 2025-26\nGame Type: Regular\nGame St
 atus: Complete\nHome Team: ASD\nAway Team: NEYSA Bobcats\nHome Score: 10\n
 Away Score: 1
END:VEVENT
BEGIN:VEVENT
UID:16895790@ezleagues.ezfacility.com
DTSTAMP:20260426T035013Z
CREATED:20260426T035013Z
DTSTART:20260322T200000Z
DTEND:20260322T210000Z
LOCATION:Field 3
CONTACT:
SUMMARY:Fusion FC Coyotes VS. NEYSA Bobcats
DESCRIPTION:League Name: U12G Lower S2 2025-26\nGame Type: Regular\nGame St
 atus: Complete\nHome Team: Fusion FC Coyotes\nAway Team: NEYSA Bobcats\nHo
 me Score: 11\nAway Score: 1
END:VEVENT
BEGIN:VEVENT
UID:16895709@ezleagues.ezfacility.com
DTSTAMP:20260426T035013Z
CREATED:20260426T035013Z
DTSTART:20260328T000000Z
DTEND:20260328T010000Z
LOCATION:Field 2
CONTACT:
SUMMARY:NEYSA Bobcats VS. Keystone FC Premier 14G
DESCRIPTION:League Name: U12G Lower S2 2025-26\nGame Type: Regular\nGame St
 atus: Complete\nHome Team: NEYSA Bobcats\nAway Team: Keystone FC Premier 1
 4G\nHome Score: 2\nAway Score: 10
END:VEVENT
BEGIN:VEVENT
UID:16895669@ezleagues.ezfacility.com
DTSTAMP:20260426T035013Z
CREATED:20260426T035013Z
DTSTART:20260329T230000Z
DTEND:20260330T000000Z
LOCATION:Field 1
CONTACT:
SUMMARY:Hawkrock U12G VS. NEYSA Bobcats
DESCRIPTION:League Name: U12G Lower S2 2025-26\nGame Type: Regular\nGame St
 atus: Complete\nHome Team: Hawkrock U12G\nAway Team: NEYSA Bobcats\nHome S
 core: 7\nAway Score: 0
END:VEVENT
END:VCALENDAR
