BEGIN:VCALENDAR
VERSION:2.0
PRODID:-//EZFacility.com, Inc.//EZL 2.5.5.28621
BEGIN:VEVENT
UID:17036029@ezleagues.ezfacility.com
DTSTAMP:20260423T093010Z
CREATED:20260423T093010Z
DTSTART:20260303T021000Z
DTEND:20260303T031000Z
LOCATION:Davidson GMC - Court #3
CONTACT:
SUMMARY:Team Cliffs VS. The Munches
DESCRIPTION:League Name: Adult COED Basketball\nGame Type: Regular\nGame St
 atus: Complete\nHome Team: Team Cliffs\nAway Team: The Munches\nHome Score
 : 44\nAway Score: 71
END:VEVENT
BEGIN:VEVENT
UID:17047225@ezleagues.ezfacility.com
DTSTAMP:20260423T093010Z
CREATED:20260423T093010Z
DTSTART:20260310T001000Z
DTEND:20260310T011000Z
LOCATION:Davidson Buick - Court #2
CONTACT:
SUMMARY:Team Cliffs VS. The Poets
DESCRIPTION:League Name: Adult COED Basketball\nGame Type: Regular\nGame St
 atus: Complete\nHome Team: Team Cliffs\nAway Team: The Poets\nHome Score: 
 39\nAway Score: 61
END:VEVENT
BEGIN:VEVENT
UID:17056253@ezleagues.ezfacility.com
DTSTAMP:20260423T093010Z
CREATED:20260423T093010Z
DTSTART:20260317T011000Z
DTEND:20260317T021000Z
LOCATION:Davidson Buick - Court #2
CONTACT:
SUMMARY:Accelerate Red - By Nissan VS. Team Cliffs
DESCRIPTION:League Name: Adult COED Basketball\nGame Type: Regular\nGame St
 atus: Complete\nHome Team: Accelerate Red - By Nissan\nAway Team: Team Cli
 ffs\nHome Score: 68\nAway Score: 52
END:VEVENT
BEGIN:VEVENT
UID:17066594@ezleagues.ezfacility.com
DTSTAMP:20260423T093010Z
CREATED:20260423T093010Z
DTSTART:20260324T001000Z
DTEND:20260324T011000Z
LOCATION:Davidson Chevrolet - Court #1
CONTACT:
SUMMARY:Team Cliffs VS. Cash Out Kings
DESCRIPTION:League Name: Adult COED Basketball\nGame Type: Regular\nGame St
 atus: Complete\nHome Team: Team Cliffs\nAway Team: Cash Out Kings\nHome Sc
 ore: 41\nAway Score: 76
END:VEVENT
BEGIN:VEVENT
UID:17066679@ezleagues.ezfacility.com
DTSTAMP:20260423T093010Z
CREATED:20260423T093010Z
DTSTART:20260331T011000Z
DTEND:20260331T021000Z
LOCATION:Davidson Chevrolet - Court #1
CONTACT:
SUMMARY:Team Cliffs VS. Team 315
DESCRIPTION:League Name: Adult COED Basketball\nGame Type: Regular\nGame St
 atus: Complete\nHome Team: Team Cliffs\nAway Team: Team 315\nHome Score: 5
 0\nAway Score: 104
END:VEVENT
BEGIN:VEVENT
UID:17075665@ezleagues.ezfacility.com
DTSTAMP:20260423T093010Z
CREATED:20260423T093010Z
DTSTART:20260407T011000Z
DTEND:20260407T021000Z
LOCATION:Davidson Buick - Court #2
CONTACT:
SUMMARY:Team Cliffs VS. The Sombor Shufflers
DESCRIPTION:League Name: Adult COED Basketball\nGame Type: Regular\nGame St
 atus: Complete\nHome Team: Team Cliffs\nAway Team: The Sombor Shufflers\nH
 ome Score: 28\nAway Score: 86
END:VEVENT
BEGIN:VEVENT
UID:17094742@ezleagues.ezfacility.com
DTSTAMP:20260423T093010Z
CREATED:20260423T093010Z
DTSTART:20260414T001000Z
DTEND:20260414T011000Z
LOCATION:Davidson Buick - Court #2
CONTACT:
SUMMARY:Team Cliffs VS. Benchwarmers
DESCRIPTION:League Name: Adult COED Basketball\nGame Type: Regular\nGame St
 atus: Complete\nHome Team: Team Cliffs\nAway Team: Benchwarmers\nHome Scor
 e: 43\nAway Score: 44
END:VEVENT
BEGIN:VEVENT
UID:17094751@ezleagues.ezfacility.com
DTSTAMP:20260423T093010Z
CREATED:20260423T093010Z
DTSTART:20260421T001000Z
DTEND:20260421T011000Z
LOCATION:Davidson Buick - Court #2
CONTACT:
SUMMARY:Team Cliffs VS. Cash Out Kings
DESCRIPTION:League Name: Adult COED Basketball\nGame Type: Regular\nGame St
 atus: Complete\nHome Team: Team Cliffs\nAway Team: Cash Out Kings\nHome Sc
 ore: 43\nAway Score: 79
END:VEVENT
BEGIN:VEVENT
UID:17094753@ezleagues.ezfacility.com
DTSTAMP:20260423T093010Z
CREATED:20260423T093010Z
DTSTART:20260428T001000Z
DTEND:20260428T011000Z
LOCATION:Davidson Chevrolet - Court #1
CONTACT:
SUMMARY:The Munches VS. Team Cliffs
DESCRIPTION:League Name: Adult COED Basketball\nGame Type: Regular\nGame St
 atus: Pending\nHome Team: The Munches\nAway Team: Team Cliffs\n
END:VEVENT
END:VCALENDAR
