BEGIN:VCALENDAR
VERSION:2.0
PRODID:-//EZFacility.com, Inc.//EZL 2.5.5.28621
BEGIN:VEVENT
UID:16873075@ezleagues.ezfacility.com
DTSTAMP:20260424T044402Z
CREATED:20260424T044402Z
DTSTART:20251214T204000Z
DTEND:20251214T213000Z
LOCATION:Indoor: Small Field
CONTACT:
SUMMARY:Bulldogs - Coach Martell VS. Flyers - Coach Edward
DESCRIPTION:League Name: LEAGUE Winter Indoor 4v4 - U7 Boys (2019) - SUN\nG
 ame Type: Regular\nGame Status: Pending\nHome Team: Bulldogs - Coach Marte
 ll\nAway Team: Flyers - Coach Edward\n
END:VEVENT
BEGIN:VEVENT
UID:16873079@ezleagues.ezfacility.com
DTSTAMP:20260424T044402Z
CREATED:20260424T044402Z
DTSTART:20251221T194000Z
DTEND:20251221T203000Z
LOCATION:Indoor: Small Field
CONTACT:
SUMMARY:Bulldogs - Coach Martell VS. Outlaws - Coach Dustin
DESCRIPTION:League Name: LEAGUE Winter Indoor 4v4 - U7 Boys (2019) - SUN\nG
 ame Type: Regular\nGame Status: Pending\nHome Team: Bulldogs - Coach Marte
 ll\nAway Team: Outlaws - Coach Dustin\n
END:VEVENT
BEGIN:VEVENT
UID:16873087@ezleagues.ezfacility.com
DTSTAMP:20260424T044402Z
CREATED:20260424T044402Z
DTSTART:20260104T222000Z
DTEND:20260104T231000Z
LOCATION:Indoor: Small Field
CONTACT:
SUMMARY:Bulldogs - Coach Martell VS. Thunder - Coach Kylie
DESCRIPTION:League Name: LEAGUE Winter Indoor 4v4 - U7 Boys (2019) - SUN\nG
 ame Type: Regular\nGame Status: Pending\nHome Team: Bulldogs - Coach Marte
 ll\nAway Team: Thunder - Coach Kylie\n
END:VEVENT
BEGIN:VEVENT
UID:16873091@ezleagues.ezfacility.com
DTSTAMP:20260424T044402Z
CREATED:20260424T044402Z
DTSTART:20260111T204000Z
DTEND:20260111T213000Z
LOCATION:Indoor: Small Field
CONTACT:
SUMMARY:Spiders - Coach Dominik VS. Bulldogs - Coach Martell
DESCRIPTION:League Name: LEAGUE Winter Indoor 4v4 - U7 Boys (2019) - SUN\nG
 ame Type: Regular\nGame Status: Pending\nHome Team: Spiders - Coach Domini
 k\nAway Team: Bulldogs - Coach Martell\n
END:VEVENT
BEGIN:VEVENT
UID:16873095@ezleagues.ezfacility.com
DTSTAMP:20260424T044402Z
CREATED:20260424T044402Z
DTSTART:20260118T204000Z
DTEND:20260118T213000Z
LOCATION:Indoor: Small Field
CONTACT:
SUMMARY:Hornets - Coach Reylen VS. Bulldogs - Coach Martell
DESCRIPTION:League Name: LEAGUE Winter Indoor 4v4 - U7 Boys (2019) - SUN\nG
 ame Type: Regular\nGame Status: Pending\nHome Team: Hornets - Coach Reylen
 \nAway Team: Bulldogs - Coach Martell\n
END:VEVENT
BEGIN:VEVENT
UID:16873103@ezleagues.ezfacility.com
DTSTAMP:20260424T044402Z
CREATED:20260424T044402Z
DTSTART:20260201T222000Z
DTEND:20260201T231000Z
LOCATION:Indoor: Small Field
CONTACT:
SUMMARY:Flyers - Coach Edward VS. Bulldogs - Coach Martell
DESCRIPTION:League Name: LEAGUE Winter Indoor 4v4 - U7 Boys (2019) - SUN\nG
 ame Type: Regular\nGame Status: Pending\nHome Team: Flyers - Coach Edward\
 nAway Team: Bulldogs - Coach Martell\n
END:VEVENT
BEGIN:VEVENT
UID:16873083@ezleagues.ezfacility.com
DTSTAMP:20260424T044402Z
CREATED:20260424T044402Z
DTSTART:20260208T194000Z
DTEND:20260208T203000Z
LOCATION:Indoor: Small Field
CONTACT:
SUMMARY:Bulldogs - Coach Martell VS. Surge - Coach Miguel
DESCRIPTION:League Name: LEAGUE Winter Indoor 4v4 - U7 Boys (2019) - SUN\nG
 ame Type: Regular\nGame Status: Pending\nHome Team: Bulldogs - Coach Marte
 ll\nAway Team: Surge - Coach Miguel\n
END:VEVENT
BEGIN:VEVENT
UID:16873099@ezleagues.ezfacility.com
DTSTAMP:20260424T044402Z
CREATED:20260424T044402Z
DTSTART:20260222T185000Z
DTEND:20260222T194000Z
LOCATION:Indoor: Small Field
CONTACT:
SUMMARY:Cougars - Coach Grayson VS. Bulldogs - Coach Martell
DESCRIPTION:League Name: LEAGUE Winter Indoor 4v4 - U7 Boys (2019) - SUN\nG
 ame Type: Regular\nGame Status: Pending\nHome Team: Cougars - Coach Grayso
 n\nAway Team: Bulldogs - Coach Martell\n
END:VEVENT
END:VCALENDAR
