BEGIN:VCALENDAR
VERSION:2.0
PRODID:-//EZFacility.com, Inc.//EZL 2.5.5.28621
BEGIN:VEVENT
UID:16893224@ezleagues.ezfacility.com
DTSTAMP:20260424T044404Z
CREATED:20260424T044404Z
DTSTART:20251218T040000Z
DTEND:20251218T045000Z
LOCATION:Car Stereo One Big Field
CONTACT:McFee
SUMMARY:DBKQ VS. Unathletico Madrid
DESCRIPTION:League Name: 2025/26 Maumee CS1 Big Field Mens Open- Session 2\
 nGame Type: Regular\nGame Status: Complete\nHome Team: DBKQ\nAway Team: Un
 athletico Madrid\nHome Score: 1\nAway Score: 10
END:VEVENT
BEGIN:VEVENT
UID:16893245@ezleagues.ezfacility.com
DTSTAMP:20260424T044404Z
CREATED:20260424T044404Z
DTSTART:20260108T033000Z
DTEND:20260108T042000Z
LOCATION:Car Stereo One Big Field
CONTACT:Reese - M
SUMMARY:DBKQ VS. Nip Nation
DESCRIPTION:League Name: 2025/26 Maumee CS1 Big Field Mens Open- Session 2\
 nGame Type: Regular\nGame Status: Complete\nHome Team: DBKQ\nAway Team: Ni
 p Nation\nHome Score: 9\nAway Score: 1
END:VEVENT
BEGIN:VEVENT
UID:16914014@ezleagues.ezfacility.com
DTSTAMP:20260424T044404Z
CREATED:20260424T044404Z
DTSTART:20260120T033000Z
DTEND:20260120T042000Z
LOCATION:Car Stereo One Big Field
CONTACT:Reese - M
SUMMARY:DBKQ VS. Beercelona FC
DESCRIPTION:League Name: 2025/26 Maumee CS1 Big Field Mens Open- Session 2\
 nGame Type: Regular\nGame Status: Complete\nHome Team: DBKQ\nAway Team: Be
 ercelona FC\nHome Score: 6\nAway Score: 1
END:VEVENT
BEGIN:VEVENT
UID:16893263@ezleagues.ezfacility.com
DTSTAMP:20260424T044404Z
CREATED:20260424T044404Z
DTSTART:20260127T024000Z
DTEND:20260127T033000Z
LOCATION:Car Stereo One Big Field
CONTACT:Reese - M
SUMMARY:Black Magic VS. DBKQ
DESCRIPTION:League Name: 2025/26 Maumee CS1 Big Field Mens Open- Session 2\
 nGame Type: Regular\nGame Status: Complete\nHome Team: Black Magic\nAway T
 eam: DBKQ\nHome Score: 6\nAway Score: 3
END:VEVENT
BEGIN:VEVENT
UID:16893269@ezleagues.ezfacility.com
DTSTAMP:20260424T044404Z
CREATED:20260424T044404Z
DTSTART:20260203T024000Z
DTEND:20260203T033000Z
LOCATION:Car Stereo One Big Field
CONTACT:Ohene-Larbi
SUMMARY:Orange and Black VS. DBKQ
DESCRIPTION:League Name: 2025/26 Maumee CS1 Big Field Mens Open- Session 2\
 nGame Type: Regular\nGame Status: Complete\nHome Team: Orange and Black\nA
 way Team: DBKQ\nHome Score: 5\nAway Score: 9
END:VEVENT
BEGIN:VEVENT
UID:16893232@ezleagues.ezfacility.com
DTSTAMP:20260424T044404Z
CREATED:20260424T044404Z
DTSTART:20260210T033000Z
DTEND:20260210T042000Z
LOCATION:Car Stereo One Big Field
CONTACT:Hullinger
SUMMARY:DBKQ VS. We Wear Blue
DESCRIPTION:League Name: 2025/26 Maumee CS1 Big Field Mens Open- Session 2\
 nGame Type: Regular\nGame Status: Complete\nHome Team: DBKQ\nAway Team: We
  Wear Blue\nHome Score: 9\nAway Score: 5
END:VEVENT
BEGIN:VEVENT
UID:16893239@ezleagues.ezfacility.com
DTSTAMP:20260424T044404Z
CREATED:20260424T044404Z
DTSTART:20260212T024000Z
DTEND:20260212T033000Z
LOCATION:Car Stereo One Big Field
CONTACT:Ohene-Larbi
SUMMARY:Futbol Freaks FC VS. DBKQ
DESCRIPTION:League Name: 2025/26 Maumee CS1 Big Field Mens Open- Session 2\
 nGame Type: Regular\nGame Status: Complete\nHome Team: Futbol Freaks FC\nA
 way Team: DBKQ\nHome Score: 3\nAway Score: 7
END:VEVENT
BEGIN:VEVENT
UID:16893251@ezleagues.ezfacility.com
DTSTAMP:20260424T044404Z
CREATED:20260424T044404Z
DTSTART:20260216T031000Z
DTEND:20260216T040000Z
LOCATION:Car Stereo One Big Field
CONTACT:Ohene-Larbi
SUMMARY:DBKQ VS. Survey Corps
DESCRIPTION:League Name: 2025/26 Maumee CS1 Big Field Mens Open- Session 2\
 nGame Type: Regular\nGame Status: Complete\nHome Team: DBKQ\nAway Team: Su
 rvey Corps\nHome Score: 10\nAway Score: 5
END:VEVENT
END:VCALENDAR
