BEGIN:VCALENDAR
VERSION:2.0
PRODID:-//EZFacility.com, Inc.//EZL 2.5.5.28621
BEGIN:VEVENT
UID:16874401@ezleagues.ezfacility.com
DTSTAMP:20260424T184533Z
CREATED:20260424T184533Z
DTSTART:20251212T220000Z
DTEND:20251212T230000Z
LOCATION:Harmans Premier Field #5
CONTACT:
SUMMARY:HSG Roadrunners 1 VS. HSG Swarm FC
DESCRIPTION:League Name: Youth (Winter 1) SD2 (M,T,F) HighSchool Girls*DIV2
 \nGame Type: Regular\nGame Status: Complete\nHome Team: HSG Roadrunners 1\
 nAway Team: HSG Swarm FC\nHome Score: 8\nAway Score: 2
END:VEVENT
BEGIN:VEVENT
UID:16874407@ezleagues.ezfacility.com
DTSTAMP:20260424T184533Z
CREATED:20260424T184533Z
DTSTART:20251219T230000Z
DTEND:20251220T000000Z
LOCATION:Harmans Premier Field #4
CONTACT:
SUMMARY:HSG ASA Spirit  VS. HSG Swarm FC
DESCRIPTION:League Name: Youth (Winter 1) SD2 (M,T,F) HighSchool Girls*DIV2
 \nGame Type: Regular\nGame Status: Complete\nHome Team: HSG ASA Spirit \nA
 way Team: HSG Swarm FC\nHome Score: 1\nAway Score: 3
END:VEVENT
BEGIN:VEVENT
UID:16874413@ezleagues.ezfacility.com
DTSTAMP:20260424T184533Z
CREATED:20260424T184533Z
DTSTART:20260102T220000Z
DTEND:20260102T230000Z
LOCATION:Harmans Premier Field #4
CONTACT:
SUMMARY:HSG Mustangs VS. HSG Swarm FC
DESCRIPTION:League Name: Youth (Winter 1) SD2 (M,T,F) HighSchool Girls*DIV2
 \nGame Type: Regular\nGame Status: Complete\nHome Team: HSG Mustangs\nAway
  Team: HSG Swarm FC\nHome Score: 6\nAway Score: 3
END:VEVENT
BEGIN:VEVENT
UID:16874427@ezleagues.ezfacility.com
DTSTAMP:20260424T184533Z
CREATED:20260424T184533Z
DTSTART:20260109T230000Z
DTEND:20260110T000000Z
LOCATION:Harmans Premier Field #4
CONTACT:
SUMMARY:HSG Swarm FC VS. HSG ASA Wildcats
DESCRIPTION:League Name: Youth (Winter 1) SD2 (M,T,F) HighSchool Girls*DIV2
 \nGame Type: Regular\nGame Status: Complete\nHome Team: HSG Swarm FC\nAway
  Team: HSG ASA Wildcats\nHome Score: 4\nAway Score: 3
END:VEVENT
BEGIN:VEVENT
UID:16874435@ezleagues.ezfacility.com
DTSTAMP:20260424T184533Z
CREATED:20260424T184533Z
DTSTART:20260113T230000Z
DTEND:20260114T000000Z
LOCATION:Harmans Premier Field #4
CONTACT:
SUMMARY:HSG Swarm FC VS. HSG Roadrunners 2
DESCRIPTION:League Name: Youth (Winter 1) SD2 (M,T,F) HighSchool Girls*DIV2
 \nGame Type: Regular\nGame Status: Complete\nHome Team: HSG Swarm FC\nAway
  Team: HSG Roadrunners 2\nHome Score: 1\nAway Score: 7
END:VEVENT
BEGIN:VEVENT
UID:16874419@ezleagues.ezfacility.com
DTSTAMP:20260424T184533Z
CREATED:20260424T184533Z
DTSTART:20260123T220000Z
DTEND:20260123T230000Z
LOCATION:Harmans Premier Field #5
CONTACT:
SUMMARY:HSG Swarm FC VS. HSG Arden FC
DESCRIPTION:League Name: Youth (Winter 1) SD2 (M,T,F) HighSchool Girls*DIV2
 \nGame Type: Regular\nGame Status: Complete\nHome Team: HSG Swarm FC\nAway
  Team: HSG Arden FC\nHome Score: 0\nAway Score: 7
END:VEVENT
BEGIN:VEVENT
UID:16874394@ezleagues.ezfacility.com
DTSTAMP:20260424T184533Z
CREATED:20260424T184533Z
DTSTART:20260203T230000Z
DTEND:20260204T000000Z
LOCATION:Harmans Premier Field #5
CONTACT:
SUMMARY:HSG Swarm FC VS. HSG Greyhounds
DESCRIPTION:League Name: Youth (Winter 1) SD2 (M,T,F) HighSchool Girls*DIV2
 \nGame Type: Regular\nGame Status: Complete\nHome Team: HSG Swarm FC\nAway
  Team: HSG Greyhounds\nHome Score: 3\nAway Score: 4
END:VEVENT
END:VCALENDAR
