BEGIN:VCALENDAR
VERSION:2.0
PRODID:-//EZFacility.com, Inc.//EZL 2.5.5.28621
BEGIN:VEVENT
UID:16875944@ezleagues.ezfacility.com
DTSTAMP:20260422T115315Z
CREATED:20260422T115315Z
DTSTART:20251207T173000Z
DTEND:20251207T183000Z
LOCATION:Messi Field
CONTACT:
SUMMARY:Brookwood FC VS. HFSA 16B Black
DESCRIPTION:League Name: Winter 2025/2026 – U10 Boys D1\nGame Type: Regul
 ar\nGame Status: Complete\nHome Team: Brookwood FC\nAway Team: HFSA 16B Bl
 ack\nHome Score: 13\nAway Score: 1
END:VEVENT
BEGIN:VEVENT
UID:16875950@ezleagues.ezfacility.com
DTSTAMP:20260422T115315Z
CREATED:20260422T115315Z
DTSTART:20251214T164500Z
DTEND:20251214T174500Z
LOCATION:Miletich Court
CONTACT:
SUMMARY:Brookwood FC VS. The Avengers
DESCRIPTION:League Name: Winter 2025/2026 – U10 Boys D1\nGame Type: Regul
 ar\nGame Status: Complete\nHome Team: Brookwood FC\nAway Team: The Avenger
 s\nHome Score: 10\nAway Score: 2
END:VEVENT
BEGIN:VEVENT
UID:16875967@ezleagues.ezfacility.com
DTSTAMP:20260422T115315Z
CREATED:20260422T115315Z
DTSTART:20260104T203000Z
DTEND:20260104T213000Z
LOCATION:Messi Field
CONTACT:
SUMMARY:Dragons VS. Brookwood FC
DESCRIPTION:League Name: Winter 2025/2026 – U10 Boys D1\nGame Type: Regul
 ar\nGame Status: Complete\nHome Team: Dragons\nAway Team: Brookwood FC\nHo
 me Score: 3\nAway Score: 5
END:VEVENT
BEGIN:VEVENT
UID:16875971@ezleagues.ezfacility.com
DTSTAMP:20260422T115315Z
CREATED:20260422T115315Z
DTSTART:20260112T011500Z
DTEND:20260112T021500Z
LOCATION:Miletich Court
CONTACT:
SUMMARY:Jaguares 2016 VS. Brookwood FC
DESCRIPTION:League Name: Winter 2025/2026 – U10 Boys D1\nGame Type: Regul
 ar\nGame Status: Complete\nHome Team: Jaguares 2016\nAway Team: Brookwood 
 FC\nHome Score: 4\nAway Score: 7
END:VEVENT
BEGIN:VEVENT
UID:16875975@ezleagues.ezfacility.com
DTSTAMP:20260422T115315Z
CREATED:20260422T115315Z
DTSTART:20260118T183000Z
DTEND:20260118T193000Z
LOCATION:Messi Field
CONTACT:
SUMMARY:Westside Metros 17B Copa Red VS. Brookwood FC
DESCRIPTION:League Name: Winter 2025/2026 – U10 Boys D1\nGame Type: Regul
 ar\nGame Status: Complete\nHome Team: Westside Metros 17B Copa Red\nAway T
 eam: Brookwood FC\nHome Score: 4\nAway Score: 17
END:VEVENT
BEGIN:VEVENT
UID:16875979@ezleagues.ezfacility.com
DTSTAMP:20260422T115315Z
CREATED:20260422T115315Z
DTSTART:20260125T184500Z
DTEND:20260125T194500Z
LOCATION:Miletich Court
CONTACT:
SUMMARY:Hillsboro Rush 2016B Blue VS. Brookwood FC
DESCRIPTION:League Name: Winter 2025/2026 – U10 Boys D1\nGame Type: Regul
 ar\nGame Status: Complete\nHome Team: Hillsboro Rush 2016B Blue\nAway Team
 : Brookwood FC\nHome Score: 10\nAway Score: 3
END:VEVENT
BEGIN:VEVENT
UID:16875956@ezleagues.ezfacility.com
DTSTAMP:20260422T115315Z
CREATED:20260422T115315Z
DTSTART:20260201T163000Z
DTEND:20260201T173000Z
LOCATION:Messi Field
CONTACT:
SUMMARY:Brookwood FC VS. Reedville FC
DESCRIPTION:League Name: Winter 2025/2026 – U10 Boys D1\nGame Type: Regul
 ar\nGame Status: Complete\nHome Team: Brookwood FC\nAway Team: Reedville F
 C\nHome Score: 10\nAway Score: 7
END:VEVENT
BEGIN:VEVENT
UID:16875962@ezleagues.ezfacility.com
DTSTAMP:20260422T115315Z
CREATED:20260422T115315Z
DTSTART:20260209T023000Z
DTEND:20260209T033000Z
LOCATION:Messi Field
CONTACT:
SUMMARY:Brookwood FC VS. FCB
DESCRIPTION:League Name: Winter 2025/2026 – U10 Boys D1\nGame Type: Regul
 ar\nGame Status: Complete\nHome Team: Brookwood FC\nAway Team: FCB\nHome S
 core: 9\nAway Score: 2
END:VEVENT
BEGIN:VEVENT
UID:17012745@ezleagues.ezfacility.com
DTSTAMP:20260422T115315Z
CREATED:20260422T115315Z
DTSTART:20260215T194500Z
DTEND:20260215T204500Z
LOCATION:Messi Field
CONTACT:
SUMMARY:Brookwood FC VS. Hillsboro Rush 2016B Blue
DESCRIPTION:League Name: Winter 2025/2026 – U10 Boys D1\nGame Type: Regul
 ar\nGame Status: Pending\nHome Team: Brookwood FC\nAway Team: Hillsboro Ru
 sh 2016B Blue\n
END:VEVENT
END:VCALENDAR
