BEGIN:VCALENDAR
VERSION:2.0
PRODID:-//EZFacility.com, Inc.//EZL 2.5.5.28621
BEGIN:VEVENT
UID:16878036@ezleagues.ezfacility.com
DTSTAMP:20260424T044212Z
CREATED:20260424T044212Z
DTSTART:20251205T011000Z
DTEND:20251205T021000Z
LOCATION:Forest Grove Sports Complex B
CONTACT:
SUMMARY:2015 Boys QCS Select VS. Sporting Iowa 2015 Boys
DESCRIPTION:League Name: Winter 2025-2026 11U Boys Winter Soccer League- Se
 ssion 1\nGame Type: Regular\nGame Status: Complete\nHome Team: 2015 Boys Q
 CS Select\nAway Team: Sporting Iowa 2015 Boys\nHome Score: 8\nAway Score: 
 1
END:VEVENT
BEGIN:VEVENT
UID:16878038@ezleagues.ezfacility.com
DTSTAMP:20260424T044212Z
CREATED:20260424T044212Z
DTSTART:20251205T020000Z
DTEND:20251205T030000Z
LOCATION:Forest Grove Sports Complex B
CONTACT:
SUMMARY:EMSSC Panthers VS. Sporting Iowa 2015 Boys
DESCRIPTION:League Name: Winter 2025-2026 11U Boys Winter Soccer League- Se
 ssion 1\nGame Type: Regular\nGame Status: Complete\nHome Team: EMSSC Panth
 ers\nAway Team: Sporting Iowa 2015 Boys\nHome Score: 3\nAway Score: 2
END:VEVENT
BEGIN:VEVENT
UID:16878063@ezleagues.ezfacility.com
DTSTAMP:20260424T044212Z
CREATED:20260424T044212Z
DTSTART:20251212T020000Z
DTEND:20251212T030000Z
LOCATION:Forest Grove Sports Complex A
CONTACT:
SUMMARY:OSU U11 VS. Sporting Iowa 2015 Boys
DESCRIPTION:League Name: Winter 2025-2026 11U Boys Winter Soccer League- Se
 ssion 1\nGame Type: Regular\nGame Status: Complete\nHome Team: OSU U11\nAw
 ay Team: Sporting Iowa 2015 Boys\nHome Score: 1\nAway Score: 3
END:VEVENT
BEGIN:VEVENT
UID:16878090@ezleagues.ezfacility.com
DTSTAMP:20260424T044212Z
CREATED:20260424T044212Z
DTSTART:20251219T020000Z
DTEND:20251219T030000Z
LOCATION:Forest Grove Sports Complex A
CONTACT:
SUMMARY:Bettendorf Soccer Association u11 Blue VS. Sporting Iowa 2015 Boys
DESCRIPTION:League Name: Winter 2025-2026 11U Boys Winter Soccer League- Se
 ssion 1\nGame Type: Regular\nGame Status: Complete\nHome Team: Bettendorf 
 Soccer Association u11 Blue\nAway Team: Sporting Iowa 2015 Boys\nHome Scor
 e: 2\nAway Score: 2
END:VEVENT
BEGIN:VEVENT
UID:16878177@ezleagues.ezfacility.com
DTSTAMP:20260424T044212Z
CREATED:20260424T044212Z
DTSTART:20260109T011000Z
DTEND:20260109T021000Z
LOCATION:Forest Grove Sports Complex B
CONTACT:
SUMMARY:Sporting Iowa 2015 Boys VS. BSA Black 2015
DESCRIPTION:League Name: Winter 2025-2026 11U Boys Winter Soccer League- Se
 ssion 1\nGame Type: Regular\nGame Status: Complete\nHome Team: Sporting Io
 wa 2015 Boys\nAway Team: BSA Black 2015\nHome Score: 0\nAway Score: 12
END:VEVENT
BEGIN:VEVENT
UID:16878119@ezleagues.ezfacility.com
DTSTAMP:20260424T044212Z
CREATED:20260424T044212Z
DTSTART:20260116T011000Z
DTEND:20260116T021000Z
LOCATION:Forest Grove Sports Complex C
CONTACT:
SUMMARY:Sporting Iowa 2015 Boys VS. Gallardo Academy
DESCRIPTION:League Name: Winter 2025-2026 11U Boys Winter Soccer League- Se
 ssion 1\nGame Type: Regular\nGame Status: Complete\nHome Team: Sporting Io
 wa 2015 Boys\nAway Team: Gallardo Academy\nHome Score: 0\nAway Score: 4
END:VEVENT
BEGIN:VEVENT
UID:16878148@ezleagues.ezfacility.com
DTSTAMP:20260424T044212Z
CREATED:20260424T044212Z
DTSTART:20260123T020000Z
DTEND:20260123T030000Z
LOCATION:Forest Grove Sports Complex B
CONTACT:
SUMMARY:Sporting Iowa 2015 Boys VS. North Scott
DESCRIPTION:League Name: Winter 2025-2026 11U Boys Winter Soccer League- Se
 ssion 1\nGame Type: Regular\nGame Status: Complete\nHome Team: Sporting Io
 wa 2015 Boys\nAway Team: North Scott\nHome Score: 4\nAway Score: 3
END:VEVENT
END:VCALENDAR
