BEGIN:VCALENDAR
VERSION:2.0
PRODID:-//EZFacility.com, Inc.//EZL 2.5.5.28621
BEGIN:VEVENT
UID:16902355@ezleagues.ezfacility.com
DTSTAMP:20260424T044044Z
CREATED:20260424T044044Z
DTSTART:20251207T213000Z
DTEND:20251207T223000Z
LOCATION:Messi Field
CONTACT:
SUMMARY:Ballerz FC VS. Inter OFC
DESCRIPTION:League Name: Winter 2025/2026 – U13/14 Boys D2\nGame Type: Pr
 actice\nGame Status: Complete\nHome Team: Ballerz FC\nAway Team: Inter OFC
 \nHome Score: 13\nAway Score: 3
END:VEVENT
BEGIN:VEVENT
UID:16902361@ezleagues.ezfacility.com
DTSTAMP:20260424T044044Z
CREATED:20260424T044044Z
DTSTART:20251215T001500Z
DTEND:20251215T011500Z
LOCATION:Miletich Court
CONTACT:
SUMMARY:Ballerz FC VS. Oregon Surf 13 Blue
DESCRIPTION:League Name: Winter 2025/2026 – U13/14 Boys D2\nGame Type: Re
 gular\nGame Status: Complete\nHome Team: Ballerz FC\nAway Team: Oregon Sur
 f 13 Blue\nHome Score: 16\nAway Score: 2
END:VEVENT
BEGIN:VEVENT
UID:16902385@ezleagues.ezfacility.com
DTSTAMP:20260424T044044Z
CREATED:20260424T044044Z
DTSTART:20260112T001500Z
DTEND:20260112T011500Z
LOCATION:Miletich Court
CONTACT:
SUMMARY:Rush 2012B Black VS. Ballerz FC
DESCRIPTION:League Name: Winter 2025/2026 – U13/14 Boys D2\nGame Type: Re
 gular\nGame Status: Complete\nHome Team: Rush 2012B Black\nAway Team: Ball
 erz FC\nHome Score: 6\nAway Score: 15
END:VEVENT
BEGIN:VEVENT
UID:16902391@ezleagues.ezfacility.com
DTSTAMP:20260424T044044Z
CREATED:20260424T044044Z
DTSTART:20260118T233000Z
DTEND:20260119T003000Z
LOCATION:Messi Field
CONTACT:
SUMMARY:White Surf VS. Ballerz FC
DESCRIPTION:League Name: Winter 2025/2026 – U13/14 Boys D2\nGame Type: Re
 gular\nGame Status: Complete\nHome Team: White Surf\nAway Team: Ballerz FC
 \nHome Score: 3\nAway Score: 16
END:VEVENT
BEGIN:VEVENT
UID:16902373@ezleagues.ezfacility.com
DTSTAMP:20260424T044044Z
CREATED:20260424T044044Z
DTSTART:20260126T021500Z
DTEND:20260126T031500Z
LOCATION:Miletich Court
CONTACT:
SUMMARY:Santos FC Ajax  VS. Ballerz FC
DESCRIPTION:League Name: Winter 2025/2026 – U13/14 Boys D2\nGame Type: Re
 gular\nGame Status: Complete\nHome Team: Santos FC Ajax \nAway Team: Balle
 rz FC\nHome Score: 6\nAway Score: 7
END:VEVENT
BEGIN:VEVENT
UID:16902379@ezleagues.ezfacility.com
DTSTAMP:20260424T044044Z
CREATED:20260424T044044Z
DTSTART:20260201T210000Z
DTEND:20260201T220000Z
LOCATION:Messi Field
CONTACT:
SUMMARY:Rush 2013B Black VS. Ballerz FC
DESCRIPTION:League Name: Winter 2025/2026 – U13/14 Boys D2\nGame Type: Re
 gular\nGame Status: Complete\nHome Team: Rush 2013B Black\nAway Team: Ball
 erz FC\nHome Score: 4\nAway Score: 0
END:VEVENT
BEGIN:VEVENT
UID:16902367@ezleagues.ezfacility.com
DTSTAMP:20260424T044044Z
CREATED:20260424T044044Z
DTSTART:20260202T003000Z
DTEND:20260202T013000Z
LOCATION:Messi Field
CONTACT:
SUMMARY:Ballerz FC VS. Rush 13G Blue
DESCRIPTION:League Name: Winter 2025/2026 – U13/14 Boys D2\nGame Type: Re
 gular\nGame Status: Complete\nHome Team: Ballerz FC\nAway Team: Rush 13G B
 lue\nHome Score: 3\nAway Score: 4
END:VEVENT
END:VCALENDAR
