BEGIN:VCALENDAR
VERSION:2.0
PRODID:-//EZFacility.com, Inc.//EZL 2.5.5.28621
BEGIN:VEVENT
UID:16876107@ezleagues.ezfacility.com
DTSTAMP:20260426T033803Z
CREATED:20260426T033803Z
DTSTART:20251208T003000Z
DTEND:20251208T013000Z
LOCATION:Messi Field
CONTACT:
SUMMARY:HFSA 15B Pink VS. Oregon Surf 2015B
DESCRIPTION:League Name: Winter 2025/2026 – U11/U12 Boys D2\nGame Type: R
 egular\nGame Status: Complete\nHome Team: HFSA 15B Pink\nAway Team: Oregon
  Surf 2015B\nHome Score: 4\nAway Score: 5
END:VEVENT
BEGIN:VEVENT
UID:16876111@ezleagues.ezfacility.com
DTSTAMP:20260426T033803Z
CREATED:20260426T033803Z
DTSTART:20251214T233000Z
DTEND:20251215T003000Z
LOCATION:Messi Field
CONTACT:
SUMMARY:HFSA 15B Pink VS. Rush 2014B Black
DESCRIPTION:League Name: Winter 2025/2026 – U11/U12 Boys D2\nGame Type: R
 egular\nGame Status: Complete\nHome Team: HFSA 15B Pink\nAway Team: Rush 2
 014B Black\nHome Score: 1\nAway Score: 5
END:VEVENT
BEGIN:VEVENT
UID:16876123@ezleagues.ezfacility.com
DTSTAMP:20260426T033803Z
CREATED:20260426T033803Z
DTSTART:20260105T001500Z
DTEND:20260105T011500Z
LOCATION:Miletich Court
CONTACT:
SUMMARY:HFSA 14/15B Green VS. HFSA 15B Pink
DESCRIPTION:League Name: Winter 2025/2026 – U11/U12 Boys D2\nGame Type: R
 egular\nGame Status: Complete\nHome Team: HFSA 14/15B Green\nAway Team: HF
 SA 15B Pink\nHome Score: 3\nAway Score: 7
END:VEVENT
BEGIN:VEVENT
UID:16876127@ezleagues.ezfacility.com
DTSTAMP:20260426T033803Z
CREATED:20260426T033803Z
DTSTART:20260111T213000Z
DTEND:20260111T223000Z
LOCATION:Messi Field
CONTACT:
SUMMARY:Red Metros VS. HFSA 15B Pink
DESCRIPTION:League Name: Winter 2025/2026 – U11/U12 Boys D2\nGame Type: R
 egular\nGame Status: Complete\nHome Team: Red Metros\nAway Team: HFSA 15B 
 Pink\nHome Score: 6\nAway Score: 12
END:VEVENT
BEGIN:VEVENT
UID:16876131@ezleagues.ezfacility.com
DTSTAMP:20260426T033803Z
CREATED:20260426T033803Z
DTSTART:20260119T001500Z
DTEND:20260119T011500Z
LOCATION:Miletich Court
CONTACT:
SUMMARY:Mega Megalodons VS. HFSA 15B Pink
DESCRIPTION:League Name: Winter 2025/2026 – U11/U12 Boys D2\nGame Type: R
 egular\nGame Status: Complete\nHome Team: Mega Megalodons\nAway Team: HFSA
  15B Pink\nHome Score: 6\nAway Score: 12
END:VEVENT
BEGIN:VEVENT
UID:16876135@ezleagues.ezfacility.com
DTSTAMP:20260426T033803Z
CREATED:20260426T033803Z
DTSTART:20260126T013000Z
DTEND:20260126T023000Z
LOCATION:Messi Field
CONTACT:
SUMMARY:Oregon Surf 2015B VS. HFSA 15B Pink
DESCRIPTION:League Name: Winter 2025/2026 – U11/U12 Boys D2\nGame Type: R
 egular\nGame Status: Complete\nHome Team: Oregon Surf 2015B\nAway Team: HF
 SA 15B Pink\nHome Score: 4\nAway Score: 5
END:VEVENT
BEGIN:VEVENT
UID:16876115@ezleagues.ezfacility.com
DTSTAMP:20260426T033803Z
CREATED:20260426T033803Z
DTSTART:20260202T021500Z
DTEND:20260202T031500Z
LOCATION:Miletich Court
CONTACT:
SUMMARY:HFSA 15B Pink VS. United
DESCRIPTION:League Name: Winter 2025/2026 – U11/U12 Boys D2\nGame Type: R
 egular\nGame Status: Complete\nHome Team: HFSA 15B Pink\nAway Team: United
 \nHome Score: 4\nAway Score: 6
END:VEVENT
BEGIN:VEVENT
UID:16876119@ezleagues.ezfacility.com
DTSTAMP:20260426T033803Z
CREATED:20260426T033803Z
DTSTART:20260208T024500Z
DTEND:20260208T034500Z
LOCATION:Miletich Court
CONTACT:
SUMMARY:HFSA 15B Pink VS. Surf 2015B White
DESCRIPTION:League Name: Winter 2025/2026 – U11/U12 Boys D2\nGame Type: R
 egular\nGame Status: Complete\nHome Team: HFSA 15B Pink\nAway Team: Surf 2
 015B White\nHome Score: 14\nAway Score: 4
END:VEVENT
BEGIN:VEVENT
UID:17012739@ezleagues.ezfacility.com
DTSTAMP:20260426T033803Z
CREATED:20260426T033803Z
DTSTART:20260216T013000Z
DTEND:20260216T023000Z
LOCATION:Miletich Court
CONTACT:
SUMMARY:Oregon Surf 2015B VS. HFSA 15B Pink
DESCRIPTION:League Name: Winter 2025/2026 – U11/U12 Boys D2\nGame Type: R
 egular\nGame Status: Complete\nHome Team: Oregon Surf 2015B\nAway Team: HF
 SA 15B Pink\nHome Score: 5\nAway Score: 1
END:VEVENT
END:VCALENDAR
