BEGIN:VCALENDAR
VERSION:2.0
PRODID:-//EZFacility.com, Inc.//EZL 2.5.5.28621
BEGIN:VEVENT
UID:16876110@ezleagues.ezfacility.com
DTSTAMP:20260423T192128Z
CREATED:20260423T192128Z
DTSTART:20251208T011500Z
DTEND:20251208T021500Z
LOCATION:Miletich Court
CONTACT:
SUMMARY:Surf 2015B White VS. HFSA 14/15B Green
DESCRIPTION:League Name: Winter 2025/2026 – U11/U12 Boys D2\nGame Type: R
 egular\nGame Status: Complete\nHome Team: Surf 2015B White\nAway Team: HFS
 A 14/15B Green\nHome Score: 4\nAway Score: 13
END:VEVENT
BEGIN:VEVENT
UID:16876113@ezleagues.ezfacility.com
DTSTAMP:20260423T192128Z
CREATED:20260423T192128Z
DTSTART:20251214T213000Z
DTEND:20251214T223000Z
LOCATION:Messi Field
CONTACT:
SUMMARY:Mega Megalodons VS. Surf 2015B White
DESCRIPTION:League Name: Winter 2025/2026 – U11/U12 Boys D2\nGame Type: R
 egular\nGame Status: Complete\nHome Team: Mega Megalodons\nAway Team: Surf
  2015B White\nHome Score: 12\nAway Score: 6
END:VEVENT
BEGIN:VEVENT
UID:16876124@ezleagues.ezfacility.com
DTSTAMP:20260423T192128Z
CREATED:20260423T192128Z
DTSTART:20260104T231500Z
DTEND:20260105T001500Z
LOCATION:Miletich Court
CONTACT:
SUMMARY:Surf 2015B White VS. Red Metros
DESCRIPTION:League Name: Winter 2025/2026 – U11/U12 Boys D2\nGame Type: R
 egular\nGame Status: Complete\nHome Team: Surf 2015B White\nAway Team: Red
  Metros\nHome Score: 7\nAway Score: 9
END:VEVENT
BEGIN:VEVENT
UID:16876129@ezleagues.ezfacility.com
DTSTAMP:20260423T192128Z
CREATED:20260423T192128Z
DTSTART:20260112T013000Z
DTEND:20260112T023000Z
LOCATION:Messi Field
CONTACT:
SUMMARY:Surf 2015B White VS. Oregon Surf 2015B
DESCRIPTION:League Name: Winter 2025/2026 – U11/U12 Boys D2\nGame Type: R
 egular\nGame Status: Complete\nHome Team: Surf 2015B White\nAway Team: Ore
 gon Surf 2015B\nHome Score: 2\nAway Score: 13
END:VEVENT
BEGIN:VEVENT
UID:16876134@ezleagues.ezfacility.com
DTSTAMP:20260423T192128Z
CREATED:20260423T192128Z
DTSTART:20260118T231500Z
DTEND:20260119T001500Z
LOCATION:Miletich Court
CONTACT:
SUMMARY:Surf 2015B White VS. United
DESCRIPTION:League Name: Winter 2025/2026 – U11/U12 Boys D2\nGame Type: R
 egular\nGame Status: Complete\nHome Team: Surf 2015B White\nAway Team: Uni
 ted\nHome Score: 3\nAway Score: 7
END:VEVENT
BEGIN:VEVENT
UID:16876138@ezleagues.ezfacility.com
DTSTAMP:20260423T192128Z
CREATED:20260423T192128Z
DTSTART:20260125T213000Z
DTEND:20260125T223000Z
LOCATION:Messi Field
CONTACT:
SUMMARY:HFSA 14/15B Green VS. Surf 2015B White
DESCRIPTION:League Name: Winter 2025/2026 – U11/U12 Boys D2\nGame Type: R
 egular\nGame Status: Complete\nHome Team: HFSA 14/15B Green\nAway Team: Su
 rf 2015B White\nHome Score: 8\nAway Score: 3
END:VEVENT
BEGIN:VEVENT
UID:16876116@ezleagues.ezfacility.com
DTSTAMP:20260423T192128Z
CREATED:20260423T192128Z
DTSTART:20260201T204500Z
DTEND:20260201T214500Z
LOCATION:Miletich Court
CONTACT:
SUMMARY:Rush 2014B Black VS. Surf 2015B White
DESCRIPTION:League Name: Winter 2025/2026 – U11/U12 Boys D2\nGame Type: R
 egular\nGame Status: Complete\nHome Team: Rush 2014B Black\nAway Team: Sur
 f 2015B White\nHome Score: 0\nAway Score: 3
END:VEVENT
BEGIN:VEVENT
UID:16876119@ezleagues.ezfacility.com
DTSTAMP:20260423T192128Z
CREATED:20260423T192128Z
DTSTART:20260208T024500Z
DTEND:20260208T034500Z
LOCATION:Miletich Court
CONTACT:
SUMMARY:HFSA 15B Pink VS. Surf 2015B White
DESCRIPTION:League Name: Winter 2025/2026 – U11/U12 Boys D2\nGame Type: R
 egular\nGame Status: Complete\nHome Team: HFSA 15B Pink\nAway Team: Surf 2
 015B White\nHome Score: 14\nAway Score: 4
END:VEVENT
BEGIN:VEVENT
UID:17012735@ezleagues.ezfacility.com
DTSTAMP:20260423T192128Z
CREATED:20260423T192128Z
DTSTART:20260215T220000Z
DTEND:20260215T230000Z
LOCATION:Miletich Court
CONTACT:
SUMMARY:Mega Megalodons VS. Surf 2015B White
DESCRIPTION:League Name: Winter 2025/2026 – U11/U12 Boys D2\nGame Type: R
 egular\nGame Status: Complete\nHome Team: Mega Megalodons\nAway Team: Surf
  2015B White\nHome Score: 12\nAway Score: 6
END:VEVENT
END:VCALENDAR
