BEGIN:VCALENDAR
VERSION:2.0
PRODID:-//EZFacility.com, Inc.//EZL 2.5.5.28621
BEGIN:VEVENT
UID:16877423@ezleagues.ezfacility.com
DTSTAMP:20260420T142421Z
CREATED:20260420T142421Z
DTSTART:20251205T055500Z
DTEND:20251205T065500Z
LOCATION:Field 1
CONTACT:
SUMMARY:Los Cri Cri  VS. Crane Park
DESCRIPTION:League Name: Thursday Mens Open\nGame Type: Regular\nGame Statu
 s: Complete\nHome Team: Los Cri Cri \nAway Team: Crane Park\nHome Score: 6
 \nAway Score: 5
END:VEVENT
BEGIN:VEVENT
UID:16877426@ezleagues.ezfacility.com
DTSTAMP:20260420T142421Z
CREATED:20260420T142421Z
DTSTART:20251212T030000Z
DTEND:20251212T040000Z
LOCATION:Field 1
CONTACT:
SUMMARY:Dawg Squad VS. Los Cri Cri 
DESCRIPTION:League Name: Thursday Mens Open\nGame Type: Regular\nGame Statu
 s: Complete\nHome Team: Dawg Squad\nAway Team: Los Cri Cri \nHome Score: 4
 \nAway Score: 15
END:VEVENT
BEGIN:VEVENT
UID:16877429@ezleagues.ezfacility.com
DTSTAMP:20260420T142421Z
CREATED:20260420T142421Z
DTSTART:20251219T030000Z
DTEND:20251219T040000Z
LOCATION:Field 2
CONTACT:
SUMMARY:Team Z VS. Los Cri Cri 
DESCRIPTION:League Name: Thursday Mens Open\nGame Type: Regular\nGame Statu
 s: Complete\nHome Team: Team Z\nAway Team: Los Cri Cri \nHome Score: 3\nAw
 ay Score: 13
END:VEVENT
BEGIN:VEVENT
UID:16877442@ezleagues.ezfacility.com
DTSTAMP:20260420T142421Z
CREATED:20260420T142421Z
DTSTART:20260109T050000Z
DTEND:20260109T060000Z
LOCATION:Field 2
CONTACT:
SUMMARY:Los Cri Cri  VS. Cotija
DESCRIPTION:League Name: Thursday Mens Open\nGame Type: Regular\nGame Statu
 s: Complete\nHome Team: Los Cri Cri \nAway Team: Cotija\nHome Score: 4\nAw
 ay Score: 7
END:VEVENT
BEGIN:VEVENT
UID:16877447@ezleagues.ezfacility.com
DTSTAMP:20260420T142421Z
CREATED:20260420T142421Z
DTSTART:20260116T050000Z
DTEND:20260116T060000Z
LOCATION:Field 1
CONTACT:
SUMMARY:Los Cri Cri  VS. Forza
DESCRIPTION:League Name: Thursday Mens Open\nGame Type: Regular\nGame Statu
 s: Complete\nHome Team: Los Cri Cri \nAway Team: Forza\nHome Score: 4\nAwa
 y Score: 17
END:VEVENT
BEGIN:VEVENT
UID:16877451@ezleagues.ezfacility.com
DTSTAMP:20260420T142421Z
CREATED:20260420T142421Z
DTSTART:20260123T055500Z
DTEND:20260123T065500Z
LOCATION:Field 1
CONTACT:
SUMMARY:Crane Park VS. Los Cri Cri 
DESCRIPTION:League Name: Thursday Mens Open\nGame Type: Regular\nGame Statu
 s: Complete\nHome Team: Crane Park\nAway Team: Los Cri Cri \nHome Score: 9
 \nAway Score: 6
END:VEVENT
BEGIN:VEVENT
UID:16877432@ezleagues.ezfacility.com
DTSTAMP:20260420T142421Z
CREATED:20260420T142421Z
DTSTART:20260130T040000Z
DTEND:20260130T050000Z
LOCATION:Field 2
CONTACT:
SUMMARY:Guadalajara VS. Los Cri Cri 
DESCRIPTION:League Name: Thursday Mens Open\nGame Type: Regular\nGame Statu
 s: Complete\nHome Team: Guadalajara\nAway Team: Los Cri Cri \nHome Score: 
 5\nAway Score: 4
END:VEVENT
BEGIN:VEVENT
UID:16877437@ezleagues.ezfacility.com
DTSTAMP:20260420T142421Z
CREATED:20260420T142421Z
DTSTART:20260206T050000Z
DTEND:20260206T060000Z
LOCATION:Field 2
CONTACT:
SUMMARY:Los Cri Cri  VS. Artilleros
DESCRIPTION:League Name: Thursday Mens Open\nGame Type: Regular\nGame Statu
 s: Complete\nHome Team: Los Cri Cri \nAway Team: Artilleros\nHome Score: 5
 \nAway Score: 0
END:VEVENT
BEGIN:VEVENT
UID:17005644@ezleagues.ezfacility.com
DTSTAMP:20260420T142421Z
CREATED:20260420T142421Z
DTSTART:20260213T040000Z
DTEND:20260213T044800Z
LOCATION:Field 1
CONTACT:
SUMMARY:Forza VS. Los Cri Cri 
DESCRIPTION:League Name: Thursday Mens Open\nGame Type: Postseason\nGame St
 atus: Complete\nHome Team: Forza\nAway Team: Los Cri Cri \nHome Score: 5\n
 Away Score: 0
END:VEVENT
END:VCALENDAR
