BEGIN:VCALENDAR
VERSION:2.0
PRODID:-//EZFacility.com, Inc.//EZL 2.5.5.28621
BEGIN:VEVENT
UID:16877635@ezleagues.ezfacility.com
DTSTAMP:20260421T080559Z
CREATED:20260421T080559Z
DTSTART:20251206T181500Z
DTEND:20251206T191500Z
LOCATION:Miletich Court
CONTACT:
SUMMARY:Rush 2016G St Aubin VS. Black G3/4G
DESCRIPTION:League Name: Winter 2025/2026 – 3rd/4th Girls Rec\nGame Type:
  Regular\nGame Status: Complete\nHome Team: Rush 2016G St Aubin\nAway Team
 : Black G3/4G\nHome Score: 9\nAway Score: 4
END:VEVENT
BEGIN:VEVENT
UID:16877639@ezleagues.ezfacility.com
DTSTAMP:20260421T080559Z
CREATED:20260421T080559Z
DTSTART:20251213T173000Z
DTEND:20251213T183000Z
LOCATION:Messi Field
CONTACT:
SUMMARY:MSC 2017G Red Team VS. Black G3/4G
DESCRIPTION:League Name: Winter 2025/2026 – 3rd/4th Girls Rec\nGame Type:
  Regular\nGame Status: Complete\nHome Team: MSC 2017G Red Team\nAway Team:
  Black G3/4G\nHome Score: 9\nAway Score: 1
END:VEVENT
BEGIN:VEVENT
UID:16877646@ezleagues.ezfacility.com
DTSTAMP:20260421T080559Z
CREATED:20260421T080559Z
DTSTART:20260103T181500Z
DTEND:20260103T191500Z
LOCATION:Miletich Court
CONTACT:
SUMMARY:Black G3/4G VS. Banks
DESCRIPTION:League Name: Winter 2025/2026 – 3rd/4th Girls Rec\nGame Type:
  Regular\nGame Status: Complete\nHome Team: Black G3/4G\nAway Team: Banks\
 nHome Score: 5\nAway Score: 5
END:VEVENT
BEGIN:VEVENT
UID:16877650@ezleagues.ezfacility.com
DTSTAMP:20260421T080559Z
CREATED:20260421T080559Z
DTSTART:20260110T170000Z
DTEND:20260110T180000Z
LOCATION:Messi Field
CONTACT:
SUMMARY:Black G3/4G VS. Rush 2016G St Aubin
DESCRIPTION:League Name: Winter 2025/2026 – 3rd/4th Girls Rec\nGame Type:
  Regular\nGame Status: Complete\nHome Team: Black G3/4G\nAway Team: Rush 2
 016G St Aubin\nHome Score: 7\nAway Score: 3
END:VEVENT
BEGIN:VEVENT
UID:16877654@ezleagues.ezfacility.com
DTSTAMP:20260421T080559Z
CREATED:20260421T080559Z
DTSTART:20260117T191500Z
DTEND:20260117T201500Z
LOCATION:Miletich Court
CONTACT:
SUMMARY:Black G3/4G VS. MSC 2017G Red Team
DESCRIPTION:League Name: Winter 2025/2026 – 3rd/4th Girls Rec\nGame Type:
  Regular\nGame Status: Complete\nHome Team: Black G3/4G\nAway Team: MSC 20
 17G Red Team\nHome Score: 6\nAway Score: 3
END:VEVENT
BEGIN:VEVENT
UID:16877657@ezleagues.ezfacility.com
DTSTAMP:20260421T080559Z
CREATED:20260421T080559Z
DTSTART:20260124T180000Z
DTEND:20260124T190000Z
LOCATION:Messi Field
CONTACT:
SUMMARY:Blue G3/4G VS. Black G3/4G
DESCRIPTION:League Name: Winter 2025/2026 – 3rd/4th Girls Rec\nGame Type:
  Regular\nGame Status: Complete\nHome Team: Blue G3/4G\nAway Team: Black G
 3/4G\nHome Score: 0\nAway Score: 11
END:VEVENT
BEGIN:VEVENT
UID:16877642@ezleagues.ezfacility.com
DTSTAMP:20260421T080559Z
CREATED:20260421T080559Z
DTSTART:20260131T171500Z
DTEND:20260131T181500Z
LOCATION:Miletich Court
CONTACT:
SUMMARY:Black G3/4G VS. Blue G3/4G
DESCRIPTION:League Name: Winter 2025/2026 – 3rd/4th Girls Rec\nGame Type:
  Regular\nGame Status: Complete\nHome Team: Black G3/4G\nAway Team: Blue G
 3/4G\nHome Score: 2\nAway Score: 0
END:VEVENT
BEGIN:VEVENT
UID:16877644@ezleagues.ezfacility.com
DTSTAMP:20260421T080559Z
CREATED:20260421T080559Z
DTSTART:20260207T170000Z
DTEND:20260207T180000Z
LOCATION:Messi Field
CONTACT:
SUMMARY:White G3/4G VS. Black G3/4G
DESCRIPTION:League Name: Winter 2025/2026 – 3rd/4th Girls Rec\nGame Type:
  Regular\nGame Status: Complete\nHome Team: White G3/4G\nAway Team: Black 
 G3/4G\nHome Score: 0\nAway Score: 18
END:VEVENT
BEGIN:VEVENT
UID:17010710@ezleagues.ezfacility.com
DTSTAMP:20260421T080559Z
CREATED:20260421T080559Z
DTSTART:20260214T181500Z
DTEND:20260214T191500Z
LOCATION:Miletich Court
CONTACT:
SUMMARY:Black G3/4G VS. Rush 2016G St Aubin
DESCRIPTION:League Name: Winter 2025/2026 – 3rd/4th Girls Rec\nGame Type:
  Regular\nGame Status: Complete\nHome Team: Black G3/4G\nAway Team: Rush 2
 016G St Aubin\nHome Score: 5\nAway Score: 9
END:VEVENT
END:VCALENDAR
