BEGIN:VCALENDAR
VERSION:2.0
PRODID:-//EZFacility.com, Inc.//EZL 2.5.5.28621
BEGIN:VEVENT
UID:16877697@ezleagues.ezfacility.com
DTSTAMP:20260426T033902Z
CREATED:20260426T033902Z
DTSTART:20251206T201500Z
DTEND:20251206T211500Z
LOCATION:Miletich Court
CONTACT:
SUMMARY:Black G5/6B VS. Gray G5/6B
DESCRIPTION:League Name: Winter 2025/2026 – 5th/6th Boys Rec\nGame Type: 
 Regular\nGame Status: Complete\nHome Team: Black G5/6B\nAway Team: Gray G5
 /6B\nHome Score: 2\nAway Score: 14
END:VEVENT
BEGIN:VEVENT
UID:16877700@ezleagues.ezfacility.com
DTSTAMP:20260426T033902Z
CREATED:20260426T033902Z
DTSTART:20251213T223000Z
DTEND:20251213T233000Z
LOCATION:Messi Field
CONTACT:
SUMMARY:Black G5/6B VS. Venom Ninjas
DESCRIPTION:League Name: Winter 2025/2026 – 5th/6th Boys Rec\nGame Type: 
 Regular\nGame Status: Complete\nHome Team: Black G5/6B\nAway Team: Venom N
 injas\nHome Score: 4\nAway Score: 7
END:VEVENT
BEGIN:VEVENT
UID:16877709@ezleagues.ezfacility.com
DTSTAMP:20260426T033902Z
CREATED:20260426T033902Z
DTSTART:20260103T214500Z
DTEND:20260103T224500Z
LOCATION:Miletich Court
CONTACT:
SUMMARY:Blue -WL Henry VS. Black G5/6B
DESCRIPTION:League Name: Winter 2025/2026 – 5th/6th Boys Rec\nGame Type: 
 Regular\nGame Status: Complete\nHome Team: Blue -WL Henry\nAway Team: Blac
 k G5/6B\nHome Score: 9\nAway Score: 4
END:VEVENT
BEGIN:VEVENT
UID:16877712@ezleagues.ezfacility.com
DTSTAMP:20260426T033902Z
CREATED:20260426T033902Z
DTSTART:20260110T210000Z
DTEND:20260110T220000Z
LOCATION:Messi Field
CONTACT:
SUMMARY:Gray G5/6B VS. Black G5/6B
DESCRIPTION:League Name: Winter 2025/2026 – 5th/6th Boys Rec\nGame Type: 
 Regular\nGame Status: Complete\nHome Team: Gray G5/6B\nAway Team: Black G5
 /6B\nHome Score: 17\nAway Score: 1
END:VEVENT
BEGIN:VEVENT
UID:16877715@ezleagues.ezfacility.com
DTSTAMP:20260426T033902Z
CREATED:20260426T033902Z
DTSTART:20260117T201500Z
DTEND:20260117T211500Z
LOCATION:Miletich Court
CONTACT:
SUMMARY:Venom Ninjas VS. Black G5/6B
DESCRIPTION:League Name: Winter 2025/2026 – 5th/6th Boys Rec\nGame Type: 
 Regular\nGame Status: Complete\nHome Team: Venom Ninjas\nAway Team: Black 
 G5/6B\nHome Score: 6\nAway Score: 8
END:VEVENT
BEGIN:VEVENT
UID:16877718@ezleagues.ezfacility.com
DTSTAMP:20260426T033902Z
CREATED:20260426T033902Z
DTSTART:20260124T220000Z
DTEND:20260124T230000Z
LOCATION:Messi Field
CONTACT:
SUMMARY:White G5/6B VS. Black G5/6B
DESCRIPTION:League Name: Winter 2025/2026 – 5th/6th Boys Rec\nGame Type: 
 Regular\nGame Status: Complete\nHome Team: White G5/6B\nAway Team: Black G
 5/6B\nHome Score: 2\nAway Score: 5
END:VEVENT
BEGIN:VEVENT
UID:16877703@ezleagues.ezfacility.com
DTSTAMP:20260426T033902Z
CREATED:20260426T033902Z
DTSTART:20260131T214500Z
DTEND:20260131T224500Z
LOCATION:Miletich Court
CONTACT:
SUMMARY:Black G5/6B VS. White G5/6B
DESCRIPTION:League Name: Winter 2025/2026 – 5th/6th Boys Rec\nGame Type: 
 Regular\nGame Status: Complete\nHome Team: Black G5/6B\nAway Team: White G
 5/6B\nHome Score: 6\nAway Score: 0
END:VEVENT
BEGIN:VEVENT
UID:16877706@ezleagues.ezfacility.com
DTSTAMP:20260426T033902Z
CREATED:20260426T033902Z
DTSTART:20260207T210000Z
DTEND:20260207T220000Z
LOCATION:Messi Field
CONTACT:
SUMMARY:Black G5/6B VS. HFSA 15/14B
DESCRIPTION:League Name: Winter 2025/2026 – 5th/6th Boys Rec\nGame Type: 
 Regular\nGame Status: Complete\nHome Team: Black G5/6B\nAway Team: HFSA 15
 /14B\nHome Score: 7\nAway Score: 9
END:VEVENT
BEGIN:VEVENT
UID:17010716@ezleagues.ezfacility.com
DTSTAMP:20260426T033902Z
CREATED:20260426T033902Z
DTSTART:20260214T203000Z
DTEND:20260214T213000Z
LOCATION:Miletich Court
CONTACT:
SUMMARY:Black G5/6B VS. White G5/6B
DESCRIPTION:League Name: Winter 2025/2026 – 5th/6th Boys Rec\nGame Type: 
 Regular\nGame Status: Complete\nHome Team: Black G5/6B\nAway Team: White G
 5/6B\nHome Score: 4\nAway Score: 0
END:VEVENT
END:VCALENDAR
