BEGIN:VCALENDAR
VERSION:2.0
PRODID:-//EZFacility.com, Inc.//EZL 2.5.5.28621
BEGIN:VEVENT
UID:16877697@ezleagues.ezfacility.com
DTSTAMP:20260420T011859Z
CREATED:20260420T011859Z
DTSTART:20251206T201500Z
DTEND:20251206T211500Z
LOCATION:Miletich Court
CONTACT:
SUMMARY:Black G5/6B VS. Gray G5/6B
DESCRIPTION:League Name: Winter 2025/2026 – 5th/6th Boys Rec\nGame Type: 
 Regular\nGame Status: Complete\nHome Team: Black G5/6B\nAway Team: Gray G5
 /6B\nHome Score: 2\nAway Score: 14
END:VEVENT
BEGIN:VEVENT
UID:16877701@ezleagues.ezfacility.com
DTSTAMP:20260420T011859Z
CREATED:20260420T011859Z
DTSTART:20251213T213000Z
DTEND:20251213T223000Z
LOCATION:Messi Field
CONTACT:
SUMMARY:Gray G5/6B VS. White G5/6B
DESCRIPTION:League Name: Winter 2025/2026 – 5th/6th Boys Rec\nGame Type: 
 Regular\nGame Status: Complete\nHome Team: Gray G5/6B\nAway Team: White G5
 /6B\nHome Score: 17\nAway Score: 1
END:VEVENT
BEGIN:VEVENT
UID:16877710@ezleagues.ezfacility.com
DTSTAMP:20260420T011859Z
CREATED:20260420T011859Z
DTSTART:20260103T201500Z
DTEND:20260103T211500Z
LOCATION:Miletich Court
CONTACT:
SUMMARY:HFSA 15/14B VS. Gray G5/6B
DESCRIPTION:League Name: Winter 2025/2026 – 5th/6th Boys Rec\nGame Type: 
 Regular\nGame Status: Complete\nHome Team: HFSA 15/14B\nAway Team: Gray G5
 /6B\nHome Score: 4\nAway Score: 15
END:VEVENT
BEGIN:VEVENT
UID:16877712@ezleagues.ezfacility.com
DTSTAMP:20260420T011859Z
CREATED:20260420T011859Z
DTSTART:20260110T210000Z
DTEND:20260110T220000Z
LOCATION:Messi Field
CONTACT:
SUMMARY:Gray G5/6B VS. Black G5/6B
DESCRIPTION:League Name: Winter 2025/2026 – 5th/6th Boys Rec\nGame Type: 
 Regular\nGame Status: Complete\nHome Team: Gray G5/6B\nAway Team: Black G5
 /6B\nHome Score: 17\nAway Score: 1
END:VEVENT
BEGIN:VEVENT
UID:16877716@ezleagues.ezfacility.com
DTSTAMP:20260420T011859Z
CREATED:20260420T011859Z
DTSTART:20260117T214500Z
DTEND:20260117T224500Z
LOCATION:Miletich Court
CONTACT:
SUMMARY:Gray G5/6B VS. White G5/6B
DESCRIPTION:League Name: Winter 2025/2026 – 5th/6th Boys Rec\nGame Type: 
 Regular\nGame Status: Complete\nHome Team: Gray G5/6B\nAway Team: White G5
 /6B\nHome Score: 7\nAway Score: 0
END:VEVENT
BEGIN:VEVENT
UID:16877720@ezleagues.ezfacility.com
DTSTAMP:20260420T011859Z
CREATED:20260420T011859Z
DTSTART:20260124T210000Z
DTEND:20260124T220000Z
LOCATION:Messi Field
CONTACT:
SUMMARY:Gray G5/6B VS. Blue -WL Henry
DESCRIPTION:League Name: Winter 2025/2026 – 5th/6th Boys Rec\nGame Type: 
 Regular\nGame Status: Complete\nHome Team: Gray G5/6B\nAway Team: Blue -WL
  Henry\nHome Score: 8\nAway Score: 8
END:VEVENT
BEGIN:VEVENT
UID:16877705@ezleagues.ezfacility.com
DTSTAMP:20260420T011859Z
CREATED:20260420T011859Z
DTSTART:20260131T224500Z
DTEND:20260131T234500Z
LOCATION:Miletich Court
CONTACT:
SUMMARY:Blue -WL Henry VS. Gray G5/6B
DESCRIPTION:League Name: Winter 2025/2026 – 5th/6th Boys Rec\nGame Type: 
 Regular\nGame Status: Complete\nHome Team: Blue -WL Henry\nAway Team: Gray
  G5/6B\nHome Score: 6\nAway Score: 7
END:VEVENT
BEGIN:VEVENT
UID:16877708@ezleagues.ezfacility.com
DTSTAMP:20260420T011859Z
CREATED:20260420T011859Z
DTSTART:20260207T200000Z
DTEND:20260207T210000Z
LOCATION:Messi Field
CONTACT:
SUMMARY:Venom Ninjas VS. Gray G5/6B
DESCRIPTION:League Name: Winter 2025/2026 – 5th/6th Boys Rec\nGame Type: 
 Regular\nGame Status: Complete\nHome Team: Venom Ninjas\nAway Team: Gray G
 5/6B\nHome Score: 2\nAway Score: 17
END:VEVENT
BEGIN:VEVENT
UID:17010718@ezleagues.ezfacility.com
DTSTAMP:20260420T011859Z
CREATED:20260420T011859Z
DTSTART:20260214T230000Z
DTEND:20260215T000000Z
LOCATION:Miletich Court
CONTACT:
SUMMARY:Gray G5/6B VS. Blue -WL Henry
DESCRIPTION:League Name: Winter 2025/2026 – 5th/6th Boys Rec\nGame Type: 
 Regular\nGame Status: Complete\nHome Team: Gray G5/6B\nAway Team: Blue -WL
  Henry\nHome Score: 3\nAway Score: 4
END:VEVENT
END:VCALENDAR
