BEGIN:VCALENDAR
VERSION:2.0
PRODID:-//EZFacility.com, Inc.//EZL 2.5.5.28621
BEGIN:VEVENT
UID:16878454@ezleagues.ezfacility.com
DTSTAMP:20260424T044110Z
CREATED:20260424T044110Z
DTSTART:20251116T230000Z
DTEND:20251117T000000Z
LOCATION:Field 4 BLD
CONTACT:
SUMMARY:CASI FC VS. Tierra Caliente
DESCRIPTION:League Name: DOMINGO Libre 11/16\nGame Type: Regular\nGame Stat
 us: Complete\nHome Team: CASI FC\nAway Team: Tierra Caliente\nHome Score: 
 17\nAway Score: 15
END:VEVENT
BEGIN:VEVENT
UID:16878462@ezleagues.ezfacility.com
DTSTAMP:20260424T044110Z
CREATED:20260424T044110Z
DTSTART:20251123T220000Z
DTEND:20251123T230000Z
LOCATION:Field 5 BLD
CONTACT:
SUMMARY:CASI FC VS. Guanajuato
DESCRIPTION:League Name: DOMINGO Libre 11/16\nGame Type: Regular\nGame Stat
 us: Complete\nHome Team: CASI FC\nAway Team: Guanajuato\nHome Score: 14\nA
 way Score: 12
END:VEVENT
BEGIN:VEVENT
UID:16894968@ezleagues.ezfacility.com
DTSTAMP:20260424T044110Z
CREATED:20260424T044110Z
DTSTART:20251201T000000Z
DTEND:20251201T010000Z
LOCATION:Field 5 BLD
CONTACT:
SUMMARY:CASI FC VS. Los Emeraldas de Leon
DESCRIPTION:League Name: DOMINGO Libre 11/16\nGame Type: Regular\nGame Stat
 us: Complete\nHome Team: CASI FC\nAway Team: Los Emeraldas de Leon\nHome S
 core: 12\nAway Score: 2
END:VEVENT
BEGIN:VEVENT
UID:16912955@ezleagues.ezfacility.com
DTSTAMP:20260424T044110Z
CREATED:20260424T044110Z
DTSTART:20251208T000000Z
DTEND:20251208T010000Z
LOCATION:Field 5 BLD
CONTACT:
SUMMARY:CASI FC VS. ABC FC
DESCRIPTION:League Name: DOMINGO Libre 11/16\nGame Type: Regular\nGame Stat
 us: Complete\nHome Team: CASI FC\nAway Team: ABC FC\nHome Score: 7\nAway S
 core: 6
END:VEVENT
BEGIN:VEVENT
UID:16912972@ezleagues.ezfacility.com
DTSTAMP:20260424T044110Z
CREATED:20260424T044110Z
DTSTART:20251214T220000Z
DTEND:20251214T230000Z
LOCATION:Field 5 BLD
CONTACT:
SUMMARY:CASI FC VS. Tavo Contr
DESCRIPTION:League Name: DOMINGO Libre 11/16\nGame Type: Regular\nGame Stat
 us: Complete\nHome Team: CASI FC\nAway Team: Tavo Contr\nHome Score: 9\nAw
 ay Score: 10
END:VEVENT
BEGIN:VEVENT
UID:16940633@ezleagues.ezfacility.com
DTSTAMP:20260424T044110Z
CREATED:20260424T044110Z
DTSTART:20251222T010000Z
DTEND:20251222T020000Z
LOCATION:Field 5 BLD
CONTACT:
SUMMARY:San Jeronimo VS. CASI FC
DESCRIPTION:League Name: DOMINGO Libre 11/16\nGame Type: Regular\nGame Stat
 us: Complete\nHome Team: San Jeronimo\nAway Team: CASI FC\nHome Score: 9\n
 Away Score: 13
END:VEVENT
BEGIN:VEVENT
UID:16940729@ezleagues.ezfacility.com
DTSTAMP:20260424T044110Z
CREATED:20260424T044110Z
DTSTART:20251228T210000Z
DTEND:20251228T220000Z
LOCATION:Field 3 BLD
CONTACT:
SUMMARY:CASI FC VS. Real Madrid
DESCRIPTION:League Name: DOMINGO Libre 11/16\nGame Type: Regular\nGame Stat
 us: Complete\nHome Team: CASI FC\nAway Team: Real Madrid\nHome Score: 15\n
 Away Score: 16
END:VEVENT
BEGIN:VEVENT
UID:16957451@ezleagues.ezfacility.com
DTSTAMP:20260424T044110Z
CREATED:20260424T044110Z
DTSTART:20260104T210000Z
DTEND:20260104T220000Z
LOCATION:Field 5 BLD
CONTACT:
SUMMARY:CASI FC VS. Leones
DESCRIPTION:League Name: DOMINGO Libre 11/16\nGame Type: Regular\nGame Stat
 us: Complete\nHome Team: CASI FC\nAway Team: Leones\nHome Score: 10\nAway 
 Score: 10
END:VEVENT
BEGIN:VEVENT
UID:16968103@ezleagues.ezfacility.com
DTSTAMP:20260424T044110Z
CREATED:20260424T044110Z
DTSTART:20260111T230000Z
DTEND:20260112T000000Z
LOCATION:Field 5 BLD
CONTACT:
SUMMARY:CASI FC VS. FD7 Garrobos MB
DESCRIPTION:League Name: DOMINGO Libre 11/16\nGame Type: Regular\nGame Stat
 us: Complete\nHome Team: CASI FC\nAway Team: FD7 Garrobos MB\nHome Score: 
 13\nAway Score: 11
END:VEVENT
BEGIN:VEVENT
UID:16977865@ezleagues.ezfacility.com
DTSTAMP:20260424T044110Z
CREATED:20260424T044110Z
DTSTART:20260119T010000Z
DTEND:20260119T020000Z
LOCATION:Field 5 BLD
CONTACT:
SUMMARY:Oacaxa VS. CASI FC
DESCRIPTION:League Name: DOMINGO Libre 11/16\nGame Type: Regular\nGame Stat
 us: Complete\nHome Team: Oacaxa\nAway Team: CASI FC\nHome Score: 3\nAway S
 core: 8
END:VEVENT
BEGIN:VEVENT
UID:17018187@ezleagues.ezfacility.com
DTSTAMP:20260424T044110Z
CREATED:20260424T044110Z
DTSTART:20260208T230000Z
DTEND:20260209T000000Z
LOCATION:Field 2 BLD
CONTACT:
SUMMARY:CASI FC VS. Holanda
DESCRIPTION:League Name: DOMINGO Libre 11/16\nGame Type: Regular\nGame Stat
 us: Complete\nHome Team: CASI FC\nAway Team: Holanda\nHome Score: 16\nAway
  Score: 9
END:VEVENT
BEGIN:VEVENT
UID:17027752@ezleagues.ezfacility.com
DTSTAMP:20260424T044110Z
CREATED:20260424T044110Z
DTSTART:20260215T210000Z
DTEND:20260215T220000Z
LOCATION:Field 4 BLD
CONTACT:
SUMMARY:Tierra Caliente VS. CASI FC
DESCRIPTION:League Name: DOMINGO Libre 11/16\nGame Type: Regular\nGame Stat
 us: Complete\nHome Team: Tierra Caliente\nAway Team: CASI FC\nHome Score: 
 8\nAway Score: 7
END:VEVENT
END:VCALENDAR
