BEGIN:VCALENDAR
VERSION:2.0
PRODID:-//EZFacility.com, Inc.//EZL 2.5.5.28621
BEGIN:VEVENT
UID:16878457@ezleagues.ezfacility.com
DTSTAMP:20260426T034836Z
CREATED:20260426T034836Z
DTSTART:20251117T010000Z
DTEND:20251117T020000Z
LOCATION:Field 4 BLD
CONTACT:
SUMMARY:GTO FC VS. Guanajuato
DESCRIPTION:League Name: DOMINGO Libre 11/16\nGame Type: Regular\nGame Stat
 us: Complete\nHome Team: GTO FC\nAway Team: Guanajuato\nHome Score: 12\nAw
 ay Score: 17
END:VEVENT
BEGIN:VEVENT
UID:16878459@ezleagues.ezfacility.com
DTSTAMP:20260426T034836Z
CREATED:20260426T034836Z
DTSTART:20251123T210000Z
DTEND:20251123T220000Z
LOCATION:Field 4 BLD
CONTACT:
SUMMARY:GTO FC VS. Phantom FC
DESCRIPTION:League Name: DOMINGO Libre 11/16\nGame Type: Regular\nGame Stat
 us: Complete\nHome Team: GTO FC\nAway Team: Phantom FC\nHome Score: 18\nAw
 ay Score: 10
END:VEVENT
BEGIN:VEVENT
UID:16894967@ezleagues.ezfacility.com
DTSTAMP:20260426T034836Z
CREATED:20260426T034836Z
DTSTART:20251201T000000Z
DTEND:20251201T010000Z
LOCATION:Field 3 BLD
CONTACT:
SUMMARY:GTO FC VS. Mexico
DESCRIPTION:League Name: DOMINGO Libre 11/16\nGame Type: Regular\nGame Stat
 us: Complete\nHome Team: GTO FC\nAway Team: Mexico\nHome Score: 18\nAway S
 core: 9
END:VEVENT
BEGIN:VEVENT
UID:16912951@ezleagues.ezfacility.com
DTSTAMP:20260426T034836Z
CREATED:20260426T034836Z
DTSTART:20251207T210000Z
DTEND:20251207T220000Z
LOCATION:Field 5 BLD
CONTACT:
SUMMARY:GTO FC VS. Leones
DESCRIPTION:League Name: DOMINGO Libre 11/16\nGame Type: Regular\nGame Stat
 us: Complete\nHome Team: GTO FC\nAway Team: Leones\nHome Score: 5\nAway Sc
 ore: 19
END:VEVENT
BEGIN:VEVENT
UID:16940629@ezleagues.ezfacility.com
DTSTAMP:20260426T034836Z
CREATED:20260426T034836Z
DTSTART:20251221T230000Z
DTEND:20251222T000000Z
LOCATION:Field 4 BLD
CONTACT:
SUMMARY:GTO FC VS. Tavo Contr
DESCRIPTION:League Name: DOMINGO Libre 11/16\nGame Type: Regular\nGame Stat
 us: Complete\nHome Team: GTO FC\nAway Team: Tavo Contr\nHome Score: 10\nAw
 ay Score: 14
END:VEVENT
BEGIN:VEVENT
UID:16957452@ezleagues.ezfacility.com
DTSTAMP:20260426T034836Z
CREATED:20260426T034836Z
DTSTART:20260104T220000Z
DTEND:20260104T230000Z
LOCATION:Field 5 BLD
CONTACT:
SUMMARY:FD7 Garrobos MB VS. GTO FC
DESCRIPTION:League Name: DOMINGO Libre 11/16\nGame Type: Regular\nGame Stat
 us: Complete\nHome Team: FD7 Garrobos MB\nAway Team: GTO FC\nHome Score: 1
 6\nAway Score: 7
END:VEVENT
BEGIN:VEVENT
UID:16968116@ezleagues.ezfacility.com
DTSTAMP:20260426T034836Z
CREATED:20260426T034836Z
DTSTART:20260112T010000Z
DTEND:20260112T020000Z
LOCATION:Field 2 BLD
CONTACT:
SUMMARY:GTO FC VS. Los Emeraldas de Leon
DESCRIPTION:League Name: DOMINGO Libre 11/16\nGame Type: Regular\nGame Stat
 us: Complete\nHome Team: GTO FC\nAway Team: Los Emeraldas de Leon\nHome Sc
 ore: 0\nAway Score: 1
END:VEVENT
BEGIN:VEVENT
UID:16977862@ezleagues.ezfacility.com
DTSTAMP:20260426T034836Z
CREATED:20260426T034836Z
DTSTART:20260119T000000Z
DTEND:20260119T010000Z
LOCATION:Field 4 BLD
CONTACT:
SUMMARY:GTO FC VS. United FC 
DESCRIPTION:League Name: DOMINGO Libre 11/16\nGame Type: Regular\nGame Stat
 us: Complete\nHome Team: GTO FC\nAway Team: United FC \nHome Score: 13\nAw
 ay Score: 22
END:VEVENT
BEGIN:VEVENT
UID:17018183@ezleagues.ezfacility.com
DTSTAMP:20260426T034836Z
CREATED:20260426T034836Z
DTSTART:20260209T000000Z
DTEND:20260209T010000Z
LOCATION:Field 5 BLD
CONTACT:
SUMMARY:San Jeronimo VS. GTO FC
DESCRIPTION:League Name: DOMINGO Libre 11/16\nGame Type: Regular\nGame Stat
 us: Complete\nHome Team: San Jeronimo\nAway Team: GTO FC\nHome Score: 7\nA
 way Score: 6
END:VEVENT
BEGIN:VEVENT
UID:17027749@ezleagues.ezfacility.com
DTSTAMP:20260426T034836Z
CREATED:20260426T034836Z
DTSTART:20260215T210000Z
DTEND:20260215T220000Z
LOCATION:Field 4 BLD
CONTACT:
SUMMARY:Queretaro VS. GTO FC
DESCRIPTION:League Name: DOMINGO Libre 11/16\nGame Type: Regular\nGame Stat
 us: Complete\nHome Team: Queretaro\nAway Team: GTO FC\nHome Score: 10\nAwa
 y Score: 20
END:VEVENT
BEGIN:VEVENT
UID:17037470@ezleagues.ezfacility.com
DTSTAMP:20260426T034836Z
CREATED:20260426T034836Z
DTSTART:20260222T210000Z
DTEND:20260222T220000Z
LOCATION:11vs11 Field 4 BET/H
CONTACT:
SUMMARY:GTO FC VS. Tiburones
DESCRIPTION:League Name: DOMINGO Libre 11/16\nGame Type: Regular\nGame Stat
 us: Complete\nHome Team: GTO FC\nAway Team: Tiburones\nHome Score: 17\nAwa
 y Score: 17
END:VEVENT
END:VCALENDAR
