BEGIN:VCALENDAR
VERSION:2.0
PRODID:-//EZFacility.com, Inc.//EZL 2.5.5.28621
BEGIN:VEVENT
UID:16893188@ezleagues.ezfacility.com
DTSTAMP:20260424T041455Z
CREATED:20260424T041455Z
DTSTART:20260103T203000Z
DTEND:20260103T212500Z
LOCATION:7v7 1
CONTACT:
SUMMARY:Anchor Bay Jr Tars 2018 VS. MI Burn 17G White
DESCRIPTION:League Name: 2017/18 Girls 7v7 January Session\nGame Type: Regu
 lar\nGame Status: Complete\nHome Team: Anchor Bay Jr Tars 2018\nAway Team:
  MI Burn 17G White\nHome Score: 3\nAway Score: 0
END:VEVENT
BEGIN:VEVENT
UID:16893190@ezleagues.ezfacility.com
DTSTAMP:20260424T041455Z
CREATED:20260424T041455Z
DTSTART:20260103T222000Z
DTEND:20260103T231500Z
LOCATION:7v7 1
CONTACT:
SUMMARY:Great Lakes Alliance Storm U9 Girls VS. MI Burn 17G White
DESCRIPTION:League Name: 2017/18 Girls 7v7 January Session\nGame Type: Regu
 lar\nGame Status: Complete\nHome Team: Great Lakes Alliance Storm U9 Girls
 \nAway Team: MI Burn 17G White\nHome Score: 4\nAway Score: 0
END:VEVENT
BEGIN:VEVENT
UID:16893195@ezleagues.ezfacility.com
DTSTAMP:20260424T041455Z
CREATED:20260424T041455Z
DTSTART:20260124T205000Z
DTEND:20260124T214500Z
LOCATION:7v7 1
CONTACT:
SUMMARY:MI Burn 17G White VS. Anchor Bay Jr Tars 2017 Girls
DESCRIPTION:League Name: 2017/18 Girls 7v7 January Session\nGame Type: Regu
 lar\nGame Status: Complete\nHome Team: MI Burn 17G White\nAway Team: Ancho
 r Bay Jr Tars 2017 Girls\nHome Score: 0\nAway Score: 1
END:VEVENT
BEGIN:VEVENT
UID:16893202@ezleagues.ezfacility.com
DTSTAMP:20260424T041455Z
CREATED:20260424T041455Z
DTSTART:20260131T195500Z
DTEND:20260131T205000Z
LOCATION:7v7 2
CONTACT:
SUMMARY:Romeo FC 2017/18 Fury VS. MI Burn 17G White
DESCRIPTION:League Name: 2017/18 Girls 7v7 January Session\nGame Type: Regu
 lar\nGame Status: Complete\nHome Team: Romeo FC 2017/18 Fury\nAway Team: M
 I Burn 17G White\nHome Score: 2\nAway Score: 0
END:VEVENT
BEGIN:VEVENT
UID:16893208@ezleagues.ezfacility.com
DTSTAMP:20260424T041455Z
CREATED:20260424T041455Z
DTSTART:20260214T214500Z
DTEND:20260214T224000Z
LOCATION:7v7 1
CONTACT:
SUMMARY:Anchor Bay Jr Tars 2018 VS. MI Burn 17G White
DESCRIPTION:League Name: 2017/18 Girls 7v7 January Session\nGame Type: Regu
 lar\nGame Status: Complete\nHome Team: Anchor Bay Jr Tars 2018\nAway Team:
  MI Burn 17G White\nHome Score: 3\nAway Score: 3
END:VEVENT
BEGIN:VEVENT
UID:16893213@ezleagues.ezfacility.com
DTSTAMP:20260424T041455Z
CREATED:20260424T041455Z
DTSTART:20260221T231000Z
DTEND:20260222T000500Z
LOCATION:7v7 1
CONTACT:
SUMMARY:Great Lakes Alliance Storm U9 Girls VS. MI Burn 17G White
DESCRIPTION:League Name: 2017/18 Girls 7v7 January Session\nGame Type: Regu
 lar\nGame Status: Complete\nHome Team: Great Lakes Alliance Storm U9 Girls
 \nAway Team: MI Burn 17G White\nHome Score: 2\nAway Score: 0
END:VEVENT
BEGIN:VEVENT
UID:16893212@ezleagues.ezfacility.com
DTSTAMP:20260424T041455Z
CREATED:20260424T041455Z
DTSTART:20260228T184000Z
DTEND:20260228T193500Z
LOCATION:7v7 1
CONTACT:
SUMMARY:MI Burn 17G White VS. Romeo FC 2017/18 Fury
DESCRIPTION:League Name: 2017/18 Girls 7v7 January Session\nGame Type: Regu
 lar\nGame Status: Complete\nHome Team: MI Burn 17G White\nAway Team: Romeo
  FC 2017/18 Fury\nHome Score: 1\nAway Score: 1
END:VEVENT
BEGIN:VEVENT
UID:16893215@ezleagues.ezfacility.com
DTSTAMP:20260424T041455Z
CREATED:20260424T041455Z
DTSTART:20260307T184000Z
DTEND:20260307T193500Z
LOCATION:7v7 1
CONTACT:
SUMMARY:MI Burn 17G White VS. Anchor Bay Jr Tars 2018
DESCRIPTION:League Name: 2017/18 Girls 7v7 January Session\nGame Type: Regu
 lar\nGame Status: Pending\nHome Team: MI Burn 17G White\nAway Team: Anchor
  Bay Jr Tars 2018\n
END:VEVENT
BEGIN:VEVENT
UID:16893198@ezleagues.ezfacility.com
DTSTAMP:20260424T041455Z
CREATED:20260424T041455Z
DTSTART:20260314T174000Z
DTEND:20260314T183500Z
LOCATION:7v7 1
CONTACT:
SUMMARY:MI Burn 17G White VS. Great Lakes Alliance Storm U9 Girls
DESCRIPTION:League Name: 2017/18 Girls 7v7 January Session\nGame Type: Regu
 lar\nGame Status: Pending\nHome Team: MI Burn 17G White\nAway Team: Great 
 Lakes Alliance Storm U9 Girls\n
END:VEVENT
END:VCALENDAR
