BEGIN:VCALENDAR
VERSION:2.0
PRODID:-//EZFacility.com, Inc.//EZL 2.5.5.28621
BEGIN:VEVENT
UID:16894722@ezleagues.ezfacility.com
DTSTAMP:20260424T041412Z
CREATED:20260424T041412Z
DTSTART:20260103T021000Z
DTEND:20260103T030500Z
LOCATION:Main
CONTACT:
SUMMARY:Romeo FC Twisters VS. Storm 2013G
DESCRIPTION:League Name: 2012/13 Girls 11v11 January Session\nGame Type: Re
 gular\nGame Status: Complete\nHome Team: Romeo FC Twisters\nAway Team: Sto
 rm 2013G\nHome Score: 1\nAway Score: 0
END:VEVENT
BEGIN:VEVENT
UID:16894725@ezleagues.ezfacility.com
DTSTAMP:20260424T041412Z
CREATED:20260424T041412Z
DTSTART:20260118T130500Z
DTEND:20260118T140000Z
LOCATION:Main
CONTACT:
SUMMARY:Storm 2013G VS. Romeo FC Thunder
DESCRIPTION:League Name: 2012/13 Girls 11v11 January Session\nGame Type: Re
 gular\nGame Status: Complete\nHome Team: Storm 2013G\nAway Team: Romeo FC 
 Thunder\nHome Score: 0\nAway Score: 1
END:VEVENT
BEGIN:VEVENT
UID:16894727@ezleagues.ezfacility.com
DTSTAMP:20260424T041412Z
CREATED:20260424T041412Z
DTSTART:20260131T234000Z
DTEND:20260201T003500Z
LOCATION:Main
CONTACT:
SUMMARY:Storm 2013G VS. MI Burn 13G White
DESCRIPTION:League Name: 2012/13 Girls 11v11 January Session\nGame Type: Re
 gular\nGame Status: Complete\nHome Team: Storm 2013G\nAway Team: MI Burn 1
 3G White\nHome Score: 0\nAway Score: 3
END:VEVENT
BEGIN:VEVENT
UID:16894732@ezleagues.ezfacility.com
DTSTAMP:20260424T041412Z
CREATED:20260424T041412Z
DTSTART:20260208T183500Z
DTEND:20260208T193000Z
LOCATION:Main
CONTACT:
SUMMARY:MI Burn 12G White VS. Storm 2013G
DESCRIPTION:League Name: 2012/13 Girls 11v11 January Session\nGame Type: Re
 gular\nGame Status: Complete\nHome Team: MI Burn 12G White\nAway Team: Sto
 rm 2013G\nHome Score: 1\nAway Score: 0
END:VEVENT
BEGIN:VEVENT
UID:16894735@ezleagues.ezfacility.com
DTSTAMP:20260424T041412Z
CREATED:20260424T041412Z
DTSTART:20260215T130500Z
DTEND:20260215T140000Z
LOCATION:Main
CONTACT:
SUMMARY:Fraser 2013G VS. Storm 2013G
DESCRIPTION:League Name: 2012/13 Girls 11v11 January Session\nGame Type: Re
 gular\nGame Status: Complete\nHome Team: Fraser 2013G\nAway Team: Storm 20
 13G\nHome Score: 1\nAway Score: 2
END:VEVENT
BEGIN:VEVENT
UID:16894743@ezleagues.ezfacility.com
DTSTAMP:20260424T041412Z
CREATED:20260424T041412Z
DTSTART:20260301T202500Z
DTEND:20260301T212000Z
LOCATION:Main
CONTACT:
SUMMARY:Storm 2013G VS. Romeo FC Thunder
DESCRIPTION:League Name: 2012/13 Girls 11v11 January Session\nGame Type: Re
 gular\nGame Status: Complete\nHome Team: Storm 2013G\nAway Team: Romeo FC 
 Thunder\nHome Score: 0\nAway Score: 4
END:VEVENT
BEGIN:VEVENT
UID:16894744@ezleagues.ezfacility.com
DTSTAMP:20260424T041412Z
CREATED:20260424T041412Z
DTSTART:20260307T021000Z
DTEND:20260307T030500Z
LOCATION:Main
CONTACT:
SUMMARY:Storm 2013G VS. MI Burn 13G White
DESCRIPTION:League Name: 2012/13 Girls 11v11 January Session\nGame Type: Re
 gular\nGame Status: Complete\nHome Team: Storm 2013G\nAway Team: MI Burn 1
 3G White\nHome Score: 1\nAway Score: 0
END:VEVENT
BEGIN:VEVENT
UID:16894729@ezleagues.ezfacility.com
DTSTAMP:20260424T041412Z
CREATED:20260424T041412Z
DTSTART:20260315T192500Z
DTEND:20260315T202000Z
LOCATION:Main
CONTACT:
SUMMARY:Romeo FC Thunder VS. Storm 2013G
DESCRIPTION:League Name: 2012/13 Girls 11v11 January Session\nGame Type: Re
 gular\nGame Status: Complete\nHome Team: Romeo FC Thunder\nAway Team: Stor
 m 2013G\nHome Score: 1\nAway Score: 0
END:VEVENT
BEGIN:VEVENT
UID:17008885@ezleagues.ezfacility.com
DTSTAMP:20260424T041412Z
CREATED:20260424T041412Z
DTSTART:20260322T202000Z
DTEND:20260322T211500Z
LOCATION:Main
CONTACT:
SUMMARY:Storm 2013G VS. FSC 2012 Girls
DESCRIPTION:League Name: 2012/13 Girls 11v11 January Session\nGame Type: Re
 gular\nGame Status: Complete\nHome Team: Storm 2013G\nAway Team: FSC 2012 
 Girls\nHome Score: 0\nAway Score: 5
END:VEVENT
BEGIN:VEVENT
UID:17008892@ezleagues.ezfacility.com
DTSTAMP:20260424T041412Z
CREATED:20260424T041412Z
DTSTART:20260322T211500Z
DTEND:20260322T221000Z
LOCATION:Main
CONTACT:
SUMMARY:Storm 2013G VS. MI Burn 12G White
DESCRIPTION:League Name: 2012/13 Girls 11v11 January Session\nGame Type: Re
 gular\nGame Status: Complete\nHome Team: Storm 2013G\nAway Team: MI Burn 1
 2G White\nHome Score: 0\nAway Score: 5
END:VEVENT
END:VCALENDAR
