BEGIN:VCALENDAR
VERSION:2.0
PRODID:-//EZFacility.com, Inc.//EZL 2.5.5.28621
BEGIN:VEVENT
UID:16880887@ezleagues.ezfacility.com
DTSTAMP:20260422T223326Z
CREATED:20260422T223326Z
DTSTART:20251204T010000Z
DTEND:20251204T020000Z
LOCATION:Basketball\, Front Court
CONTACT:
SUMMARY:Plews Shadley VS. Scopelitis
DESCRIPTION:League Name: Lawyer League 2025\nGame Type: Regular\nGame Statu
 s: Complete\nHome Team: Plews Shadley\nAway Team: Scopelitis\nHome Score: 
 29\nAway Score: 38
END:VEVENT
BEGIN:VEVENT
UID:16880893@ezleagues.ezfacility.com
DTSTAMP:20260422T223326Z
CREATED:20260422T223326Z
DTSTART:20251211T000000Z
DTEND:20251211T010000Z
LOCATION:Basketball\, Front Court
CONTACT:
SUMMARY:Christie Bell + Marshall VS. Scopelitis
DESCRIPTION:League Name: Lawyer League 2025\nGame Type: Regular\nGame Statu
 s: Complete\nHome Team: Christie Bell + Marshall\nAway Team: Scopelitis\nH
 ome Score: 77\nAway Score: 53
END:VEVENT
BEGIN:VEVENT
UID:16880899@ezleagues.ezfacility.com
DTSTAMP:20260422T223326Z
CREATED:20260422T223326Z
DTSTART:20251218T000000Z
DTEND:20251218T010000Z
LOCATION:Volleyball Court 5
CONTACT:
SUMMARY:Scopelitis VS. CCHA
DESCRIPTION:League Name: Lawyer League 2025\nGame Type: Regular\nGame Statu
 s: Complete\nHome Team: Scopelitis\nAway Team: CCHA\nHome Score: 46\nAway 
 Score: 51
END:VEVENT
BEGIN:VEVENT
UID:16880914@ezleagues.ezfacility.com
DTSTAMP:20260422T223326Z
CREATED:20260422T223326Z
DTSTART:20260108T010000Z
DTEND:20260108T020000Z
LOCATION:Volleyball Court 5
CONTACT:
SUMMARY:Scopelitis VS. Dinsmore
DESCRIPTION:League Name: Lawyer League 2025\nGame Type: Regular\nGame Statu
 s: Complete\nHome Team: Scopelitis\nAway Team: Dinsmore\nHome Score: 1\nAw
 ay Score: 0
END:VEVENT
BEGIN:VEVENT
UID:16880922@ezleagues.ezfacility.com
DTSTAMP:20260422T223326Z
CREATED:20260422T223326Z
DTSTART:20260122T000000Z
DTEND:20260122T010000Z
LOCATION:Basketball\, Front Court
CONTACT:
SUMMARY:Scopelitis VS. Law School
DESCRIPTION:League Name: Lawyer League 2025\nGame Type: Regular\nGame Statu
 s: Complete\nHome Team: Scopelitis\nAway Team: Law School\nHome Score: 55\
 nAway Score: 38
END:VEVENT
BEGIN:VEVENT
UID:16880926@ezleagues.ezfacility.com
DTSTAMP:20260422T223326Z
CREATED:20260422T223326Z
DTSTART:20260129T010000Z
DTEND:20260129T020000Z
LOCATION:Basketball\, Front Court
CONTACT:
SUMMARY:Scopelitis VS. Ice Miller
DESCRIPTION:League Name: Lawyer League 2025\nGame Type: Regular\nGame Statu
 s: Complete\nHome Team: Scopelitis\nAway Team: Ice Miller\nHome Score: 55\
 nAway Score: 45
END:VEVENT
BEGIN:VEVENT
UID:16880905@ezleagues.ezfacility.com
DTSTAMP:20260422T223326Z
CREATED:20260422T223326Z
DTSTART:20260205T000000Z
DTEND:20260205T010000Z
LOCATION:Volleyball Court 5
CONTACT:
SUMMARY:Defur Voran LLP VS. Scopelitis
DESCRIPTION:League Name: Lawyer League 2025\nGame Type: Regular\nGame Statu
 s: Complete\nHome Team: Defur Voran LLP\nAway Team: Scopelitis\nHome Score
 : 57\nAway Score: 56
END:VEVENT
BEGIN:VEVENT
UID:16880910@ezleagues.ezfacility.com
DTSTAMP:20260422T223326Z
CREATED:20260422T223326Z
DTSTART:20260212T010000Z
DTEND:20260212T020000Z
LOCATION:Volleyball Court 5
CONTACT:
SUMMARY:Bose Means Buckets VS. Scopelitis
DESCRIPTION:League Name: Lawyer League 2025\nGame Type: Regular\nGame Statu
 s: Complete\nHome Team: Bose Means Buckets\nAway Team: Scopelitis\nHome Sc
 ore: 53\nAway Score: 39
END:VEVENT
BEGIN:VEVENT
UID:16990901@ezleagues.ezfacility.com
DTSTAMP:20260422T223326Z
CREATED:20260422T223326Z
DTSTART:20260219T010000Z
DTEND:20260219T020000Z
LOCATION:Basketball\, Front Court
CONTACT:
SUMMARY:Plews Shadley VS. Scopelitis
DESCRIPTION:League Name: Lawyer League 2025\nGame Type: Regular\nGame Statu
 s: Complete\nHome Team: Plews Shadley\nAway Team: Scopelitis\nHome Score: 
 33\nAway Score: 46
END:VEVENT
BEGIN:VEVENT
UID:16990903@ezleagues.ezfacility.com
DTSTAMP:20260422T223326Z
CREATED:20260422T223326Z
DTSTART:20260226T000000Z
DTEND:20260226T010000Z
LOCATION:Basketball\, Front Court
CONTACT:
SUMMARY:Christie Bell + Marshall VS. Scopelitis
DESCRIPTION:League Name: Lawyer League 2025\nGame Type: Regular\nGame Statu
 s: Complete\nHome Team: Christie Bell + Marshall\nAway Team: Scopelitis\nH
 ome Score: 65\nAway Score: 56
END:VEVENT
END:VCALENDAR
